Workbook

Sheet A3-Operator-total
B1: Solicitant (denumire operator economic) | D1: (Nume operator) | O1: ANEXA 3 | U1: ANEXA 3
B2: Data solicitării: | D2: 44608
B3: Licenta (tip - producere / SACET / transport,distributie,furnizare, numar, data) | D3: Licența ........................ Nr. .../.........
B4: Localitate | D4: Localitate
B5: Județ | D5: Județ
B7: FIȘA DE FUNDAMENTARE A PREȚURILOR/TARIFELOR ENERGIEI TERMICE AFERENTE SACET
A9: Nr crt. | B9: Specificatie | C9: U.M. | D9: Preț/Tarif actual | J9: Realizat in ultimele 12 luni | P9: Preț/Tarif propus
D10: Total | E10: Producere | F10: Transport | G10: Distributie | H10: CT cvartal | I10: CT bloc/scară | J10: Total | K10: Producere | L10: Transport | M10: Distributie | N10: CT cvartal | O10: CT bloc/scară | P10: Total | Q10: Producere | R10: Transport | S10: Distributie | T10: CT cvartal | U10: CT bloc/scară
A11: 0 | B11: 1 | C11: 2 | D11: 3 | E11: 4 | F11: 5 | G11: 6 | H11: 7 | I11: 8 | J11: 9 | K11: 10 | L11: 11 | M11: 12 | N11: 13 | O11: 14 | P11: 15 | Q11: 16 | R11: 17 | S11: 18 | T11: 19 | U11: 20
A13: I. | B13: Costuri variabile - total | C13: Lei
B14: Consum tehnologic de combustibil | C14: Lei
B15: Energie termica cumpărată de la terti | C15: Lei
B16: Energie termică pierduta in transport/distributie | C16: Lei
B17: Consum tehnologic de energie electrică | C17: Lei
B18: Consum tehnologic de apa brută/tratată și canalizare | C18: Lei
B19: Costuri certificate CO2 | C19: Lei
B20: Alte costuri variabile | C20: Lei
A21: II. | B21: Costuri fixe - total, din care: | C21: Lei
A22: II.1. | B22: Costuri de operare şi mentenenţă: | C22: Lei
B23: Materii prime, Materiale | C23: Lei
B24: Utilităţi: energie electrică, gaze naturale, apă potabilă | C24: Lei
B25: Chirii, impozite, taxe stabilite conform reglementărilor legale în vigoare sau de către autorităţile locale | C25: Lei
B26: Lucrari și servicii executate de terţi: | C26: Lei
B27: lucrări de mentenanță | C27: Lei
B28: contractare, facturare, încasare | C28: Lei
B29: comisioane, onorarii | C29: Lei
B30: protocol, reclamă, publicitate | C30: Lei
B31: deplasari, detasari, transferari | C31: Lei
B32: posta si telecomunicatii | C32: Lei
B33: studii și cercetări | C33: Lei
B34: alte servicii, colaborări | C34: Lei
A35: II.2. | B35: Costuri cu munca vie - total | C35: Lei
B36: Salarii | C36: Lei
B37: Contribuţia angajatorului asiguratorie pentru muncă (CAM) | C37: Lei
B38: Contribuția angajatorului la fondul de handicap | C38: Lei
B39: Alte costuri cu munca vie (tichete de masa, prime, alte contribuții, etc.) | C39: Lei
A40: II.3. | B40: Amortizare | C40: Lei
A41: II.4. | B41: Redevente | C41: Lei
A42: II.5. | B42: Costuri pentru protectia mediului | C42: Lei
A43: II.6. | B43: Costuri financiare | C43: Lei
A44: II.7. | B44: Alte costuri | C44: Lei
A45: III. | B45: COSTURI TOTALE (I+II) | C45: Lei
A46: IV. | B46: Profit / (pierdere) | C46: Lei
A47: V. | B47: Cota de dezvoltare, modernizare SACET | C47: Lei
A48: VI. | B48: VENITURI TOTALE (I+II+III+IV+V) | C48: Lei
A49: VII. | B49: (Pret/Tarif) producere Energie termica [Lei/MWh] | C49: Lei/ MWh
A50: VIII. | B50: Energie termică produsă | C50: MWh
A51: IX. | B51: Energie termică livrată | C51: MWh

Sheet A3.1_P_ET
K1: ANEXA 3.1
B2: Solicitant (denumire operator economic) | C2: ='A3-Operator-total'!D1 -> (Nume operator)
B3: Data solicitării: | C3: ='A3-Operator-total'!$D$2 -> 44608
B5: FIȘA DE FUNDAMENTARE A PREȚULUI DE PRODUCERE ENERGIE TERMICĂ DIN:
A7: Nr crt. | B7: Specificatie | C7: U.M. | D7: Preț actual | F7: Realizat în ultimele 12 luni | H7: Preț propus
D8: Total Lei | E8: Lei/MWh | F8: Total lei | G8: Lei/MWh | H8: Total lei | I8: Lei/MWh | J8: Variatie propus - realizat [%] | K8: Variatie propus - actual [%]
A9: 0 | B9: 1 | C9: 2 | D9: 3 | E9: 4 | F9: 5 | G9: 6 | H9: 7 | I9: 8 | J9: 9=(7-5)/5 x100 | K9: 10=(7-3)/3 x100
A11: I. | B11: Costuri variabile - total | C11: Lei
B12: Consum tehnologic de combustibil | C12: Lei
B13: Energie termica cumparata de la terti | C13: Lei
B14: Consum tehnologic de energie electrică | C14: Lei
B15: Consum tehnologic de apa brută/tratată și canalizare | C15: Lei
B16: Costuri certificate CO2 | C16: Lei
B17: Alte costuri variabile | C17: Lei
A18: II. | B18: Costuri fixe - total, din care: | C18: Lei
A19: II.1. | B19: Costuri de operare şi mentenenţă: | C19: Lei
B20: Materii prime, Materiale | C20: Lei
B21: Utilităţi: energie electrică, gaze naturale, apă potabilă | C21: Lei
B22: Chirii, impozite, taxe stabilite conform reglementărilor legale în vigoare sau de către autorităţile locale | C22: Lei
B23: Lucrari și servicii executate de terţi: | C23: Lei
B24: lucrări de mentenanță | C24: Lei
B25: contractare, facturare, încasare | C25: Lei
B26: comisioane, onorarii | C26: Lei
B27: protocol, reclamă, publicitate | C27: Lei
B28: deplasari, detasari, transferari | C28: Lei
B29: posta si telecomunicatii | C29: Lei
B30: studii și cercetări | C30: Lei
B31: alte servicii, colaborări | C31: Lei
A32: II.2. | B32: Costuri cu munca vie - total | C32: Lei
B33: Salarii | C33: Lei
B34: Contribuţia angajatorului asiguratorie pentru muncă (CAM) - 2,5% | C34: Lei
B35: Contribuția angajatorului la fondul de handicap | C35: Lei
B36: Alte costuri cu munca vie (tichete de masa, prime, alte contribuții, etc.) | C36: Lei
A37: II.3. | B37: Amortizare | C37: Lei
A38: II.4. | B38: Redevente | C38: Lei
A39: II.5. | B39: Costuri pentru protectia mediului | C39: Lei
A40: II.6. | B40: Costuri financiare | C40: Lei
A41: II.7. | B41: Alte costuri | C41: Lei
A42: III. | B42: COSTURI TOTALE (I+II) | C42: Lei
A43: IV. | B43: Profit / (pierdere) * | C43: Lei
A44: V. | B44: Cota de dezvoltare, modernizare SACET ** | C44: Lei
A45: VI. | B45: VENITURI TOTALE (I+II+III+IV+V)*** | C45: Lei
A46: VII. | B46: Pret/Tarif producere Energie termică | C46: Lei/ MWh
B47: Tarif Energie termică | C47: Lei/Gcal
A48: VIII. | B48: Energie termică produsa [MWh] | C48: MWh
A49: IX. | B49: Energie termică livrată [MWh] | C49: MWh
A52: Notă:
B53: (*) - În coloana "Realizat" se va completa valoarea, în lei, determinată cu formula: IV = VI - III.
B54: (**) - În coloana "Realizat", se va completa valoarea, în lei, a sumelor virate în contul distinct inființat de operator, conform legii, pentru dezvoltarea/modernizarea SACET
B55: (***) - În coloana "Realizat", se va completa cu valoarea determinata cu formula: VI = VII * IX.
B57: Se completează câte o fișă distinctă pentru fiecare preț solicitat
B58: Daca energia termică se produce din mai multe surse, se va completa câte un tabel distinct pentru fiecate tip de sursă pentru care se solicită preț (ex: CT, CT cvartal, CT zona etc)

Sheet A3.2_T-D_ET
K1: ANEXA 3.2
B2: Solicitant (denumire operator economic) | C2: ='A3-Operator-total'!$D$1 -> (Nume operator)
B3: Data solicitării: | C3: ='A3-Operator-total'!$D$2 -> 44608
B5: FIȘA DE FUNDAMENTARE A TARIFULUI DE TRANSPORT/ DISTRIBUȚIE ENERGIE TERMICĂ
A7: Nr crt. | B7: Specificatie | C7: U.M. | D7: Tarif actual | F7: Realizat in ultimele 12 luni | H7: Tarif propus
D8: Total Lei | E8: Lei/MWh | F8: Total lei | G8: Lei/MWh | H8: Total lei | I8: Lei/MWh | J8: Variatie propus - realizat [%] | K8: Variatie propus - actual [%]
A9: 0 | B9: 1 | C9: 2 | D9: 3 | E9: 4 | F9: 5 | G9: 6 | H9: 7 | I9: 8 | J9: 9=(7-5)/5 x100 | K9: 10=(7-3)/3 x100
A11: I. | B11: Costuri variabile - total | C11: Lei
B13: Energie termică pierduta in transport/distributie | C13: Lei
B14: Consum tehnologic de energie electrică | C14: Lei
B15: Consum tehnologic de apa brută/tratată și canalizare | C15: Lei
B17: Alte costuri variabile | C17: Lei
A18: II. | B18: Costuri fixe - total, din care: | C18: Lei
A19: II.1. | B19: Costuri de operare şi mentenenţă: | C19: Lei
B20: Materii prime, Materiale | C20: Lei
B21: Utilităţi: energie electrică, gaze naturale, apă potabilă | C21: Lei
B22: Chirii, impozite, taxe stabilite conform reglementărilor legale în vigoare sau de către autorităţile locale | C22: Lei
B23: Lucrari și servicii executate de terţi: | C23: Lei
B24: lucrări de mentenanță | C24: Lei
B25: contractare, facturare, încasare | C25: Lei
B26: comisioane, onorarii | C26: Lei
B27: protocol, reclamă, publicitate | C27: Lei
B28: deplasari, detasari, transferari | C28: Lei
B29: posta si telecomunicatii | C29: Lei
B30: studii și cercetări | C30: Lei
B31: alte servicii, colaborări | C31: Lei
A32: II.2. | B32: Costuri cu munca vie - total | C32: Lei
B33: Salarii | C33: Lei
B34: Contribuţia angajatorului asiguratorie pentru muncă (CAM) - 2,5% | C34: Lei
B35: Contribuția angajatorului la fondul de handicap | C35: Lei
B36: Alte costuri cu munca vie (tichete de masa, prime, alte contribuții, etc.) | C36: Lei
A37: II.3. | B37: Amortizare | C37: Lei
A38: II.4. | B38: Redevente | C38: Lei
A39: II.5. | B39: Costuri pentru protectia mediului | C39: Lei
A40: II.6. | B40: Costuri financiare | C40: Lei
A41: II.7. | B41: Alte costuri | C41: Lei
A42: III. | B42: COSTURI TOTALE (I+II) | C42: Lei
A43: IV. | B43: Profit / (pierdere) * | C43: Lei
A44: V. | B44: Cota de dezvoltare, modernizare SACET ** | C44: Lei
A45: VI. | B45: VENITURI TOTALE (I+II+III+IV+V)*** | C45: Lei
A46: VII. | B46: Tarif Energie termică | C46: Lei/ MWh
B47: Tarif Energie termică | C47: Lei/Gcal
A48: VIII | B48: Energie termică intrată în contur | C48: MWh
A49: IX. | B49: Energie termică livrată | C49: MWh
A52: Notă: | B52: În titlul fișei, se va menționa activitatea: "Transport" sau "Distribuție"
B53: (*) - În coloana "Realizat" se va completa valoarea, in lei, determinată cu formula: IV = VI - III.
B54: (**) - În coloana "Realizat", se va completa valoarea, în lei, a sumelor virate în contul distinct inființat de operator, conform legii, pentru dezvoltarea/modernizarea SACET
B55: (***) - În coloana "Realizat", se va completa cu valoarea determinata cu formula: VI = VII * IX
B57: Se completează câte o fișă distinctă pentru transport, respectiv, pentru distribuție energie termică

Sheet A3.3_AI_ET
K1: ANEXA 3.3
B2: Solicitant (denumire operator economic) | C2: ='A3-Operator-total'!$D$1 -> (Nume operator)
B3: Data solicitării: | C3: ='A3-Operator-total'!$D$2 -> 44608
B5: FIȘA DE FUNDAMENTARE A PREȚULUI LOCAL DE FURNIZARE ENERGIE TERMICĂ | F5: ACTIVITĂȚI INTEGRATE
A7: Nr crt. | B7: Specificatie | C7: UM | D7: Preț actual | F7: Realizat in ultimele 12 luni | H7: Preț propus
D8: Total Lei | E8: Lei/MWh | F8: Total lei | G8: Lei/MWh | H8: Total lei | I8: Lei/MWh | J8: Variatie propus - realizat [%] | K8: Variatie propus - actual [%]
A9: 0 | B9: 1 | C9: 2 | D9: 3 | E9: 4 | F9: 5 | G9: 6 | H9: 7 | I9: 8 | J9: 9=(7-5)/5 x100 | K9: 10=(7-3)/3 x100
A11: I. | B11: Costuri variabile - total | C11: Lei
B12: Costuri consum tehnologic combustibil | C12: Lei
B13: Costuri energie termică cumpărată de la terti | C13: Lei
B14: Consum tehnologic de energie electrică | C14: Lei
B15: Consum tehnologic de apa brută/tratată și canalizare | C15: Lei
B16: Costuri certificate CO2 | C16: Lei
B17: Alte costuri variabile | C17: Lei
A18: II. | B18: Costuri fixe - total, din care: | C18: Lei
A19: II.1. | B19: Costuri de operare şi mentenenţă: | C19: Lei
B20: Materii prime, Materiale | C20: Lei
B21: Utilităţi: energie electrică, gaze naturale, apă potabilă | C21: Lei
B22: Chirii, impozite, taxe stabilite conform reglementărilor legale în vigoare sau de către autorităţile locale | C22: Lei
B23: Lucrari și servicii executate de terţi: | C23: Lei
B24: lucrări de mentenanță | C24: Lei
B25: contractare, facturare, încasare | C25: Lei
B26: comisioane, onorarii | C26: Lei
B27: protocol, reclamă, publicitate | C27: Lei
B28: deplasari, detasari, transferari | C28: Lei
B29: posta si telecomunicatii | C29: Lei
B30: studii și cercetări | C30: Lei
B31: alte servicii, colaborări | C31: Lei
A32: II.2. | B32: Costuri cu munca vie - total | C32: Lei
B33: Salarii | C33: Lei
B34: Contribuţia angajatorului asiguratorie pentru muncă (CAM) -2,5% | C34: Lei
B35: Contribuția angajatorului la fondul de handicap | C35: Lei
B36: Alte costuri cu munca vie (tichete de masa, prime, alte contribuții, etc.) | C36: Lei
A37: II.3. | B37: Amortizare | C37: Lei
A38: II.4. | B38: Redevente | C38: Lei
A39: II.5. | B39: Costuri pentru protectia mediului | C39: Lei
A40: II.6. | B40: Costuri financiare | C40: Lei
A41: II.7. | B41: Alte costuri | C41: Lei
A42: III. | B42: COSTURI TOTALE (I+II) | C42: Lei
A43: IV. | B43: Profit / (pierdere) * | C43: Lei
A44: V. | B44: Cota de dezvoltare, modernizare SACET ** | C44: Lei
A45: VI. | B45: VENITURI TOTALE (I+II+III+IV+V)*** | C45: Lei
A46: VII. | B46: Pret/Tarif producere Energie termica | C46: Lei/MWh
B47: Pret/Tarif producere Energie termică | C47: Lei/Gcal
A48: VIII. | B48: Energie termică produsa [MWh] | C48: MWh
A49: IX. | B49: Energie termică livrată [MWh] | C49: MWh
A52: Notă: | B52: Activități integrate vertical: Producere-Transport și/sau Distribuție energie termică
B53: (*) - În coloana "Realizat" se va completa valoarea, în lei, determinata cu formula: IV = VI - III.
B54: (**) - În coloana "Realizat", se va completa valoarea, în lei, a sumelor virate în contul distinct inființat de operator, conform legii, pentru dezvoltarea/modernizarea SACET
B55: (***) - În coloana "Realizat", se va completa cu valoarea determinata cu formula: VI = VII * IX

Sheet A4-CF_ET
W1: ANEXA 4
B2: Solicitant (denumire operator economic) | D2: ='A3-Operator-total'!D1:G1 -> (Nume operator)
B3: Data solicitării: | D3: ='A3-Operator-total'!D2:F2 -> 44608
B5: FIȘA DE REPARTIZARE A COSTURILOR FIXE
A7: Nr crt. | B7: Specificatie | C7: U.M. | D7: Realizat in ultimele 12 luni
D8: TOTAL COSTURI FIXE | I8: Producere | L8: Transport | O8: Distributie | R8: CT cvartal | U8: CT bloc/scară
D9: Total | E9: Directe | F9: Indirecte
F10: Indirecte- Total | G10: Indirecte -energie termică | H10: Indirecte -Alte activități | I10: Total | J10: Directe | K10: Indirecte | L10: Total | M10: Directe | N10: Indirecte | O10: Total | P10: Directe | Q10: Indirecte | R10: Total | S10: Directe | T10: Indirecte | U10: Total | V10: Directe | W10: Indirecte
A11: 0 | B11: 1 | C11: 2 | D11: 3 | E11: 4 | F11: 5 | G11: 6 | H11: 7 | I11: 8 | J11: 9 | K11: 10 | L11: 11 | M11: 12 | N11: 13 | O11: 14 | P11: 15 | Q11: 16 | R11: 14 | S11: 15 | T11: 16 | U11: 14 | V11: 15 | W11: 16
B12: Cheie de repartizare 1: alte activități - en termica | C12: % | F12: =G12+H12 -> 0
B13: Cheie de repartizare 2: energie termica | C13: % | G13: =SUM(K13,N13,Q13,T13) -> 0 | W13: =100%-G13 -> 1
A14: I. | B14: Costuri fixe - TOTAL, din care: | C14: Lei | D14: =D15+D28+D33+D34+D35+D36+D37 -> 0 | E14: =E15+E28+E33+E34+E35+E36+E37 -> 0 | F14: =F15+F28+F33+F34+F35+F36+F37 -> 0 | G14: =G15+G28+G33+G34+G35+G36+G37 -> 0 | H14: =H15+H28+H33+H34+H35+H36+H37 -> 0 | I14: =I15+I28+I33+I34+I35+I36+I37 -> 0 | J14: =J15+J28+J33+J34+J35+J36+J37 -> 0 | K14: =K15+K28+K33+K34+K35+K36+K37 -> 0 | ... W14: =W15+W28+W33+W34+W35+W36+W37 -> 0
A15: I.1. | B15: Costuri de operare şi mentenenţă: | C15: Lei | D15: =D16+D17+D18+D19 -> 0 | E15: =E16+E17+E18+E19 -> 0 | F15: =F16+F17+F18+F19 -> 0 | G15: =G16+G17+G18+G19 -> 0 | H15: =H16+H17+H18+H19 -> 0 | I15: =I16+I17+I18+I19 -> 0 | J15: =J16+J17+J18+J19 -> 0 | K15: =K16+K17+K18+K19 -> 0 | ... W15: =W16+W17+W18+W19 -> 0
B16: Materii prime, Materiale | C16: Lei | E16: =J16+M16+P16 -> 0 | F16: =D16-E16 -> 0 | G16: =F16*$G$12 -> 0 | H16: =F16-G16 -> 0 | I16: =J16+K16 -> 0 | L16: =M16+N16 -> 0 | O16: =P16+Q16 -> 0 | R16: =S16+T16 -> 0 | U16: =V16+W16 -> 0
B17: Utilităţi: energie electrică, gaze naturale, apă potabilă | C17: Lei | E17: =J17+M17+P17 -> 0 | F17: =D17-E17 -> 0 | G17: =F17*$G$12 -> 0 | H17: =F17-G17 -> 0 | I17: =J17+K17 -> 0 | L17: =M17+N17 -> 0 | O17: =P17+Q17 -> 0 | R17: =S17+T17 -> 0 | U17: =V17+W17 -> 0
B18: Chirii, impozite, taxe stabilite conform reglementărilor legale în vigoare sau de către autorităţile locale | C18: Lei | E18: =J18+M18+P18 -> 0 | F18: =D18-E18 -> 0 | G18: =F18*$G$12 -> 0 | H18: =F18-G18 -> 0 | I18: =J18+K18 -> 0 | L18: =M18+N18 -> 0 | O18: =P18+Q18 -> 0 | R18: =S18+T18 -> 0 | U18: =V18+W18 -> 0
B19: Lucrari și servicii executate de terţi: | C19: Lei | D19: =D22+D23+D24+D25+D26+D27 -> 0 | E19: =E22+E23+E24+E25+E26+E27 -> 0 | F19: =F22+F23+F24+F25+F26+F27 -> 0 | G19: =G22+G23+G24+G25+G26+G27 -> 0 | H19: =H22+H23+H24+H25+H26+H27 -> 0 | I19: =I22+I23+I24+I25+I26+I27 -> 0 | J19: =J22+J23+J24+J25+J26+J27 -> 0 | K19: =K22+K23+K24+K25+K26+K27 -> 0 | ... W19: =W22+W23+W24+W25+W26+W27 -> 0
B20: lucrări de mentenanță | C20: Lei | E20: =J20+M20+P20 -> 0 | F20: =D20-E20 -> 0 | G20: =F20*$G$12 -> 0 | H20: =F20-G20 -> 0 | I20: =J20+K20 -> 0 | L20: =M20+N20 -> 0 | O20: =P20+Q20 -> 0 | R20: =S20+T20 -> 0 | U20: =V20+W20 -> 0
B21: contractare, facturare, încasare | C21: Lei | E21: =J21+M21+P21 -> 0 | F21: =D21-E21 -> 0 | G21: =F21*$G$12 -> 0 | H21: =F21-G21 -> 0 | I21: =J21+K21 -> 0 | L21: =M21+N21 -> 0 | O21: =P21+Q21 -> 0 | R21: =S21+T21 -> 0 | U21: =V21+W21 -> 0
B22: comisioane, onorarii | C22: Lei | E22: =J22+M22+P22 -> 0 | F22: =D22-E22 -> 0 | G22: =F22*$G$12 -> 0 | H22: =F22-G22 -> 0 | I22: =J22+K22 -> 0 | L22: =M22+N22 -> 0 | O22: =P22+Q22 -> 0 | R22: =S22+T22 -> 0 | U22: =V22+W22 -> 0
B23: protocol, reclamă, publicitate | C23: Lei | E23: =J23+M23+P23 -> 0 | F23: =D23-E23 -> 0 | G23: =F23*$G$12 -> 0 | H23: =F23-G23 -> 0 | I23: =J23+K23 -> 0 | L23: =M23+N23 -> 0 | O23: =P23+Q23 -> 0 | R23: =S23+T23 -> 0 | U23: =V23+W23 -> 0
B24: deplasari, detasari, transferari | C24: Lei | E24: =J24+M24+P24 -> 0 | F24: =D24-E24 -> 0 | G24: =F24*$G$12 -> 0 | H24: =F24-G24 -> 0 | I24: =J24+K24 -> 0 | L24: =M24+N24 -> 0 | O24: =P24+Q24 -> 0 | R24: =S24+T24 -> 0 | U24: =V24+W24 -> 0
B25: posta si telecomunicatii | C25: Lei | E25: =J25+M25+P25 -> 0 | F25: =D25-E25 -> 0 | G25: =F25*$G$12 -> 0 | H25: =F25-G25 -> 0 | I25: =J25+K25 -> 0 | L25: =M25+N25 -> 0 | O25: =P25+Q25 -> 0 | R25: =S25+T25 -> 0 | U25: =V25+W25 -> 0
B26: studii și cercetări | C26: Lei | E26: =J26+M26+P26 -> 0 | F26: =D26-E26 -> 0 | G26: =F26*$G$12 -> 0 | H26: =F26-G26 -> 0 | I26: =J26+K26 -> 0 | L26: =M26+N26 -> 0 | O26: =P26+Q26 -> 0 | R26: =S26+T26 -> 0 | U26: =V26+W26 -> 0
B27: alte servicii, colaborări | C27: Lei | E27: =J27+M27+P27 -> 0 | F27: =D27-E27 -> 0 | G27: =F27*$G$12 -> 0 | H27: =F27-G27 -> 0 | I27: =J27+K27 -> 0 | L27: =M27+N27 -> 0 | O27: =P27+Q27 -> 0 | R27: =S27+T27 -> 0 | U27: =V27+W27 -> 0
A28: I.2. | B28: Costuri cu munca vie - total | C28: Lei | D28: =D29+D30+D32 -> 0 | E28: =E29+E30+E32 -> 0 | F28: =F29+F30+F32 -> 0 | G28: =G29+G30+G32 -> 0 | H28: =H29+H30+H32 -> 0 | I28: =I29+I30+I32 -> 0 | J28: =J29+J30+J32 -> 0 | K28: =K29+K30+K32 -> 0 | ... W28: =W29+W30+W32 -> 0
B29: Salarii | C29: Lei | E29: =J29+M29+P29 -> 0 | F29: =D29-E29 -> 0 | G29: =F29*$G$12 -> 0 | H29: =F29-G29 -> 0 | I29: =J29+K29 -> 0 | L29: =M29+N29 -> 0 | O29: =P29+Q29 -> 0 | R29: =S29+T29 -> 0 | U29: =V29+W29 -> 0
B30: Contribuţia angajatorului asiguratorie pentru muncă (CAM) - 2,5% | C30: Lei | E30: =J30+M30+P30 -> 0 | F30: =D30-E30 -> 0 | G30: =F30*$G$12 -> 0 | H30: =F30-G30 -> 0 | I30: =J30+K30 -> 0 | L30: =M30+N30 -> 0 | O30: =P30+Q30 -> 0 | R30: =S30+T30 -> 0 | U30: =V30+W30 -> 0
B31: Contribuția angajatorului la fondul de handicap | C31: Lei
B32: Alte costuri cu munca vie (tichete de masa, prime, alte contribuții, etc.) | C32: Lei | E32: =J32+M32+P32 -> 0 | F32: =D32-E32 -> 0 | G32: =F32*$G$12 -> 0 | H32: =F32-G32 -> 0 | I32: =J32+K32 -> 0 | L32: =M32+N32 -> 0 | O32: =P32+Q32 -> 0 | R32: =S32+T32 -> 0 | U32: =V32+W32 -> 0
A33: I.3. | B33: Amortizare | C33: Lei | E33: =J33+M33+P33 -> 0 | F33: =D33-E33 -> 0 | G33: =F33*$G$12 -> 0 | H33: =F33-G33 -> 0 | I33: =J33+K33 -> 0 | L33: =M33+N33 -> 0 | O33: =P33+Q33 -> 0 | R33: =S33+T33 -> 0 | U33: =V33+W33 -> 0
A34: I.4. | B34: Redevente | C34: Lei | E34: =J34+M34+P34 -> 0 | F34: =D34-E34 -> 0 | G34: =F34*$G$12 -> 0 | H34: =F34-G34 -> 0 | I34: =J34+K34 -> 0 | L34: =M34+N34 -> 0 | O34: =P34+Q34 -> 0 | R34: =S34+T34 -> 0 | U34: =V34+W34 -> 0
A35: I.5. | B35: Costuri pentru protectia mediului | C35: Lei | E35: =J35+M35+P35 -> 0 | F35: =D35-E35 -> 0 | G35: =F35*$G$12 -> 0 | H35: =F35-G35 -> 0 | I35: =J35+K35 -> 0 | L35: =M35+N35 -> 0 | O35: =P35+Q35 -> 0 | R35: =S35+T35 -> 0 | U35: =V35+W35 -> 0
A36: I.6. | B36: Costuri financiare | C36: Lei | E36: =J36+M36+P36 -> 0 | F36: =D36-E36 -> 0 | G36: =F36*$G$12 -> 0 | H36: =F36-G36 -> 0 | I36: =J36+K36 -> 0 | L36: =M36+N36 -> 0 | O36: =P36+Q36 -> 0 | R36: =S36+T36 -> 0 | U36: =V36+W36 -> 0
A37: I.7. | B37: Alte costuri | C37: Lei | E37: =J37+M37+P37 -> 0 | F37: =D37-E37 -> 0 | G37: =F37*$G$12 -> 0 | H37: =F37-G37 -> 0 | I37: =J37+K37 -> 0 | L37: =M37+N37 -> 0 | O37: =P37+Q37 -> 0 | R37: =S37+T37 -> 0 | U37: =V37+W37 -> 0
A38: II. | B38: Energie termică livrată - realizat | C38: MWh
B43: Chei de verificare - realizat
B44: Cheltuieli directe | D44: =IF(E14=SUM(J14,M14,P14),"OK","ERR!") -> OK
B45: Cheltuieli indirecte | D45: =IF(G14=SUM(K14,N14,Q14),"OK","ERR!") -> OK
A47: Nr crt. | B47: Specificatie | C47: U.M. | D47: Pret/Tarif propus
D48: TOTAL COSTURI FIXE | I48: Producere | L48: Transport | O48: Distributie | R48: CT cvartal | U48: CT bloc/scară
D49: Total | E49: Directe | F49: Indirecte
F50: Indirecte- Total | G50: Indirecte -energie termică | H50: Indirecte -Alte activități | I50: Total | J50: Directe | K50: Indirecte | L50: Total | M50: Directe | N50: Indirecte | O50: Total | P50: Directe | Q50: Indirecte | R50: Total | S50: Directe | T50: Indirecte | U50: Total | V50: Directe | W50: Indirecte
A51: 0 | B51: 1 | C51: 2 | D51: 3 | E51: 4 | F51: 5 | G51: 6 | H51: 7 | I51: 8 | J51: 9 | K51: 10 | L51: 11 | M51: 12 | N51: 13 | O51: 14 | P51: 15 | Q51: 16 | R51: 14 | S51: 15 | T51: 16 | U51: 14 | V51: 15 | W51: 16
B52: Cheie de repartizare 1: alte activități - en termica | F52: =G52+H52 -> 0
B53: Cheie de repartizare 2: energie termica | G53: =SUM(K53,N53,Q53,T53) -> 0 | W53: =100%-G53 -> 1
A54: I. | B54: Costuri fixe - TOTAL, din care: | C54: Lei | D54: =D55+D68+D73+D74+D75+D76+D77 -> 0 | E54: =E55+E68+E73+E74+E75+E76+E77 -> 0 | F54: =F55+F68+F73+F74+F75+F76+F77 -> 0 | G54: =G55+G68+G73+G74+G75+G76+G77 -> 0 | H54: =H55+H68+H73+H74+H75+H76+H77 -> 0 | I54: =I55+I68+I73+I74+I75+I76+I77 -> 0 | J54: =J55+J68+J73+J74+J75+J76+J77 -> 0 | K54: =K55+K68+K73+K74+K75+K76+K77 -> 0 | ... W54: =W55+W68+W73+W74+W75+W76+W77 -> 0
A55: I.1. | B55: Costuri de operare şi mentenenţă: | C55: Lei | D55: =D56+D57+D58+D59 -> 0 | E55: =E56+E57+E58+E59 -> 0 | F55: =F56+F57+F58+F59 -> 0 | G55: =G56+G57+G58+G59 -> 0 | H55: =H56+H57+H58+H59 -> 0 | I55: =I56+I57+I58+I59 -> 0 | J55: =J56+J57+J58+J59 -> 0 | K55: =K56+K57+K58+K59 -> 0 | ... W55: =W56+W57+W58+W59 -> 0
B56: Materii prime, Materiale | C56: Lei | E56: =J56+M56+P56 -> 0 | F56: =D56-E56 -> 0 | G56: =F56*$G$52 -> 0 | H56: =F56-G56 -> 0 | I56: =J56+K56 -> 0 | L56: =M56+N56 -> 0 | O56: =P56+Q56 -> 0 | R56: =S56+T56 -> 0 | U56: =V56+W56 -> 0
B57: Utilităţi: energie electrică, gaze naturale, apă potabilă | C57: Lei | E57: =J57+M57+P57 -> 0 | F57: =D57-E57 -> 0 | G57: =F57*$G$52 -> 0 | H57: =F57-G57 -> 0 | I57: =J57+K57 -> 0 | L57: =M57+N57 -> 0 | O57: =P57+Q57 -> 0 | R57: =S57+T57 -> 0 | U57: =V57+W57 -> 0
B58: Chirii, impozite, taxe stabilite conform reglementărilor legale în vigoare sau de către autorităţile locale | C58: Lei | E58: =J58+M58+P58 -> 0 | F58: =D58-E58 -> 0 | G58: =F58*$G$52 -> 0 | H58: =F58-G58 -> 0 | I58: =J58+K58 -> 0 | L58: =M58+N58 -> 0 | O58: =P58+Q58 -> 0 | R58: =S58+T58 -> 0 | U58: =V58+W58 -> 0
B59: Lucrari și servicii executate de terţi: | C59: Lei | D59: =D62+D63+D64+D65+D66+D67 -> 0 | E59: =E62+E63+E64+E65+E66+E67 -> 0 | F59: =F62+F63+F64+F65+F66+F67 -> 0 | G59: =G62+G63+G64+G65+G66+G67 -> 0 | H59: =H62+H63+H64+H65+H66+H67 -> 0 | I59: =I62+I63+I64+I65+I66+I67 -> 0 | J59: =J62+J63+J64+J65+J66+J67 -> 0 | K59: =K62+K63+K64+K65+K66+K67 -> 0 | ... W59: =W62+W63+W64+W65+W66+W67 -> 0
B60: lucrări de mentenanță | C60: Lei | E60: =J60+M60+P60 -> 0 | F60: =D60-E60 -> 0 | G60: =F60*$G$52 -> 0 | H60: =F60-G60 -> 0 | I60: =J60+K60 -> 0 | L60: =M60+N60 -> 0 | O60: =P60+Q60 -> 0 | R60: =S60+T60 -> 0 | U60: =V60+W60 -> 0
B61: contractare, facturare, încasare | C61: Lei | E61: =J61+M61+P61 -> 0 | F61: =D61-E61 -> 0 | G61: =F61*$G$52 -> 0 | H61: =F61-G61 -> 0 | I61: =J61+K61 -> 0 | L61: =M61+N61 -> 0
B62: comisioane, onorarii | C62: Lei | E62: =J62+M62+P62 -> 0 | F62: =D62-E62 -> 0 | G62: =F62*$G$52 -> 0 | H62: =F62-G62 -> 0 | I62: =J62+K62 -> 0 | L62: =M62+N62 -> 0
B63: protocol, reclamă, publicitate | C63: Lei | E63: =J63+M63+P63 -> 0 | F63: =D63-E63 -> 0 | G63: =F63*$G$52 -> 0 | H63: =F63-G63 -> 0 | I63: =J63+K63 -> 0 | L63: =M63+N63 -> 0
B64: deplasari, detasari, transferari | C64: Lei | E64: =J64+M64+P64 -> 0 | F64: =D64-E64 -> 0 | G64: =F64*$G$52 -> 0 | H64: =F64-G64 -> 0 | I64: =J64+K64 -> 0 | L64: =M64+N64 -> 0
B65: posta si telecomunicatii | C65: Lei | E65: =J65+M65+P65 -> 0 | F65: =D65-E65 -> 0 | G65: =F65*$G$52 -> 0 | H65: =F65-G65 -> 0 | I65: =J65+K65 -> 0 | L65: =M65+N65 -> 0
B66: studii și cercetări | C66: Lei | E66: =J66+M66+P66 -> 0 | F66: =D66-E66 -> 0 | G66: =F66*$G$52 -> 0 | H66: =F66-G66 -> 0 | I66: =J66+K66 -> 0 | L66: =M66+N66 -> 0
B67: alte servicii, colaborări | C67: Lei | E67: =J67+M67+P67 -> 0 | F67: =D67-E67 -> 0 | G67: =F67*$G$52 -> 0 | H67: =F67-G67 -> 0 | I67: =J67+K67 -> 0 | L67: =M67+N67 -> 0
A68: I.2. | B68: Costuri cu munca vie - total | C68: Lei | D68: =D69+D70+D72 -> 0 | E68: =E69+E70+E72 -> 0 | F68: =F69+F70+F72 -> 0 | G68: =G69+G70+G72 -> 0 | H68: =H69+H70+H72 -> 0 | I68: =I69+I70+I72 -> 0 | J68: =J69+J70+J72 -> 0 | K68: =K69+K70+K72 -> 0 | ... W68: =W69+W70+W72 -> 0
B69: Salarii | C69: Lei | E69: =J69+M69+P69 -> 0 | F69: =D69-E69 -> 0 | G69: =F69*$G$52 -> 0 | H69: =F69-G69 -> 0 | I69: =J69+K69 -> 0 | L69: =M69+N69 -> 0 | O69: =P69+Q69 -> 0 | R69: =S69+T69 -> 0 | U69: =V69+W69 -> 0
B70: Contribuţia angajatorului asiguratorie pentru muncă (CAM) - 2,5% | C70: Lei | E70: =J70+M70+P70 -> 0 | F70: =D70-E70 -> 0 | G70: =F70*$G$52 -> 0 | H70: =F70-G70 -> 0 | I70: =J70+K70 -> 0 | L70: =M70+N70 -> 0
B71: Contribuția angajatorului la fondul de handicap
B72: Alte costuri cu munca vie (tichete de masa, prime, alte contribuții, etc.) | C72: Lei | E72: =J72+M72+P72 -> 0 | F72: =D72-E72 -> 0 | G72: =F72*$G$52 -> 0 | H72: =F72-G72 -> 0 | I72: =J72+K72 -> 0 | L72: =M72+N72 -> 0
A73: I.3. | B73: Amortizare | C73: Lei | E73: =J73+M73+P73 -> 0 | F73: =D73-E73 -> 0 | G73: =F73*$G$52 -> 0 | H73: =F73-G73 -> 0 | I73: =J73+K73 -> 0 | L73: =M73+N73 -> 0
A74: I.4. | B74: Redevente | C74: Lei | E74: =J74+M74+P74 -> 0 | F74: =D74-E74 -> 0 | G74: =F74*$G$52 -> 0 | H74: =F74-G74 -> 0 | I74: =J74+K74 -> 0 | L74: =M74+N74 -> 0
A75: I.5. | B75: Costuri pentru protectia mediului | C75: Lei | E75: =J75+M75+P75 -> 0 | F75: =D75-E75 -> 0 | G75: =F75*$G$52 -> 0 | H75: =F75-G75 -> 0 | I75: =J75+K75 -> 0 | L75: =M75+N75 -> 0
A76: I.6. | B76: Costuri financiare | C76: Lei | E76: =J76+M76+P76 -> 0 | F76: =D76-E76 -> 0 | G76: =F76*$G$52 -> 0 | H76: =F76-G76 -> 0 | I76: =J76+K76 -> 0 | L76: =M76+N76 -> 0
A77: I.7. | B77: Alte costuri | C77: Lei | E77: =J77+M77+P77 -> 0 | F77: =D77-E77 -> 0 | G77: =F77*$G$52 -> 0 | H77: =F77-G77 -> 0 | I77: =J77+K77 -> 0 | L77: =M77+N77 -> 0
A78: II. | B78: Energie termică livrată - propus | C78: MWh
B82: Chei de verificare - propus
B83: Cheltuieli directe | D83: =IF(E54=SUM(J54,M54,P54),"OK","ERR!") -> OK
B84: Cheltuieli indirecte | D84: =IF(G54=SUM(K54,N54,Q54),"OK","ERR!") -> OK

Sheet A5-CV_ET
F1: ANEXA 5
B2: Solicitant (denumire operator economic) | C2: ='A3-Operator-total'!$D$1 -> (Nume operator)
B3: ACTIVITATE: | C3: (Denumire activitate)
B4: Data: | C4: ='A3-Operator-total'!D2 -> 44608
B6: FIȘA DE FUNDAMENTARE A
B7: PRINCIPALELOR ELEMENTE DE COSTURI VARIABILE
A9: Nr. crt | B9: Specificaţie | C9: U.M. | D9: Preţ/Tarif actual | E9: Realizat în ultimele 12 luni | F9: Preţ/Tarif propus
A12: 0 | B12: 1 | C12: 2 | D12: 3 | E12: 4 | F12: 5
A14: 1 | B14: Energie produsă | C14: MWh/an
C15: Gcal/an
A16: 2 | B16: Energie achiziționată de la terți | C16: MWh/an
C17: Gcal/an
A18: 3 | B18: Energie intrată în contur | C18: MWh/an
C19: Gcal/an
A20: 4 | B20: Energie livrată | C20: MWh/an
C21: Gcal/an
A22: 5.1. | B22: Combustibil 1: Gaze naturale | D22: gaze naturale | E22: gaze naturale | F22: gaze naturale
B23: Putere calorifică superioara gaze naturale | C23: kWh/Nmc
B24: Consum specific de gaze naturale | C24: mc/ MWh_prod
B25: Cantitate consumată/necesară gaze naturale | C25: MWh
B26: Pret mediu gaze naturale | C26: lei/MWh
B27: Acciza gaze naturale | C27: Lei/MWh
B28: Valoare gaze naturale | C28: Lei
A30: 5.2. | B30: Combustibilul 2: ................. | D30: ........... | E30: ........... | F30: ...........
B31: Putere calorifică superioara 2 | C31: kcal/Nmc
B32: Consum specific de combustibil 2 - U.M./MWh_produs
B33: Cantitate consumată/ necesară combustibil 2 - U.M. (MWh , Nmc, tone, litri)
B34: Pret mediu combustibil 2 - Lei/U.M.
B35: Acciza combustibil 2 - Lei/U.M.
B36: transport combustibil 2 | C36: Lei
B37: Achizitie combustibil 2 | C37: Lei
B38: Valoare combustibil 2 | C38: Lei
A40: 5.3. | B40: Combustibilul 3: ................. | D40: ........... | E40: ........... | F40: ...........
B41: Putere calorifică superioara 3 | C41: kcal/Nmc
B42: Consum specific de combustibil 3 - U.M./MWh_produs
B43: Cantitate consumată/ necesară combustibil 3 - U.M. (MWh , Nmc, tone, litri)
B44: Pret mediu combustibil 3 - Lei/U.M.
B45: Acciza combustibil 3 - Lei/U.M.
B46: transport combustibil 3 | C46: Lei
B47: Achizitie combustibil 3 | C47: Lei
B48: Valoare combustibil 3 | C48: Lei
A50: 6 | B50: VALOARE CONSUM TEHNOLOGIC DE COMBUSTIBIL | C50: Lei | D50: =D28+D38+D48 -> 0 | E50: =E28+E38+E48 -> 0 | F50: =F28+F38+F48 -> 0
A51: 7 | B51: Valoare certificate CO2 | C51: Lei
B52: ▪ Număr certificate CO2 achizitionate | C52: nr
B53: ▪ Pret mediu certificat | C53: Lei/ certificat
A55: 8 | B55: Valoare energie termică achiziționată de producator de la terți | C55: Lei
B56: ▪ preț | C56: Lei/MWh
A58: 9 | B58: Valoare pierderi tehnologice de energie termică în rețele de transport/distribuție* | C58: Lei
B59: ▪ cantitate pierderi | C59: MWh
B60: ▪ preț | C60: lei/MWh
B61: ▪ cantitate apă adaos în rețea | C61: mc
A63: 10 | B63: Valoare consum tehnologic de energie electrică | C63: Lei
B64: ▪ consum specific energie electrică activă | C64: MWh/ MWh_prod
B65: ▪ cantitate necesară de energie electrică | C65: MWh
B66: ▪ preț energie electrică activă | C66: lei/MWh
A68: 11 | B68: Valoare consum tehnologic de apă potabilă/brută sau pretratată | C68: Lei
B69: ▪ consum specific apă potabilă/brută | C69: mc/ MWh_prod
B70: ▪ cantitate | C70: mc
B71: ▪ pret apă potabilă/brută | C71: Lei/mc
A72: 12 | B72: Valoare consum tehnologic de apă tratată: demineralizată sau dedurizată | C72: Lei
B73: ▪ consum specific apă demi/dedu | C73: mc/ MWh_prod
B74: ▪ cantitate | C74: mc
B75: ▪ preț apă demi/dedu | C75: Lei/mc
A76: 13 | B76: Valoare apă - canalizare | C76: Lei
B77: ▪ consum specific apă-canalizare | C77: mc/ MWh_prod
B78: ▪ cantitate | C78: mc
B79: ▪ pret apă-canalizare | C79: Lei/mc
A81: 14 | B81: VALOARE CONSUM TEHNOLOGIC DE APĂ BRUTĂ-TRATATĂ-CANALIZARE | C81: Lei | D81: =D68+D72+D76 -> 0 | E81: =E68+E72+E76 -> 0 | F81: =F68+F72+F76 -> 0
A83: 15 | B83: Număr personal | C83: nr.
A84: 16 | B84: Salariu mediu lunar brut | C84: lei/angajat/ luna
A86: Notă
B87: (*) se completează numai în cazul operatorilor care desfășoară exclusiv activitatea de transport și/sau distribuție
B88: Fişa se va adapta corespunzător, în funcţie de natura combustibililor.
B89: U.M. = unitate de măsură; Operatorul va menționa unitatea de măsură
B90: Se completează câte o fișă distinctă pentru fiecare preț/tarif solicitat

Sheet A6_Bilant ET
F1: Anexa 6
B3: Solicitant (denumire operator economic) | C3: ='A3-Operator-total'!$D$1 -> (Nume operator)
B4: Data solicitarii | C4: ='A3-Operator-total'!$D$2 -> 44608
D6: MACHETA
A7: cu Bilantul energiei termice - Preț/tarif actual - Realizări în ultimele 12 luni - Preț/tarif propus
A9: Nr. crt. | B9: Parametru | C9: U.M. | D9: Pret/Tarif actual | E9: Realizat în ultimele 12 luni | F9: Pret/Tarif Propus
A10: 1 | B10: 2 | C10: 3 | D10: 4 | E10: 5 | F10: 6
A11: 1. | B11: Cantitate totala ET produsă în centrale termice | C11: MWh | D11: =D12+D13+D14 -> 0 | E11: =E12+E13+E14 -> 0 | F11: =F12+F13+F14 -> 0
A12: 1.1. | B12: Cantitate totala ET produsa pt livrare, în centrala CT | C12: MWh
A13: 1.2. | B13: Cantitate totala ET produsa pt livrare, in centrala CT cvartal | C13: MWh
A14: 1.3. | B14: Cantitate totala ET produsa pt. livrare, in centrala CTZ | C14: MWh
A15: 2 | B15: Cantitate totala ET produsă pt livrare | C15: MWh | D15: =D11 -> 0 | E15: =E11 -> 0
A16: 2.1. | B16: Cantitate ET livrata la consumatori de la gardul centralelor | C16: MWh
A17: 2.2. | B17: Cantitate ET livrata in RT | C17: MWh | D17: =D15-D16 -> 0 | E17: =E15-E16 -> 0
A18: 3 | B18: Cantitate ET achizitionata de la terti si intrata in RT: | C18: MWh | D18: =D19+D20+D21 -> 0 | E18: =E19+E20+E21 -> 0
A19: 3.1 | B19: producator 1 | C19: MWh
A20: 3.2 | B20: producator 2 | C20: MWh
A21: 3.3 | B21: producator 3 | C21: MWh
A22: 4 | B22: Pret mediu achizitie ET de la terti | C22: lei/MWh | D22: =(D19*D23+D20*D24+D21*D25)/D18 -> #DIV/0! | E22: =(E19*E23+E20*E24+E21*E25)/E18 -> #DIV/0!
A23: 4.1 | B23: producator 1 | C23: lei/MWh
A24: 4.2 | B24: producator 2 | C24: lei/MWh
A25: 4.3 | B25: producator 3 | C25: lei/MWh
A26: 5 | B26: Cantitate totala ET intrata in RT | C26: MWh | D26: =D17+D18 -> 0 | E26: =E17+E18 -> 0 | F26: =F27+F31 -> 0
A27: 6 | B27: Cantitate totala ET livrata din RT | D27: =D28+D29 -> 0 | E27: =E28+E29 -> 0 | F27: =F28+F29 -> 0
A28: 6.1. | B28: Cantitate ET livrata la consumatori din RT | C28: MWh
A29: 6.2. | B29: Cantitate ET livrata in RD din RT | C29: MWh
A30: 7 | B30: Pierderi in RT
A31: 7.1. | B31: Cantitate pierdere totala in RT | C31: MWh | D31: =D26-D27 -> 0 | E31: =E26-E27 -> 0
A32: 7.2. | B32: Procent pierdere totala in RT | C32: % | D32: =D31/D26*100 -> #DIV/0! | E32: =E31/E26*100 -> #DIV/0! | F32: 1 | G32: pierderea tehnologică în RT cf. Bilantului
A33: 8 | B33: Cantitate totala ET intrata direct in RD din CT
A34: 9 | B34: Cantitate totala ET intrata direct in RD din CT cvartal
A35: 10 | B35: Cantitate totala ET intrata direct in RD din CTZ
A36: 11 | B36: Cantitate totala ET intrata in RD din RT | C36: MWh | D36: =D29+D35 -> 0 | E36: =E29+E35 -> 0
A37: 12 | B37: Cantitate totala ET intrata in RD | D37: =D33+D34+D35+D36 -> 0
A38: 12.1 | B38: Cantitate ET livrata la consumatori din RD | C38: MWh
A39: 13 | B39: Pierderi in RD
A40: 13.1 | B40: Cantitate pierdere totala in RD | C40: MWh | D40: =D36-D38 -> 0 | E40: =E36-E38 -> 0
A41: 13.2 | B41: Procent pierdere totala in RD | C41: % | D41: =D40/D36*100 -> #DIV/0! | E41: =E40/E36*100 -> #DIV/0! | F41: 1 | G41: pierderea tehnologică în RD cf. Bilantului

Sheet A7-PLF
I1: ANEXA 7
B2: Solicitant (denumire operator economic) | D2: ='A3-Operator-total'!D1 -> (Nume operator)
B3: Data solicitării: | D3: ='A3-Operator-total'!$D$2 -> 44608
B4: Localitate
B6: FIŞA DE CALCUL - Preţul local de furnizare
B8: Nr. crt. | C8: Elemente de calcul | D8: UM | E8: In vigoare | F8: Preț Propus
F9: consumatori alimentati de la gardul centralei | G9: consumatori alimentati din reteaua de transport | H9: consumatori alimentati din reteaua de distributie | I9: …… ……
B10: 0 | C10: 1 | D10: 2 | E10: 3 | F10: 4 | G10: 5 | H10: 6
B11: I. | C11: PRET MEDIU PRODUCERE | D11: lei/MWh
C12: ▪ cantitate energie termica livrata din sursa 1 | D12: MWh
C13: ▪ pret producere sursa 1 | D13: lei/MWh
C15: ▪ cantitate energie termica livrata din sursa 2 | D15: MWh
C16: ▪ pret producere sursa 2 | D16: lei/MWh
C18: ▪ cantitate energie termica livrata din sursa 3 | D18: MWh
C19: ▪ pret producere sursa 3 | D19: lei/MWh
C21: ▪ cantitate energie termica livrata din sursa 4 | D21: MWh
C22: ▪ pret producere sursa 4 | D22: lei/MWh
C25: TOTAL CANTITATE LIVRATĂ DE PRODUCĂTORI | D25: MWh | E25: =E12+E15+E18+E21 -> 0 | F25: =F12+F15+F18+F21 -> 0 | G25: =G12+G15+G18+G21 -> 0 | H25: =H12+H15+H18+H21 -> 0
B26: II. | C26: TARIF TRANSPORT | D26: lei/MWh
B27: III. | C27: COEFICIENT UTILIZARE REȚEA TRANSPORT | D27: 0 / 1
B28: IV. | C28: TARIF DISTRIBUȚIE | D28: lei/MWh
B30: V. | C30: PREŢ LOCAL (V= I + II x III + IV) | D30: lei/MWh | E30: =E11+E26*E27+E28 -> 0 | F30: =F11+F26*F27+F28 -> 0 | G30: =G11+G26*G27+G28 -> 0 | H30: =H11+H26*H27+H28 -> 0
B32: NOTA | C32: Se completeaza cite o fisa distincta pentru fiecare pret local solicitat

Sheet A8-Cheltuieli fin
I1: ANEXA 8
B3: Solicitant (denumire operator economic) | D3: ='A3-Operator-total'!$D$1 -> (Nume operator)
B4: Data solicitării: | D4: ='A3-Operator-total'!$D$2 -> 44608
B5: Anul curent | D5: 2022
B7: SITUAȚIA CHELTUIELILOR FINANCIARE
B9: Structuri/cheltuieli financiare curente | C9: U.M. | D9: Rest de rambursat/de plată, pe ani
D10: an | E10: an+1 | F10: an+2 | G10: an+3 | H10: an+4 | I10: an+5
D11: =D5 -> 2022 | E11: =D11+1 -> 2023 | F11: =E11+1 -> 2024 | G11: =F11+1 -> 2025 | H11: =G11+1 -> 2026 | I11: =H11+1 -> 2027
B13: Creditul - Rate scadente - principal | C13: USD
C14: EUR
C15: RON
B16: Total, Echivalent RON, curs BNR | C16: RON
B17: Dobânzi | C17: USD
C18: EUR
C19: RON
B20: Echivalent RON, curs BNR | C20: RON
B21: Comisioane si speze bancare | C21: USD
C22: EUR
C23: RON
B24: Echivalent RON, curs BNR | C24: RON
B25: Diferențe de curs | C25: RON

Sheet A9-Personal
P1: ANEXA 9
B2: Solicitant (denumire operator economic) | D2: ='A3-Operator-total'!$D$1 -> (Nume operator)
B3: Data solicitării: | D3: ='A3-Operator-total'!D2 -> 44608
A5: Numarul de personal repartizat pe activități
A7: Nr. crt. | B7: Nr. mediu personal / Activitate | C7: Realizat ultimele 12 luni | J7: Propus
C8: Număr personal direct | D8: Fond salarii brute anuale directe* | E8: Număr personal indirect | F8: Fond salarii brute anuale indirecte | G8: Total număr personal | H8: Total salariu brut anual | I8: Salariu mediu lunar brut | J8: Număr personal direct | K8: Fond salarii brute anuale directe | L8: Număr personal indirect | M8: Fond salarii brute anuale indirecte | N8: Total număr personal | O8: Total salariu brut anual | P8: Salariu mediu lunar brut
C9: nr. | D9: Lei | E9: nr. | F9: Lei | G9: nr. | H9: lei | I9: Lei/pers/lună | J9: nr. | K9: Lei | L9: nr. | M9: Lei | N9: nr. | O9: lei | P9: Lei/pers/lună
B10: Cheia de repartizare: | G10: 1 | N10: 1
A11: 1 | B11: Producere si distributie in CT -total | C11: =SUM(C12:C17) -> 0 | D11: =SUM(D12:D17) -> 0 | E11: =SUM(E12:E17) -> 0 | F11: =SUM(F12:F17) -> 0 | G11: =C11+E11 -> 0 | H11: =D11+F11 -> 0 | I11: =H11/G11/12 -> #DIV/0! | J11: =SUM(J12:J17) -> 0 | K11: =SUM(K12:K17) -> 0 | L11: =SUM(L12:L17) -> 0 | M11: =SUM(M12:M17) -> 0 | N11: =J11+L11 -> 0 | O11: =K11+M11 -> 0 | P11: =O11/N11/12 -> #DIV/0!
B12: categoria 1*
B13: categoria 2
B14: categoria 3
B15: categoria 4
B16: categoria 5
B17: …
A18: 2 | B18: Producere si distributie in CT cvartal - total | C18: =SUM(C19:C24) -> 0 | D18: =SUM(D19:D24) -> 0 | E18: =SUM(E19:E24) -> 0 | F18: =SUM(F19:F24) -> 0 | G18: =C18+E18 -> 0 | H18: =D18+F18 -> 0 | I18: =H18/G18/12 -> #DIV/0! | J18: =SUM(J19:J24) -> 0 | K18: =SUM(K19:K24) -> 0 | L18: =SUM(L19:L24) -> 0 | M18: =SUM(M19:M24) -> 0 | N18: =J18+L18 -> 0 | O18: =K18+M18 -> 0 | P18: =O18/N18/12 -> #DIV/0!
B19: categoria 1
B20: categoria 2
B21: categoria 3
B22: categoria 4
B23: categoria 5
B24: …
A25: 3 | B25: Producere in centrala CTZ - total | C25: =SUM(C26:C31) -> 0 | D25: =SUM(D26:D31) -> 0 | E25: =SUM(E26:E31) -> 0 | F25: =SUM(F26:F31) -> 0 | G25: =C25+E25 -> 0 | H25: =D25+F25 -> 0 | I25: =H25/G25/12 -> #DIV/0! | J25: =SUM(J26:J31) -> 0 | K25: =SUM(K26:K31) -> 0 | L25: =SUM(L26:L31) -> 0 | M25: =SUM(M26:M31) -> 0 | N25: =J25+L25 -> 0 | O25: =K25+M25 -> 0 | P25: =O25/N25/12 -> #DIV/0!
B26: categoria 1
B27: categoria 2
B28: categoria 3
B29: categoria 4
B30: categoria 5
B31: …
A32: 4 | B32: Transport - total | C32: =SUM(C33:C38) -> 0 | D32: =SUM(D33:D38) -> 0 | E32: =SUM(E33:E38) -> 0 | F32: =SUM(F33:F38) -> 0 | G32: =C32+E32 -> 0 | H32: =D32+F32 -> 0 | I32: =H32/G32/12 -> #DIV/0! | J32: =SUM(J33:J38) -> 0 | K32: =SUM(K33:K38) -> 0 | L32: =SUM(L33:L38) -> 0 | M32: =SUM(M33:M38) -> 0 | N32: =J32+L32 -> 0 | O32: =K32+M32 -> 0 | P32: =O32/N32/12 -> #DIV/0!
B33: categoria 1
B34: categoria 2
B35: categoria 3
B36: categoria 4
B37: categoria 5
B38: …
A39: 5 | B39: Distributie - total | G39: =C39+E39 -> 0 | H39: =D39+F39 -> 0 | I39: =H39/G39/12 -> #DIV/0! | J39: =SUM(J40:J45) -> 0 | K39: =SUM(K40:K45) -> 0 | L39: =SUM(L40:L45) -> 0 | M39: =SUM(M40:M45) -> 0 | N39: =J39+L39 -> 0 | O39: =K39+M39 -> 0 | P39: =O39/N39/12 -> #DIV/0!
B40: categoria 1
B41: categoria 2
B42: categoria 3
B43: categoria 4
B44: categoria 5
B45: …
A46: 6 | B46: Activități integrate - total | C46: =SUM(C47:C52) -> 0 | D46: =SUM(D47:D52) -> 0 | E46: =SUM(E47:E52) -> 0 | F46: =SUM(F47:F52) -> 0 | G46: =C46+E46 -> 0 | H46: =D46+F46 -> 0 | I46: =H46/G46/12 -> #DIV/0! | J46: =SUM(J47:J52) -> 0 | K46: =SUM(K47:K52) -> 0 | L46: =SUM(L47:L52) -> 0 | M46: =SUM(M47:M52) -> 0 | N46: =J46+L46 -> 0 | O46: =K46+M46 -> 0 | P46: =O46/N46/12 -> #DIV/0!
B47: categoria 1
B48: categoria 2
B49: categoria 3
B50: categoria 4
B51: categoria 5
B52: …
B53: TOTAL | C53: =SUM(C11:C39) -> 0 | D53: =SUM(D11:D39) -> 0 | E53: =SUM(E11:E39) -> 0 | F53: =SUM(F11:F39) -> 0 | G53: =C53+E53 -> 0 | H53: =D53+F53 -> 0 | I53: =H53/G53/12 -> #DIV/0! | J53: =SUM(J11:J39) -> 0 | K53: =SUM(K11:K39) -> 0 | L53: =SUM(L11:L39) -> 0 | M53: =SUM(M11:M39) -> 0 | N53: =J53+L53 -> 0 | O53: =K53+M53 -> 0 | P53: =O53/N53/12 -> #DIV/0!
B55: Notă: * inclusiv sporuri
B56: Exemple categorii de personal: | C56: personal necalificat, instalatori, sudori, maistri, tehnicieni, ingineri, TESA
