Workbook

Sheet Anexa 3_Operator_total
B1: Solicitant | D1: (Denumire operator economic solicitant) | P1: ANEXA 3.1 | AD1: ANEXA 3.2
B2: Data solicitării avizului: | D2: zz.ll.aaa
B3: Licenta (tip - producere / SACET / transport,distributie,furnizare, numar, data) | D3: Licența ........................ Nr. .../.........
B4: Localitate | D4: Localitate
B5: Județ | D5: Județ
B7: FIȘA DE FUNDAMENTARE A PREȚURILOR/TARIFELOR ENERGIEI TERMICE AFERENTE SPAET
A9: Nr crt. | B9: Specificatie | C9: U.M. | D9: Preț/Tarif actual (în vigoare) | J9: Realizat in ultimele 12 luni (perioada: ...-...) | Q9: Preț/Tarif propus | X9: Variația preț/tarif propus - preț/tarif actual [%]
D10: Total | E10: Producere CT/CTZ | F10: Producere CT cvartal | G10: Producere CT imobil/ scară | H10: Transport | I10: Distribuție | J10: Total | K10: Producere CT/CTZ | L10: Producere CT cvartal | M10: Producere CT imobil/ scară | N10: Producere CT alt tip* | O10: Transport | P10: Distribuție | Q10: Total | R10: Producere CT/CT zonă | S10: Producere CT cvartal | T10: Producere CT imobil/ scară | U10: Producere CT alt tip* | V10: Transport | W10: Distribuție | X10: Total | Y10: Producere CT/CT zonă | Z10: Producere CT cvartal | AA10: Producere CT imobil/ scară | AB10: Producere CT alt tip* | AC10: Transport | AD10: Distributie
A11: 0 | B11: 1 | C11: 2 | D11: 3 | E11: 4 | F11: 5 | G11: 6 | H11: 8 | I11: 9 | J11: 10 | K11: 11 | L11: 12 | M11: 13 | N11: 14 | O11: 15 | P11: 16 | Q11: 17 | R11: 18 | S11: 19 | T11: 20 | U11: 21 | V11: 22 | W11: 23 | X11: 24 | Y11: 25 | Z11: 26 | AA11: 27 | AB11: 28 | AC11: 29 | AD11: 30
A13: I. | B13: Costuri variabile - total | C13: Lei
B14: Consum tehnologic de combustibil | C14: Lei
B15: Energie termică achiziționată de la terți | C15: Lei
B16: Energie termică pierduta in transport/distributie | C16: Lei
B17: Consum tehnologic de energie electrică | C17: Lei
B18: Consum tehnologic de apa brută/tratată și canalizare | C18: Lei
B19: Costuri certificate CO2 | C19: Lei
B20: Alte costuri variabile | C20: Lei
A21: II. | B21: Costuri fixe - total, din care: | C21: Lei
A22: II.1. | B22: Costuri de operare şi mentenanţă: | C22: Lei
B23: Materii prime, Materiale | C23: Lei
B24: Utilităţi: energie electrică, gaze naturale, apă potabilă | C24: Lei
B25: Chirii, impozite, taxe stabilite conform reglementărilor legale în vigoare sau de către autorităţile locale | C25: Lei
B26: Lucrari și servicii executate de terţi: | C26: Lei
B27: lucrări de mentenanță | C27: Lei
B28: contractare, facturare, încasare | C28: Lei
B29: comisioane, onorarii | C29: Lei
B30: protocol, reclamă, publicitate | C30: Lei
B31: deplasari, detasari, transferari | C31: Lei
B32: posta si telecomunicatii | C32: Lei
B33: studii și cercetări | C33: Lei
B34: alte servicii, colaborări | C34: Lei
B35: Întreținere, reparare, verificare metrologică și înlocuire a grupurilor de măsurare | C35: Lei
A36: II.2. | B36: Costuri cu munca vie - total | C36: Lei
B37: Salarii | C37: Lei
B38: Contribuţia angajatorului asiguratorie pentru muncă (CAM) | C38: Lei
B39: Contribuția angajatorului la fondul de handicap | C39: Lei
B40: Alte costuri cu munca vie (tichete de masa, prime, alte contribuții, etc.) | C40: Lei
A41: II.3. | B41: Amortizare | C41: Lei
A42: II.4. | B42: Redevente | C42: Lei
A43: II.5. | B43: Costuri pentru protectia mediului | C43: Lei
A44: II.6. | B44: Costuri financiare | C44: Lei
A45: II.7. | B45: Alte costuri | C45: Lei
A46: III. | B46: COSTURI TOTALE (I+II) | C46: Lei
A47: IV. | B47: Profit / (pierdere)* | C47: Lei
A48: V. | B48: Cota de dezvoltare, modernizare SACET ** | C48: Lei
A49: VI. | B49: VENITURI TOTALE (I+II+III+IV+V)*** | C49: Lei
A50: VII. | B50: (Pret/Tarif) producere Energie termica [Lei/MWh] | C50: Lei/ MWh
A51: VIII. | B51: Energie termică produsă/intrată în contur | C51: MWh
A52: IX. | B52: Energie termică livrată | C52: MWh
B53: Nota
B54: În cazul unui preț integrat, aferent activitățolor de producere, transport și/sau distribuție și furnizare energie termică, se va completa doar coloana "Total"
B56: * - În coloana "Realizat" se va completa valoarea, în lei, determinată cu formula: IV = VI - III.
B57: ** - În coloana "Realizat", se va completa valoarea, în lei, a sumelor virate în contul distinct inființat de operator, conform legii, pentru dezvoltarea/modernizarea SACET
B58: *** - În coloana "Realizat", se va completa cu valoarea determinata cu formula: VI = VII x IX.
B59: Costurile incluse în prețurile aferente activităților de producere și în tarifele serviciilor de transport şi/sau distribuţie a energiei termice cuprind şi costurile specifice activității de furnizare a energiei termice la consumatori.

Sheet Anexa 4_CV
F1: ANEXA 4
B2: Solicitant | C2: ='Anexa 3_Operator_total'!D1 -> (Denumire operator economic solicitant)
B3: ACTIVITATE: | C3: (Denumire activitate)
B4: Data solicitării avizului: | C4: ='[1]Anexa 3_Operator_total'!D2 -> zz.ll.aaa
B6: FIȘA DE FUNDAMENTARE A
B7: PRINCIPALELOR ELEMENTE DE COSTURI VARIABILE
A9: Nr. crt | B9: Specificaţie | C9: U.M. | D9: Preţ/Tarif actual (în vigoare) | E9: Realizat în ultimele 12 luni (perioada: ..... - ....) | F9: Preţ/Tarif propus
A12: 0 | B12: 1 | C12: 2 | D12: 3 | E12: 4 | F12: 5
A14: 1 | B14: Energie produsă | C14: MWh/an
A16: 2 | B16: Energie achiziționată de la terți | C16: MWh/an
A18: 3 | B18: Energie intrată în contur | C18: MWh/an
A20: 4 | B20: Energie livrată | C20: MWh/an
A22: 5.1. | B22: Combustibil 1: Gaze naturale | D22: gaze naturale | E22: gaze naturale | F22: gaze naturale
B23: Putere calorifică superioara gaze naturale | C23: kWh/Nmc
B24: Consum specific de gaze naturale | C24: mc/ MWh_prod
B25: Cantitate consumată/necesară gaze naturale | C25: MWh
B26: Pret mediu gaze naturale | C26: lei/MWh
B27: Acciza gaze naturale | C27: Lei/MWh
B28: Valoare gaze naturale | C28: Lei
A30: 5.2. | B30: Combustibilul 2: ................. | D30: ........... | E30: ........... | F30: ...........
B31: Putere calorifică superioara 2 | C31: kcal/Nmc
B32: Consum specific de combustibil 2 - U.M./MWh_produs
B33: Cantitate consumată/ necesară combustibil 2 - U.M. (MWh , Nmc, tone, litri)
B34: Pret mediu combustibil 2 - Lei/U.M.
B35: Acciza combustibil 2 - Lei/U.M.
B36: transport combustibil 2 | C36: Lei
B37: Achizitie combustibil 2 | C37: Lei
B38: Valoare combustibil 2 | C38: Lei
A40: 5.3. | B40: Combustibilul 3: ................. | D40: ........... | E40: ........... | F40: ...........
B41: Putere calorifică superioara 3 | C41: kcal/Nmc
B42: Consum specific de combustibil 3 - U.M./MWh_produs
B43: Cantitate consumată/ necesară combustibil 3 - U.M. (MWh , Nmc, tone, litri)
B44: Pret mediu combustibil 3 - Lei/U.M.
B45: Acciza combustibil 3 - Lei/U.M.
B46: transport combustibil 3 | C46: Lei
B47: Achizitie combustibil 3 | C47: Lei
B48: Valoare combustibil 3 | C48: Lei
A50: 6 | B50: VALOARE CONSUM TEHNOLOGIC DE COMBUSTIBIL | C50: Lei | D50: =D28+D38+D48 -> 0 | E50: =E28+E38+E48 -> 0 | F50: =F28+F38+F48 -> 0
A51: 7 | B51: Valoare certificate CO2 | C51: Lei
B52: ▪ Număr certificate CO2 achizitionate | C52: nr
B53: ▪ Pret mediu certificat | C53: Lei/ certificat
A55: 8 | B55: Valoare energie termică achiziționată de producator de la terți | C55: Lei
B56: ▪ preț | C56: Lei/MWh
A58: 9 | B58: Valoare pierderi tehnologice de energie termică în rețele de transport/distribuție* | C58: Lei
B59: ▪ procent pierderi | C59: %
B60: ▪ cantitate pierderi | C60: MWh
B61: ▪ preț | C61: lei/MWh
B62: ▪ cantitate apă adaos în rețea | C62: mc
A64: 10 | B64: Valoare consum tehnologic de energie electrică | C64: Lei
B65: ▪ consum specific energie electrică activă | C65: MWh/ MWh_prod
B66: ▪ cantitate necesară de energie electrică | C66: MWh
B67: ▪ preț energie electrică activă | C67: lei/MWh
A69: 11 | B69: Valoare consum tehnologic de apă potabilă/brută sau pretratată | C69: Lei
B70: ▪ consum specific apă potabilă/brută | C70: mc/ MWh_prod
B71: ▪ cantitate | C71: mc
B72: ▪ pret apă potabilă/brută | C72: Lei/mc
A73: 12 | B73: Valoare consum tehnologic de apă tratată: demineralizată sau dedurizată | C73: Lei
B74: ▪ consum specific apă demi/dedu | C74: mc/ MWh_prod
B75: ▪ cantitate | C75: mc
B76: ▪ preț apă demi/dedu | C76: Lei/mc
A77: 13 | B77: Valoare apă - canalizare | C77: Lei
B78: ▪ consum specific apă-canalizare | C78: mc/ MWh_prod
B79: ▪ cantitate | C79: mc
B80: ▪ pret apă-canalizare | C80: Lei/mc
A82: 14 | B82: VALOARE CONSUM TEHNOLOGIC DE APĂ BRUTĂ-TRATATĂ-CANALIZARE | C82: Lei | D82: =D69+D73+D77 -> 0 | E82: =E69+E73+E77 -> 0 | F82: =F69+F73+F77 -> 0
A84: 15 | B84: Număr personal | C84: nr.
A85: 16 | B85: Salariu mediu lunar brut | C85: lei/angajat/ luna
A87: Notă
B88: (*) se completează exclusiv pentru serviciile de transport și/sau de distribuție desfășurate de operatorii SPAET
B89: Fişa se va adapta corespunzător, în funcţie de natura combustibililor.
B90: U.M. = unitate de măsură; Operatorul va menționa unitatea de măsură
B91: Se completează câte o fișă distinctă pentru fiecare preț/tarif solicitat. Sumele se vor corela cu cele înscrise în Anexa nr. 3.

Sheet Anexa 5_CF
W1: ANEXA 5.1
B2: Solicitant | D2: ='Anexa 3_Operator_total'!D1:G1 -> (Denumire operator economic solicitant)
B3: Data solicitării avizului: | D3: ='Anexa 3_Operator_total'!D2:F2 -> zz.ll.aaa
B5: FIȘA DE REPARTIZARE A COSTURILOR FIXE
A7: Nr crt. | B7: Specificație | C7: U.M. | D7: Preț/Tarif actual (în vigoare)
D8: COSTURI FIXE | I8: Producere CT/ CTZ | L8: Producere CT cvartal | O8: Producere CT imobil/scara | R8: Transport | U8: Distribuție
D9: Total | E9: Directe | F9: Indirecte
F10: Indirecte- Total | G10: Indirecte -energie termică | H10: Indirecte -Alte activități | I10: Total | J10: Directe | K10: Indirecte | L10: Total | M10: Directe | N10: Indirecte | O10: Total | P10: Directe | Q10: Indirecte | R10: Total | S10: Directe | T10: Indirecte | U10: Total | V10: Directe | W10: Indirecte
A11: 0 | B11: 1 | C11: 2 | D11: 3 | E11: 4 | F11: 5 | G11: 6 | H11: 7 | I11: 8 | J11: 9 | K11: 10 | L11: 11 | M11: 12 | N11: 13 | O11: 14 | P11: 15 | Q11: 16 | R11: 17 | S11: 18 | T11: 19 | U11: 20 | V11: 21 | W11: 22
B12: Cheie de repartizare 1*: alte activități - energie termică | C12: % | F12: =G12+H12 -> 0
B13: Cheie de repartizare 2*: energie termică | C13: % | G13: =SUM(K13,N13,Q13,#REF!) -> #REF! | T13: =100%-G13 -> #REF! | W13: =100%-J13 -> 1
A14: I. | B14: Costuri fixe - TOTAL, din care: | C14: Lei | D14: =D15+D29+D34+D35+D36+D37+D38 -> 0 | E14: =E15+E29+E34+E35+E36+E37+E38 -> 0 | F14: =F15+F29+F34+F35+F36+F37+F38 -> 0 | G14: =G15+G29+G34+G35+G36+G37+G38 -> 0 | H14: =H15+H29+H34+H35+H36+H37+H38 -> 0 | I14: =I15+I29+I34+I35+I36+I37+I38 -> 0 | J14: =J15+J29+J34+J35+J36+J37+J38 -> 0 | K14: =K15+K29+K34+K35+K36+K37+K38 -> 0 | ... W14: =W15+W29+W34+W35+W36+W37+W38 -> 0
A15: I.1. | B15: Costuri de operare şi mentenanţă: | C15: Lei | D15: =D16+D17+D18+D19 -> 0 | E15: =E16+E17+E18+E19 -> 0 | F15: =F16+F17+F18+F19 -> 0 | G15: =G16+G17+G18+G19 -> 0 | H15: =H16+H17+H18+H19 -> 0 | I15: =I16+I17+I18+I19 -> 0 | J15: =J16+J17+J18+J19 -> 0 | K15: =K16+K17+K18+K19 -> 0 | ... W15: =W16+W17+W18+W19 -> 0
B16: Materii prime, Materiale | C16: Lei | E16: =J16+M16+P16 -> 0 | F16: =D16-E16 -> 0 | G16: =F16*$G$52 -> 0 | H16: =F16-G16 -> 0 | I16: =J16+K16 -> 0 | L16: =M16+N16 -> 0 | O16: =P16+Q16 -> 0 | R16: =S16+T16 -> 0 | U16: =V16+W16 -> 0
B17: Utilităţi: energie electrică, gaze naturale, apă potabilă | C17: Lei | E17: =J17+M17+P17 -> 0 | F17: =D17-E17 -> 0 | G17: =F17*$G$52 -> 0 | H17: =F17-G17 -> 0 | I17: =J17+K17 -> 0 | L17: =M17+N17 -> 0 | O17: =P17+Q17 -> 0 | R17: =S17+T17 -> 0 | U17: =V17+W17 -> 0
B18: Chirii, impozite, taxe stabilite conform reglementărilor legale în vigoare sau de către autorităţile locale | C18: Lei | E18: =J18+M18+P18 -> 0 | F18: =D18-E18 -> 0 | G18: =F18*$G$52 -> 0 | H18: =F18-G18 -> 0 | I18: =J18+K18 -> 0 | L18: =M18+N18 -> 0 | O18: =P18+Q18 -> 0 | R18: =S18+T18 -> 0 | U18: =V18+W18 -> 0
B19: Lucrari și servicii executate de terţi: | C19: Lei | D19: =D22+D23+D24+D25+D26+D27 -> 0 | E19: =E22+E23+E24+E25+E26+E27 -> 0 | F19: =F22+F23+F24+F25+F26+F27 -> 0 | G19: =G22+G23+G24+G25+G26+G27 -> 0 | H19: =H22+H23+H24+H25+H26+H27 -> 0 | I19: =I22+I23+I24+I25+I26+I27 -> 0 | J19: =J22+J23+J24+J25+J26+J27 -> 0 | K19: =K22+K23+K24+K25+K26+K27 -> 0 | ... W19: =W22+W23+W24+W25+W26+W27 -> 0
B20: lucrări de mentenanță | C20: Lei | E20: =J20+M20+P20 -> 0 | F20: =D20-E20 -> 0 | G20: =F20*$G$52 -> 0 | H20: =F20-G20 -> 0 | I20: =J20+K20 -> 0 | L20: =M20+N20 -> 0 | O20: =P20+Q20 -> 0 | R20: =S20+T20 -> 0 | U20: =V20+W20 -> 0
B21: contractare, facturare, încasare | C21: Lei | E21: =J21+M21+P21 -> 0 | F21: =D21-E21 -> 0 | G21: =F21*$G$52 -> 0 | H21: =F21-G21 -> 0 | I21: =J21+K21 -> 0 | L21: =M21+N21 -> 0 | O21: =P21+Q21 -> 0 | R21: =S21+T21 -> 0 | U21: =V21+W21 -> 0
B22: comisioane, onorarii | C22: Lei | E22: =J22+M22+P22 -> 0 | F22: =D22-E22 -> 0 | G22: =F22*$G$52 -> 0 | H22: =F22-G22 -> 0 | I22: =J22+K22 -> 0 | L22: =M22+N22 -> 0 | O22: =P22+Q22 -> 0 | R22: =S22+T22 -> 0 | U22: =V22+W22 -> 0
B23: protocol, reclamă, publicitate | C23: Lei | E23: =J23+M23+P23 -> 0 | F23: =D23-E23 -> 0 | G23: =F23*$G$52 -> 0 | H23: =F23-G23 -> 0 | I23: =J23+K23 -> 0 | L23: =M23+N23 -> 0 | O23: =P23+Q23 -> 0 | R23: =S23+T23 -> 0 | U23: =V23+W23 -> 0
B24: deplasari, detasari, transferari | C24: Lei | E24: =J24+M24+P24 -> 0 | F24: =D24-E24 -> 0 | G24: =F24*$G$52 -> 0 | H24: =F24-G24 -> 0 | I24: =J24+K24 -> 0 | L24: =M24+N24 -> 0 | O24: =P24+Q24 -> 0 | R24: =S24+T24 -> 0 | U24: =V24+W24 -> 0
B25: posta si telecomunicatii | C25: Lei | E25: =J25+M25+P25 -> 0 | F25: =D25-E25 -> 0 | G25: =F25*$G$52 -> 0 | H25: =F25-G25 -> 0 | I25: =J25+K25 -> 0 | L25: =M25+N25 -> 0 | O25: =P25+Q25 -> 0 | R25: =S25+T25 -> 0 | U25: =V25+W25 -> 0
B26: studii și cercetări | C26: Lei | E26: =J26+M26+P26 -> 0 | F26: =D26-E26 -> 0 | G26: =F26*$G$52 -> 0 | H26: =F26-G26 -> 0 | I26: =J26+K26 -> 0 | L26: =M26+N26 -> 0 | O26: =P26+Q26 -> 0 | R26: =S26+T26 -> 0 | U26: =V26+W26 -> 0
B27: alte servicii, colaborări | C27: Lei | E27: =J27+M27+P27 -> 0 | F27: =D27-E27 -> 0 | G27: =F27*$G$52 -> 0 | H27: =F27-G27 -> 0 | I27: =J27+K27 -> 0 | L27: =M27+N27 -> 0 | O27: =P27+Q27 -> 0 | R27: =S27+T27 -> 0 | U27: =V27+W27 -> 0
B28: Întreținere, reparare, verificare metrologică și înlocuire a grupurilor de măsurare | E28: =J28+M28+P28 -> 0 | F28: =D28-E28 -> 0 | H28: =F28-G28 -> 0 | I28: =J28+K28 -> 0 | L28: =M28+N28 -> 0 | O28: =P28+Q28 -> 0 | R28: =S28+T28 -> 0 | U28: =V28+W28 -> 0
A29: I.2. | B29: Costuri cu munca vie - total | C29: Lei | D29: =D30+D31+D33 -> 0 | E29: =E30+E31+E33 -> 0 | F29: =F30+F31+F33 -> 0 | G29: =G30+G31+G33 -> 0 | H29: =H30+H31+H33 -> 0 | I29: =I30+I31+I33 -> 0 | J29: =J30+J31+J33 -> 0 | K29: =K30+K31+K33 -> 0 | ... W29: =W30+W31+W33 -> 0
B30: Salarii | C30: Lei | E30: =J30+M30+P30 -> 0 | F30: =D30-E30 -> 0 | G30: =F30*$G$52 -> 0 | H30: =F30-G30 -> 0 | I30: =J30+K30 -> 0 | L30: =M30+N30 -> 0 | O30: =P30+Q30 -> 0 | R30: =S30+T30 -> 0 | U30: =V30+W30 -> 0
B31: Contribuţia angajatorului asiguratorie pentru muncă (CAM) | C31: Lei | E31: =J31+M31+P31 -> 0 | F31: =D31-E31 -> 0 | G31: =F31*$G$52 -> 0 | H31: =F31-G31 -> 0 | I31: =J31+K31 -> 0 | L31: =M31+N31 -> 0 | O31: =P31+Q31 -> 0 | R31: =S31+T31 -> 0 | U31: =V31+W31 -> 0
B32: Contribuția angajatorului la fondul de handicap | C32: Lei
B33: Alte costuri cu munca vie (tichete de masa, prime, alte contribuții, etc.) | C33: Lei | E33: =J33+M33+P33 -> 0 | F33: =D33-E33 -> 0 | G33: =F33*$G$52 -> 0 | H33: =F33-G33 -> 0 | I33: =J33+K33 -> 0 | L33: =M33+N33 -> 0 | O33: =P33+Q33 -> 0 | R33: =S33+T33 -> 0 | U33: =V33+W33 -> 0
A34: I.3. | B34: Amortizare | C34: Lei | E34: =J34+M34+P34 -> 0 | F34: =D34-E34 -> 0 | G34: =F34*$G$52 -> 0 | H34: =F34-G34 -> 0 | I34: =J34+K34 -> 0 | L34: =M34+N34 -> 0 | O34: =P34+Q34 -> 0 | R34: =S34+T34 -> 0 | U34: =V34+W34 -> 0
A35: I.4. | B35: Redevente | C35: Lei | E35: =J35+M35+P35 -> 0 | F35: =D35-E35 -> 0 | G35: =F35*$G$52 -> 0 | H35: =F35-G35 -> 0 | I35: =J35+K35 -> 0 | L35: =M35+N35 -> 0 | O35: =P35+Q35 -> 0 | R35: =S35+T35 -> 0 | U35: =V35+W35 -> 0
A36: I.5. | B36: Costuri pentru protectia mediului | C36: Lei | E36: =J36+M36+P36 -> 0 | F36: =D36-E36 -> 0 | G36: =F36*$G$52 -> 0 | H36: =F36-G36 -> 0 | I36: =J36+K36 -> 0 | L36: =M36+N36 -> 0 | O36: =P36+Q36 -> 0 | R36: =S36+T36 -> 0 | U36: =V36+W36 -> 0
A37: I.6. | B37: Costuri financiare | C37: Lei | E37: =J37+M37+P37 -> 0 | F37: =D37-E37 -> 0 | G37: =F37*$G$52 -> 0 | H37: =F37-G37 -> 0 | I37: =J37+K37 -> 0 | L37: =M37+N37 -> 0 | O37: =P37+Q37 -> 0 | R37: =S37+T37 -> 0 | U37: =V37+W37 -> 0
A38: I.7. | B38: Alte costuri | C38: Lei | E38: =J38+M38+P38 -> 0 | F38: =D38-E38 -> 0 | G38: =F38*$G$52 -> 0 | H38: =F38-G38 -> 0 | I38: =J38+K38 -> 0 | L38: =M38+N38 -> 0 | O38: =P38+Q38 -> 0 | R38: =S38+T38 -> 0 | U38: =V38+W38 -> 0
A39: II. | B39: Energie termică livrată - realizat | C39: MWh
B41: *- Nu se introduce cheia de repartizare, dacă se utilizează programe informatice de contabilitate de gestiune și cheia nu poate fi definită
W43: ANEXA 5.2
B44: Solicitant | D44: =D2 -> (Denumire operator economic solicitant)
B45: Data solicitării avizului: | D45: =D3 -> zz.ll.aaa
A47: Nr crt. | B47: Specificație | C47: U.M. | D47: Realizat in ultimele 12 luni (perioada: ..... - ....)
D48: COSTURI FIXE | I48: Producere CT/ CTZ | L48: Producere CT cvartal | O48: Producere CT imobil/scara | R48: Transport | U48: Distribuție
D49: Total | E49: Directe | F49: Indirecte
F50: Indirecte- Total | G50: Indirecte -energie termică | H50: Indirecte -Alte activități | I50: Total | J50: Directe | K50: Indirecte | L50: Total | M50: Directe | N50: Indirecte | O50: Total | P50: Directe | Q50: Indirecte | R50: Total | S50: Directe | T50: Indirecte | U50: Total | V50: Directe | W50: Indirecte
A51: 0 | B51: 1 | C51: 2 | D51: 3 | E51: 4 | F51: 5 | G51: 6 | H51: 7 | I51: 8 | J51: 9 | K51: 10 | L51: 11 | M51: 12 | N51: 13 | O51: 14 | P51: 15 | Q51: 16 | R51: 17 | S51: 18 | T51: 19 | U51: 20 | V51: 21 | W51: 22
B52: Cheie de repartizare 1*: alte activități - energie termică | C52: % | F52: =G52+H52 -> 0
B53: Cheie de repartizare 2*: energie termică | C53: % | G53: =SUM(K53,N53,Q53,#REF!) -> #REF! | T53: =100%-G53 -> #REF! | W53: =100%-J53 -> 1
A54: I. | B54: Costuri fixe - TOTAL, din care: | C54: Lei | D54: =D55+D69+D74+D75+D76+D77+D78 -> 0 | E54: =E55+E69+E74+E75+E76+E77+E78 -> 0 | F54: =F55+F69+F74+F75+F76+F77+F78 -> 0 | G54: =G55+G69+G74+G75+G76+G77+G78 -> 0 | H54: =H55+H69+H74+H75+H76+H77+H78 -> 0 | I54: =I55+I69+I74+I75+I76+I77+I78 -> 0 | J54: =J55+J69+J74+J75+J76+J77+J78 -> 0 | K54: =K55+K69+K74+K75+K76+K77+K78 -> 0 | ... W54: =W55+W69+W74+W75+W76+W77+W78 -> 0
A55: I.1. | B55: Costuri de operare şi mentenanţă: | C55: Lei | D55: =D56+D57+D58+D59 -> 0 | E55: =E56+E57+E58+E59 -> 0 | F55: =F56+F57+F58+F59 -> 0 | G55: =G56+G57+G58+G59 -> 0 | H55: =H56+H57+H58+H59 -> 0 | I55: =I56+I57+I58+I59 -> 0 | J55: =J56+J57+J58+J59 -> 0 | K55: =K56+K57+K58+K59 -> 0 | ... W55: =W56+W57+W58+W59 -> 0
B56: Materii prime, Materiale | C56: Lei | E56: =J56+M56+P56 -> 0 | F56: =D56-E56 -> 0 | G56: =F56*$G$52 -> 0 | H56: =F56-G56 -> 0 | I56: =J56+K56 -> 0 | L56: =M56+N56 -> 0 | O56: =P56+Q56 -> 0 | R56: =S56+T56 -> 0 | U56: =V56+W56 -> 0
B57: Utilităţi: energie electrică, gaze naturale, apă potabilă | C57: Lei | E57: =J57+M57+P57 -> 0 | F57: =D57-E57 -> 0 | G57: =F57*$G$52 -> 0 | H57: =F57-G57 -> 0 | I57: =J57+K57 -> 0 | L57: =M57+N57 -> 0 | O57: =P57+Q57 -> 0 | R57: =S57+T57 -> 0 | U57: =V57+W57 -> 0
B58: Chirii, impozite, taxe stabilite conform reglementărilor legale în vigoare sau de către autorităţile locale | C58: Lei | E58: =J58+M58+P58 -> 0 | F58: =D58-E58 -> 0 | G58: =F58*$G$52 -> 0 | H58: =F58-G58 -> 0 | I58: =J58+K58 -> 0 | L58: =M58+N58 -> 0 | O58: =P58+Q58 -> 0 | R58: =S58+T58 -> 0 | U58: =V58+W58 -> 0
B59: Lucrari și servicii executate de terţi: | C59: Lei | D59: =D62+D63+D64+D65+D66+D67 -> 0 | E59: =E62+E63+E64+E65+E66+E67 -> 0 | F59: =F62+F63+F64+F65+F66+F67 -> 0 | G59: =G62+G63+G64+G65+G66+G67 -> 0 | H59: =H62+H63+H64+H65+H66+H67 -> 0 | I59: =I62+I63+I64+I65+I66+I67 -> 0 | J59: =J62+J63+J64+J65+J66+J67 -> 0 | K59: =K62+K63+K64+K65+K66+K67 -> 0 | ... W59: =W62+W63+W64+W65+W66+W67 -> 0
B60: lucrări de mentenanță | C60: Lei | E60: =J60+M60+P60 -> 0 | F60: =D60-E60 -> 0 | G60: =F60*$G$52 -> 0 | H60: =F60-G60 -> 0 | I60: =J60+K60 -> 0 | L60: =M60+N60 -> 0 | O60: =P60+Q60 -> 0 | R60: =S60+T60 -> 0 | U60: =V60+W60 -> 0
B61: contractare, facturare, încasare | C61: Lei | E61: =J61+M61+P61 -> 0 | F61: =D61-E61 -> 0 | G61: =F61*$G$52 -> 0 | H61: =F61-G61 -> 0 | I61: =J61+K61 -> 0 | L61: =M61+N61 -> 0 | O61: =P61+Q61 -> 0 | R61: =S61+T61 -> 0 | U61: =V61+W61 -> 0
B62: comisioane, onorarii | C62: Lei | E62: =J62+M62+P62 -> 0 | F62: =D62-E62 -> 0 | G62: =F62*$G$52 -> 0 | H62: =F62-G62 -> 0 | I62: =J62+K62 -> 0 | L62: =M62+N62 -> 0 | O62: =P62+Q62 -> 0 | R62: =S62+T62 -> 0 | U62: =V62+W62 -> 0
B63: protocol, reclamă, publicitate | C63: Lei | E63: =J63+M63+P63 -> 0 | F63: =D63-E63 -> 0 | G63: =F63*$G$52 -> 0 | H63: =F63-G63 -> 0 | I63: =J63+K63 -> 0 | L63: =M63+N63 -> 0 | O63: =P63+Q63 -> 0 | R63: =S63+T63 -> 0 | U63: =V63+W63 -> 0
B64: deplasari, detasari, transferari | C64: Lei | E64: =J64+M64+P64 -> 0 | F64: =D64-E64 -> 0 | G64: =F64*$G$52 -> 0 | H64: =F64-G64 -> 0 | I64: =J64+K64 -> 0 | L64: =M64+N64 -> 0 | O64: =P64+Q64 -> 0 | R64: =S64+T64 -> 0 | U64: =V64+W64 -> 0
B65: posta si telecomunicatii | C65: Lei | E65: =J65+M65+P65 -> 0 | F65: =D65-E65 -> 0 | G65: =F65*$G$52 -> 0 | H65: =F65-G65 -> 0 | I65: =J65+K65 -> 0 | L65: =M65+N65 -> 0 | O65: =P65+Q65 -> 0 | R65: =S65+T65 -> 0 | U65: =V65+W65 -> 0
B66: studii și cercetări | C66: Lei | E66: =J66+M66+P66 -> 0 | F66: =D66-E66 -> 0 | G66: =F66*$G$52 -> 0 | H66: =F66-G66 -> 0 | I66: =J66+K66 -> 0 | L66: =M66+N66 -> 0 | O66: =P66+Q66 -> 0 | R66: =S66+T66 -> 0 | U66: =V66+W66 -> 0
B67: alte servicii, colaborări | C67: Lei | E67: =J67+M67+P67 -> 0 | F67: =D67-E67 -> 0 | G67: =F67*$G$52 -> 0 | H67: =F67-G67 -> 0 | I67: =J67+K67 -> 0 | L67: =M67+N67 -> 0 | O67: =P67+Q67 -> 0 | R67: =S67+T67 -> 0 | U67: =V67+W67 -> 0
B68: Întreținere, reparare, verificare metrologică și înlocuire a grupurilor de măsurare | E68: =J68+M68+P68 -> 0 | F68: =D68-E68 -> 0 | H68: =F68-G68 -> 0 | I68: =J68+K68 -> 0 | L68: =M68+N68 -> 0 | O68: =P68+Q68 -> 0 | R68: =S68+T68 -> 0 | U68: =V68+W68 -> 0
A69: I.2. | B69: Costuri cu munca vie - total | C69: Lei | D69: =D70+D71+D73 -> 0 | E69: =E70+E71+E73 -> 0 | F69: =F70+F71+F73 -> 0 | G69: =G70+G71+G73 -> 0 | H69: =H70+H71+H73 -> 0 | I69: =I70+I71+I73 -> 0 | J69: =J70+J71+J73 -> 0 | K69: =K70+K71+K73 -> 0 | ... W69: =W70+W71+W73 -> 0
B70: Salarii | C70: Lei | E70: =J70+M70+P70 -> 0 | F70: =D70-E70 -> 0 | G70: =F70*$G$52 -> 0 | H70: =F70-G70 -> 0 | I70: =J70+K70 -> 0 | L70: =M70+N70 -> 0 | O70: =P70+Q70 -> 0 | R70: =S70+T70 -> 0 | U70: =V70+W70 -> 0
B71: Contribuţia angajatorului asiguratorie pentru muncă (CAM) | C71: Lei | E71: =J71+M71+P71 -> 0 | F71: =D71-E71 -> 0 | G71: =F71*$G$52 -> 0 | H71: =F71-G71 -> 0 | I71: =J71+K71 -> 0 | L71: =M71+N71 -> 0 | O71: =P71+Q71 -> 0 | R71: =S71+T71 -> 0 | U71: =V71+W71 -> 0
B72: Contribuția angajatorului la fondul de handicap | C72: Lei
B73: Alte costuri cu munca vie (tichete de masa, prime, alte contribuții, etc.) | C73: Lei | E73: =J73+M73+P73 -> 0 | F73: =D73-E73 -> 0 | G73: =F73*$G$52 -> 0 | H73: =F73-G73 -> 0 | I73: =J73+K73 -> 0 | L73: =M73+N73 -> 0 | O73: =P73+Q73 -> 0 | R73: =S73+T73 -> 0 | U73: =V73+W73 -> 0
A74: I.3. | B74: Amortizare | C74: Lei | E74: =J74+M74+P74 -> 0 | F74: =D74-E74 -> 0 | G74: =F74*$G$52 -> 0 | H74: =F74-G74 -> 0 | I74: =J74+K74 -> 0 | L74: =M74+N74 -> 0 | O74: =P74+Q74 -> 0 | R74: =S74+T74 -> 0 | U74: =V74+W74 -> 0
A75: I.4. | B75: Redevente | C75: Lei | E75: =J75+M75+P75 -> 0 | F75: =D75-E75 -> 0 | G75: =F75*$G$52 -> 0 | H75: =F75-G75 -> 0 | I75: =J75+K75 -> 0 | L75: =M75+N75 -> 0 | O75: =P75+Q75 -> 0 | R75: =S75+T75 -> 0 | U75: =V75+W75 -> 0
A76: I.5. | B76: Costuri pentru protectia mediului | C76: Lei | E76: =J76+M76+P76 -> 0 | F76: =D76-E76 -> 0 | G76: =F76*$G$52 -> 0 | H76: =F76-G76 -> 0 | I76: =J76+K76 -> 0 | L76: =M76+N76 -> 0 | O76: =P76+Q76 -> 0 | R76: =S76+T76 -> 0 | U76: =V76+W76 -> 0
A77: I.6. | B77: Costuri financiare | C77: Lei | E77: =J77+M77+P77 -> 0 | F77: =D77-E77 -> 0 | G77: =F77*$G$52 -> 0 | H77: =F77-G77 -> 0 | I77: =J77+K77 -> 0 | L77: =M77+N77 -> 0 | O77: =P77+Q77 -> 0 | R77: =S77+T77 -> 0 | U77: =V77+W77 -> 0
A78: I.7. | B78: Alte costuri | C78: Lei | E78: =J78+M78+P78 -> 0 | F78: =D78-E78 -> 0 | G78: =F78*$G$52 -> 0 | H78: =F78-G78 -> 0 | I78: =J78+K78 -> 0 | L78: =M78+N78 -> 0 | O78: =P78+Q78 -> 0 | R78: =S78+T78 -> 0 | U78: =V78+W78 -> 0
A79: II. | B79: Energie termică livrată - realizat | C79: MWh
B81: *- Nu se introduce cheia de repartizare, dacă se utilizează programe informatice de contabilitate de gestiune și cheia nu poate fi definită
W83: ANEXA 5.3
B84: Chei de verificare - realizat
B85: Cheltuieli directe | D85: =IF(E54=SUM(J54,M54,P54),"OK","ERR!") -> OK
B86: Cheltuieli indirecte | D86: =IF(G54=SUM(K54,N54,Q54),"OK","ERR!") -> OK
B87: Solicitant | D87: =D44 -> (Denumire operator economic solicitant)
B88: Data solicitării avizului: | D88: =D45 -> zz.ll.aaa
A90: Nr crt. | B90: Specificație | C90: U.M. | D90: Pret/Tarif propus
D91: COSTURI FIXE | I91: Producere CT/ CTZ | L91: Producere CT cvartal | O91: Producere CT imobil/scara | R91: Transport | U91: Distribuție
D92: Total | E92: Directe | F92: Indirecte
F93: Indirecte- Total | G93: Indirecte -energie termică | H93: Indirecte -Alte activități | I93: Total | J93: Directe | K93: Indirecte | L93: Total | M93: Directe | N93: Indirecte | O93: Total | P93: Directe | Q93: Indirecte | R93: Total | S93: Directe | T93: Indirecte | U93: Total | V93: Directe | W93: Indirecte
A94: 0 | B94: 1 | C94: 2 | D94: 3 | E94: 4 | F94: 5 | G94: 6 | H94: 7 | I94: 8 | J94: 9 | K94: 10 | L94: 11 | M94: 12 | N94: 13 | O94: 14 | P94: 15 | Q94: 16 | R94: 17 | S94: 18 | T94: 19 | U94: 20 | V94: 21 | W94: 22
B95: Cheie de repartizare 1*: alte activități - en termica | F95: =G95+H95 -> 0
B96: Cheie de repartizare 2*: energie termica | G96: =SUM(K96,N96,Q96,#REF!) -> #REF! | T96: =100%-G96 -> #REF! | W96: =100%-J96 -> 1
A97: I. | B97: Costuri fixe - TOTAL, din care: | C97: Lei | D97: =D98+D112+D117+D118+D119+D120+D121 -> 0 | E97: =E98+E112+E117+E118+E119+E120+E121 -> 0 | F97: =F98+F112+F117+F118+F119+F120+F121 -> 0 | G97: =G98+G112+G117+G118+G119+G120+G121 -> 0 | H97: =H98+H112+H117+H118+H119+H120+H121 -> 0 | I97: =I98+I112+I117+I118+I119+I120+I121 -> 0 | J97: =J98+J112+J117+J118+J119+J120+J121 -> 0 | K97: =K98+K112+K117+K118+K119+K120+K121 -> 0 | ... W97: =W98+W112+W117+W118+W119+W120+W121 -> 0
A98: I.1. | B98: Costuri de operare şi mentenenţă: | C98: Lei | D98: =D99+D100+D101+D102 -> 0 | E98: =E99+E100+E101+E102 -> 0 | F98: =F99+F100+F101+F102 -> 0 | G98: =G99+G100+G101+G102 -> 0 | H98: =H99+H100+H101+H102 -> 0 | I98: =I99+I100+I101+I102 -> 0 | J98: =J99+J100+J101+J102 -> 0 | K98: =K99+K100+K101+K102 -> 0 | ... W98: =W99+W100+W101+W102 -> 0
B99: Materii prime, Materiale | C99: Lei | E99: =J99+M99+P99 -> 0 | F99: =D99-E99 -> 0 | G99: =F99*$G$95 -> 0 | H99: =F99-G99 -> 0 | I99: =J99+K99 -> 0 | L99: =M99+N99 -> 0 | O99: =P99+Q99 -> 0 | R99: =S99+T99 -> 0 | U99: =V99+W99 -> 0
B100: Utilităţi: energie electrică, gaze naturale, apă potabilă | C100: Lei | E100: =J100+M100+P100 -> 0 | F100: =D100-E100 -> 0 | G100: =F100*$G$95 -> 0 | H100: =F100-G100 -> 0 | I100: =J100+K100 -> 0 | L100: =M100+N100 -> 0 | O100: =P100+Q100 -> 0 | R100: =S100+T100 -> 0 | U100: =V100+W100 -> 0
B101: Chirii, impozite, taxe stabilite conform reglementărilor legale în vigoare sau de către autorităţile locale | C101: Lei | E101: =J101+M101+P101 -> 0 | F101: =D101-E101 -> 0 | G101: =F101*$G$95 -> 0 | H101: =F101-G101 -> 0 | I101: =J101+K101 -> 0 | L101: =M101+N101 -> 0 | O101: =P101+Q101 -> 0 | R101: =S101+T101 -> 0 | U101: =V101+W101 -> 0
B102: Lucrari și servicii executate de terţi: | C102: Lei | D102: =D105+D106+D107+D108+D109+D110 -> 0 | E102: =E105+E106+E107+E108+E109+E110 -> 0 | F102: =F105+F106+F107+F108+F109+F110 -> 0 | G102: =G105+G106+G107+G108+G109+G110 -> 0 | H102: =H105+H106+H107+H108+H109+H110 -> 0 | I102: =I105+I106+I107+I108+I109+I110 -> 0 | J102: =J105+J106+J107+J108+J109+J110 -> 0 | K102: =K105+K106+K107+K108+K109+K110 -> 0 | ... W102: =W105+W106+W107+W108+W109+W110 -> 0
B103: lucrări de mentenanță | C103: Lei | E103: =J103+M103+P103 -> 0 | F103: =D103-E103 -> 0 | G103: =F103*$G$95 -> 0 | H103: =F103-G103 -> 0 | I103: =J103+K103 -> 0 | L103: =M103+N103 -> 0 | O103: =P103+Q103 -> 0 | R103: =S103+T103 -> 0 | U103: =V103+W103 -> 0
B104: contractare, facturare, încasare | C104: Lei | E104: =J104+M104+P104 -> 0 | F104: =D104-E104 -> 0 | G104: =F104*$G$95 -> 0 | H104: =F104-G104 -> 0 | I104: =J104+K104 -> 0 | L104: =M104+N104 -> 0 | O104: =P104+Q104 -> 0 | R104: =S104+T104 -> 0 | U104: =V104+W104 -> 0
B105: comisioane, onorarii | C105: Lei | E105: =J105+M105+P105 -> 0 | F105: =D105-E105 -> 0 | G105: =F105*$G$95 -> 0 | H105: =F105-G105 -> 0 | I105: =J105+K105 -> 0 | L105: =M105+N105 -> 0 | O105: =P105+Q105 -> 0 | R105: =S105+T105 -> 0 | U105: =V105+W105 -> 0
B106: protocol, reclamă, publicitate | C106: Lei | E106: =J106+M106+P106 -> 0 | F106: =D106-E106 -> 0 | G106: =F106*$G$95 -> 0 | H106: =F106-G106 -> 0 | I106: =J106+K106 -> 0 | L106: =M106+N106 -> 0 | O106: =P106+Q106 -> 0 | R106: =S106+T106 -> 0 | U106: =V106+W106 -> 0
B107: deplasari, detasari, transferari | C107: Lei | E107: =J107+M107+P107 -> 0 | F107: =D107-E107 -> 0 | G107: =F107*$G$95 -> 0 | H107: =F107-G107 -> 0 | I107: =J107+K107 -> 0 | L107: =M107+N107 -> 0 | O107: =P107+Q107 -> 0 | R107: =S107+T107 -> 0 | U107: =V107+W107 -> 0
B108: posta si telecomunicatii | C108: Lei | E108: =J108+M108+P108 -> 0 | F108: =D108-E108 -> 0 | G108: =F108*$G$95 -> 0 | H108: =F108-G108 -> 0 | I108: =J108+K108 -> 0 | L108: =M108+N108 -> 0 | O108: =P108+Q108 -> 0 | R108: =S108+T108 -> 0 | U108: =V108+W108 -> 0
...

Sheet Anexa 6_Bilant ET
F1: Anexa 6
B3: Solicitant | C3: ='Anexa 3_Operator_total'!$D$1 -> (Denumire operator economic solicitant)
B4: Data solicitarii | C4: ='Anexa 3_Operator_total'!$D$2 -> zz.ll.aaa
D6: MACHETA
A7: cu Bilantul energiei termice - Preț/tarif actual - Realizări în ultimele 12 luni - Preț/tarif propus
A9: Nr. crt. | B9: Parametru | C9: U.M. | D9: Pret/Tarif actual | E9: Realizat în ultimele 12 luni | F9: Pret/Tarif Propus
A10: 1 | B10: 2 | C10: 3 | D10: 4 | E10: 5 | F10: 6
A11: 1. | B11: Cantitate totala ET produsă în centrale termice | C11: MWh | D11: =D12+D13+D14 -> 0 | E11: =E12+E13+E14 -> 0 | F11: =F12+F13+F14 -> 0
A12: 1.1. | B12: Cantitate totala ET produsa pt livrare, în centrala CT /CTZ | C12: MWh
A13: 1.2. | B13: Cantitate totala ET produsa pt livrare, in centrala CT cvartal | C13: MWh
A14: 1.3. | B14: Cantitate totala ET produsa pt. livrare, in centrala CT imobil/scară | C14: MWh
A15: 2 | B15: Cantitate totala ET produsă pt livrare | C15: MWh | D15: =D11 -> 0 | E15: =E11 -> 0 | F15: =F11 -> 0
A16: 2.1. | B16: Cantitate ET livrata la consumatori de la gardul centralelor | C16: MWh
A17: 2.2. | B17: Cantitate ET livrata in RT | C17: MWh | D17: =D15-D16 -> 0 | E17: =E15-E16 -> 0
A18: 3 | B18: Cantitate ET achizitionata de la terti si intrata in RT: | C18: MWh | D18: =D19+D20+D21 -> 0 | E18: =E19+E20+E21 -> 0
A19: 3.1 | B19: producator 1 | C19: MWh
A20: 3.2 | B20: producator 2 | C20: MWh
A21: 3.3 | B21: producator 3 | C21: MWh
A22: 4 | B22: Pret mediu achizitie ET de la terti | C22: lei/MWh | D22: =(D19*D23+D20*D24+D21*D25)/D18 -> #DIV/0! | E22: =(E19*E23+E20*E24+E21*E25)/E18 -> #DIV/0!
A23: 4.1 | B23: producator 1 | C23: lei/MWh
A24: 4.2 | B24: producator 2 | C24: lei/MWh
A25: 4.3 | B25: producator 3 | C25: lei/MWh
A26: 5 | B26: Cantitate totala ET intrata in RT | C26: MWh | D26: =D17+D18 -> 0 | E26: =E17+E18 -> 0 | F26: =F27+F31 -> 0
A27: 6 | B27: Cantitate totala ET livrata din RT | D27: =D28+D29 -> 0 | E27: =E28+E29 -> 0 | F27: =F28+F29 -> 0
A28: 6.1. | B28: Cantitate ET livrata la consumatori din RT | C28: MWh
A29: 6.2. | B29: Cantitate ET livrata in RD din RT | C29: MWh
A30: 7 | B30: Pierderi in RT
A31: 7.1. | B31: Cantitate pierdere totala in RT | C31: MWh | D31: =D26-D27 -> 0 | E31: =E26-E27 -> 0
A32: 7.2. | B32: Procent pierdere totala in RT | C32: % | D32: =D31/D26*100 -> #DIV/0! | E32: =E31/E26*100 -> #DIV/0! | F32: * | G32: pierderea tehnologică în RT cf. Bilantului
A33: 8 | B33: Cantitate totala ET intrata direct in RD din CT
A34: 9 | B34: Cantitate totala ET intrata direct in RD din CT cvartal
A35: 10 | B35: Cantitate totala ET intrata direct in RD din CTZ
A36: 11 | B36: Cantitate totala ET intrata in RD din RT | C36: MWh | D36: =D29+D35 -> 0 | E36: =E29+E35 -> 0
A37: 12 | B37: Cantitate totala ET intrata in RD | D37: =D33+D34+D35+D36 -> 0
A38: 12.1 | B38: Cantitate ET livrata la consumatori din RD | C38: MWh
A39: 13 | B39: Pierderi in RD
A40: 13.1 | B40: Cantitate pierdere totala in RD | C40: MWh | D40: =D36-D38 -> 0 | E40: =E36-E38 -> 0
A41: 13.2 | B41: Procent pierdere totala in RD | C41: % | D41: =D40/D36*100 -> #DIV/0! | E41: =E40/E36*100 -> #DIV/0! | F41: * | G41: pierderea tehnologică în RD cf. Bilantului
B43: * Se introduce valoarea pierderilor tehnologice aprobate de AAPL

Sheet Anexa 7_PLF
I1: ANEXA 7
B2: Solicitant (denumire operator economic) | D2: ='Anexa 3_Operator_total'!D1 -> (Denumire operator economic solicitant)
B3: Data solicitării: | D3: ='Anexa 3_Operator_total'!$D$2 -> zz.ll.aaa
B4: Localitate | D4: ='Anexa 3_Operator_total'!D4:G4 -> Localitate
B6: FIŞA DE CALCUL - PREȚUL LOCAL DE FURNIZARE A ENERGIEI TERMICE
B8: Nr. crt. | C8: Elemente de calcul | D8: UM | E8: Preț în vigoare | F8: Preț Propus
F9: consumatori alimentati de la gardul centralei | G9: consumatori alimentati din reteaua de transport | H9: consumatori alimentati din reteaua de distributie | I9: …… ……
B10: 0 | C10: 1 | D10: 2 | E10: 3 | F10: 4 | G10: 5 | H10: 6
B11: I. | C11: PRET MEDIU PRODUCERE | D11: lei/MWh
C12: ▪ cantitate energie termica livrata din sursa 1 | D12: MWh
C13: ▪ pret producere sursa 1 | D13: lei/MWh
C15: ▪ cantitate energie termica livrata din sursa 2 | D15: MWh
C16: ▪ pret producere sursa 2 | D16: lei/MWh
C18: ▪ cantitate energie termica livrata din sursa 3 | D18: MWh
C19: ▪ pret producere sursa 3 | D19: lei/MWh
C21: ▪ cantitate energie termica livrata din sursa 4 | D21: MWh
C22: ▪ pret producere sursa 4 | D22: lei/MWh
C25: TOTAL CANTITATE LIVRATĂ DE PRODUCĂTORI | D25: MWh | E25: =E12+E15+E18+E21 -> 0 | F25: =F12+F15+F18+F21 -> 0 | G25: =G12+G15+G18+G21 -> 0 | H25: =H12+H15+H18+H21 -> 0
B26: II. | C26: TARIF TRANSPORT | D26: lei/MWh
B27: III. | C27: COEFICIENT UTILIZARE REȚEA TRANSPORT | D27: 0 / 1
B28: IV. | C28: TARIF DISTRIBUȚIE | D28: lei/MWh
B30: V. | C30: PREŢ LOCAL (V= I + II x III + IV) | D30: lei/MWh | E30: =E11+E26*E27+E28 -> 0 | F30: =F11+F26*F27+F28 -> 0 | G30: =G11+G26*G27+G28 -> 0 | H30: =H11+H26*H27+H28 -> 0

Sheet Anexa 8_Personal
B2: Solicitant | D2: ='Anexa 3_Operator_total'!$D$1 -> (Denumire operator economic solicitant) | P2: ANEXA 8.1 | W2: ANEXA 8.2
B3: Data solicitării: | D3: ='Anexa 3_Operator_total'!D2 -> zz.ll.aaa
A5: Numarul de personal repartizat pe activități
A7: Nr. crt. | B7: Nr. mediu personal / Activitate | C7: Preț/Tarif actual (în vigoare) | J7: Realizat ultimele 12 luni (perioada: .... - ...) | Q7: Preț/Tarif propus
C8: Număr personal direct | D8: Fond anual salarii brute directe* | E8: Număr personal indirect | F8: Fond anual salarii brute indirecte | G8: Total număr personal | H8: Total fond anual salarii brute | I8: Salariu mediu lunar brut | J8: Număr personal direct | K8: Fond anual salarii brute directe* | L8: Număr personal indirect | M8: Fond anual salarii brute indirecte | N8: Total număr personal | O8: Total fond anual salarii brute | P8: Salariu mediu lunar brut | Q8: Număr personal direct | R8: Fond anual salarii brute directe** | S8: Număr personal indirect | T8: Fond anual salarii brute indirecte | U8: Total număr personal | V8: Total fond anual salarii brute | W8: Salariu mediu lunar brut
C9: nr. | D9: Lei | E9: nr. | F9: Lei | G9: nr. | H9: lei | I9: Lei/pers/lună | J9: nr. | K9: Lei | L9: nr. | M9: Lei | N9: nr. | O9: lei | P9: Lei/pers/lună | Q9: nr. | R9: Lei | S9: nr. | T9: Lei | U9: nr. | V9: lei | W9: Lei/pers/lună
A10: 0 | B10: 1 | C10: 2 | D10: 3 | E10: 4 | F10: 5 | G10: 6 | H10: 7 | I10: 8 | J10: 9 | K10: 10 | L10: 11 | M10: 12 | N10: 13 | O10: 14 | P10: 15 | Q10: 16 | R10: 17 | S10: 18 | T10: 19 | U10: 20 | V10: 21 | W10: 22
B11: Cheia de repartizare: | C11: =G11-E11 -> 1 | D11: - | E11: 0 | F11: - | G11: 1 | H11: 0.08 | J11: =N11-L11 -> 1 | K11: - | M11: - | N11: 1 | Q11: =U11-S11 -> 1 | R11: - | T11: - | U11: 1 | V11: -
A12: 1 | B12: Producere CT/CTZ - total | C12: =SUM(C13:C18) -> 0 | D12: =SUM(D13:D18) -> 0 | E12: =SUM(E13:E18) -> 0 | F12: =SUM(F13:F18) -> 0 | G12: =C12+E12 -> 0 | H12: =D12+F12 -> 0 | I12: 0 | J12: =SUM(J13:J18) -> 0 | K12: =SUM(K13:K18) -> 0 | L12: =SUM(L13:L18) -> 0 | M12: =SUM(M13:M18) -> 0 | N12: =J12+L12 -> 0 | O12: =K12+M12 -> 0 | P12: 0 | Q12: =SUM(Q13:Q18) -> 0 | R12: =SUM(R13:R18) -> 0 | S12: =SUM(S13:S18) -> 0 | T12: =SUM(T13:T18) -> 0 | U12: =Q12+S12 -> 0 | V12: =R12+T12 -> 0 | W12: =V12/U12/12 -> #DIV/0!
B13: categoria 1**
B14: categoria 2
B15: categoria 3
B16: categoria 4
B17: categoria 5
B18: …
A19: 2 | B19: Producere CT cvartal - total | C19: =SUM(C20:C25) -> 0 | D19: =SUM(D20:D25) -> 0 | E19: =SUM(E20:E25) -> 0 | F19: =SUM(F20:F25) -> 0 | G19: =C19+E19 -> 0 | H19: =D19+F19 -> 0 | I19: 0 | J19: =SUM(J20:J25) -> 0 | K19: =SUM(K20:K25) -> 0 | L19: =SUM(L20:L25) -> 0 | M19: =SUM(M20:M25) -> 0 | N19: =J19+L19 -> 0 | O19: =K19+M19 -> 0 | P19: 0 | Q19: =SUM(Q20:Q25) -> 0 | R19: =SUM(R20:R25) -> 0 | S19: =SUM(S20:S25) -> 0 | T19: =SUM(T20:T25) -> 0 | U19: =Q19+S19 -> 0 | V19: =R19+T19 -> 0 | W19: =V19/U19/12 -> #DIV/0!
B20: categoria 1
B21: categoria 2
B22: categoria 3
B23: categoria 4
B24: categoria 5
B25: …
A26: 3 | B26: Producere CT imobil/scară - total | C26: =SUM(C27:C32) -> 0 | D26: =SUM(D27:D32) -> 0 | E26: =SUM(E27:E32) -> 0 | F26: =SUM(F27:F32) -> 0 | G26: =C26+E26 -> 0 | H26: =D26+F26 -> 0 | I26: 0 | J26: =SUM(J27:J32) -> 0 | K26: =SUM(K27:K32) -> 0 | L26: =SUM(L27:L32) -> 0 | M26: =SUM(M27:M32) -> 0 | N26: =J26+L26 -> 0 | O26: =K26+M26 -> 0 | P26: 0 | Q26: =SUM(Q27:Q32) -> 0 | R26: =SUM(R27:R32) -> 0 | S26: =SUM(S27:S32) -> 0 | T26: =SUM(T27:T32) -> 0 | U26: =Q26+S26 -> 0 | V26: =R26+T26 -> 0 | W26: =V26/U26/12 -> #DIV/0!
B27: categoria 1
B28: categoria 2
B29: categoria 3
B30: categoria 4
B31: categoria 5
B32: …
A33: 4 | B33: Transport - total | C33: =SUM(C34:C39) -> 0 | D33: =SUM(D34:D39) -> 0 | E33: =SUM(E34:E39) -> 0 | F33: =SUM(F34:F39) -> 0 | G33: =C33+E33 -> 0 | H33: =D33+F33 -> 0 | I33: 0 | J33: =SUM(J34:J39) -> 0 | K33: =SUM(K34:K39) -> 0 | L33: =SUM(L34:L39) -> 0 | M33: =SUM(M34:M39) -> 0 | N33: =J33+L33 -> 0 | O33: =K33+M33 -> 0 | P33: 0 | Q33: =SUM(Q34:Q39) -> 0 | R33: =SUM(R34:R39) -> 0 | S33: =SUM(S34:S39) -> 0 | T33: =SUM(T34:T39) -> 0 | U33: =Q33+S33 -> 0 | V33: =R33+T33 -> 0 | W33: =V33/U33/12 -> #DIV/0!
B34: categoria 1
B35: categoria 2
B36: categoria 3
B37: categoria 4
B38: categoria 5
B39: …
A40: 5 | B40: Distributie - total | C40: =SUM(C41:C46) -> 0 | D40: =SUM(D41:D46) -> 0 | E40: =SUM(E41:E46) -> 0 | F40: =SUM(F41:F46) -> 0 | G40: =C40+E40 -> 0 | H40: =D40+F40 -> 0 | I40: 0 | J40: =SUM(J41:J46) -> 0 | K40: =SUM(K41:K46) -> 0 | L40: =SUM(L41:L46) -> 0 | M40: =SUM(M41:M46) -> 0 | N40: =J40+L40 -> 0 | O40: =K40+M40 -> 0 | P40: 0 | Q40: =SUM(Q41:Q46) -> 0 | R40: =SUM(R41:R46) -> 0 | S40: =SUM(S41:S46) -> 0 | T40: =SUM(T41:T46) -> 0 | U40: =Q40+S40 -> 0 | V40: =R40+T40 -> 0 | W40: 0
B41: categoria 1
B42: categoria 2
B43: categoria 3
B44: categoria 4
B45: categoria 5
B46: …
A47: 6 | B47: Activități integrate - total | C47: =SUM(C48:C53) -> 0 | D47: =SUM(D48:D53) -> 0 | E47: =SUM(E48:E53) -> 0 | F47: =SUM(F48:F53) -> 0 | G47: =C47+E47 -> 0 | H47: =D47+F47 -> 0 | I47: 0 | J47: =SUM(J48:J53) -> 0 | K47: =SUM(K48:K53) -> 0 | L47: =SUM(L48:L53) -> 0 | M47: =SUM(M48:M53) -> 0 | N47: =J47+L47 -> 0 | O47: =K47+M47 -> 0 | P47: 0 | Q47: =SUM(Q48:Q53) -> 0 | R47: =SUM(R48:R53) -> 0 | S47: =SUM(S48:S53) -> 0 | T47: =SUM(T48:T53) -> 0 | U47: =Q47+S47 -> 0 | V47: =R47+T47 -> 0 | W47: 0
B48: categoria 1
B49: categoria 2
B50: categoria 3
B51: categoria 4
B52: categoria 5
B53: …
B54: TOTAL | C54: =SUM(C12:C40) -> 0 | D54: =SUM(D12:D40) -> 0 | E54: =SUM(E12:E40) -> 0 | F54: =SUM(F12:F40) -> 0 | G54: =C54+E54 -> 0 | H54: =D54+F54 -> 0 | I54: 0 | J54: =SUM(J12:J40) -> 0 | K54: =SUM(K12:K40) -> 0 | L54: =SUM(L12:L40) -> 0 | M54: =SUM(M12:M40) -> 0 | N54: =J54+L54 -> 0 | O54: =K54+M54 -> 0 | P54: 0 | Q54: =SUM(Q12:Q40) -> 0 | R54: =SUM(R12:R40) -> 0 | S54: =SUM(S12:S40) -> 0 | T54: =SUM(T12:T40) -> 0 | U54: =Q54+S54 -> 0 | V54: =R54+T54 -> 0 | W54: 0
A55: Notă: | B55: * inclusiv sporurile (prevăzute în Contractul colectiv de muncă)
B56: ** Se completează cu tipul categoriei de personal, conform organigramei operatorului economic solicitant. | D56: Exemple de categorii de personal: personal necalificat, instalatori, sudori, maistri, tehnicieni, ingineri, TESA
