Workbook

Sheet Instructuni completare
A3: Instrucțiuni completare:
A4: 1 | B4: Machetele nu vor fi modificate prin introducerea unor noi coloane între cele existente
A5: 2 | B5: Machetele pot fi extinse prin introducerea unor noi rânduri intre cele existente, corespunzătoare numărului de dosare şi diametre raportate
A6: 3 | B6: Introducerea de noi rânduri aferente unor noi dosare se realizează prin poziționarea între rândurile cu textul Dosarul nr. 1 şi Dosarul nr x pentru a nu afecta formulele de calcul
A7: 4 | B7: Orice explicație legată de datele raportate se va completa în rubrica de observații
A8: 5 | B8: Datele vor fi completate exclusiv în celulele marcate cu culoarea galben
A9: 6 | B9: Celulele marcate cu culoarea gri nu vor fi modificate
A10: 7 | B10: Pentru activitatea desfășurată până la data de 31.12.2018 machetele vor fi completate cumulat la nivel de lună, fără detaliere pe fiecare dosar de racordare
A11: 8 | B11: Pentru activitatea desfășurată începând cu data de 1 ianuarie 2019 machetele vor fi completate detaliat la nivel de dosar de racordare

Sheet Centralizator activitate
A2: Denumire operator | B2: Luna/Anul | C2: Cereri racordare [buc] | D2: ATP emise [buc] | E2: ATR emise [buc] | F2: Refuzuri racordare [buc] | G2: Branșamente realizate [buc] | P2: Durata medie racordare [zile] | Q2: Contestații soluție tehnica racordare [buc] | R2: Contestații tarif stabilit de OS [buc]
G3: Total, din care: [buc] | H3: Total OL, din care: [buc] | I3: OL | K3: Total PE, din care: [buc] | L3: PE | N3: Total branșamente fără SR/SM/SRM [buc] | O3: Total branșamente cu SR/SM/SRM [buc]
A4: …………………………….. | I4: fără SR/SM/SRM [buc] | J4: cu SR/SM/SRM [buc] | L4: fără SR/SM/SRM [buc] | M4: cu SR/SM/SRM [buc]
A5: Total racordări | B5: Total trimestru | C5: =SUM(C6:C8) -> 0 | D5: =SUM(D6:D8) -> 0 | E5: =SUM(E6:E8) -> 0 | F5: =SUM(F6:F8) -> 0 | G5: =H5+K5 -> 0 | H5: =I5+J5 -> 0 | I5: =SUM(I6:I8) -> 0 | J5: =SUM(J6:J8) -> 0 | K5: =L5+M5 -> 0 | L5: =SUM(L6:L8) -> 0 | M5: =SUM(M6:M8) -> 0 | N5: =I5+L5 -> 0 | O5: =J5+M5 -> 0 | P5: =SUM(P6:P8)/3 -> 0 | Q5: =SUM(Q6:Q8) -> 0 | R5: =SUM(R6:R8) -> 0
B6: Luna ......./Anul........ | C6: =C10+C14 -> 0 | D6: =D10+D14 -> 0 | E6: =E10+E14 -> 0 | F6: =F10+F14 -> 0 | G6: =H6+K6 -> 0 | H6: =I6+J6 -> 0 | I6: =I10+I14 -> 0 | J6: =J10+J14 -> 0 | K6: =L6+M6 -> 0 | L6: =L10+L14 -> 0 | M6: =M10+M14 -> 0 | N6: =I6+L6 -> 0 | O6: =J6+M6 -> 0 | P6: =P10+P14 -> 0 | Q6: =Q10+Q14 -> 0 | R6: =R14 -> 0
B7: Luna ......./Anul........ | C7: =C11+C15 -> 0 | D7: =D11+D15 -> 0 | E7: =E11+E15 -> 0 | F7: =F11+F15 -> 0 | G7: =H7+K7 -> 0 | H7: =I7+J7 -> 0 | I7: =I11+I15 -> 0 | J7: =J11+J15 -> 0 | K7: =L7+M7 -> 0 | L7: =L11+L15 -> 0 | M7: =M11+M15 -> 0 | N7: =I7+L7 -> 0 | O7: =J7+M7 -> 0 | P7: =P11+P15 -> 0 | Q7: =Q11+Q15 -> 0 | R7: =R15 -> 0
B8: Luna ......./Anul........ | C8: =C12+C16 -> 0 | D8: =D12+D16 -> 0 | E8: =E12+E16 -> 0 | F8: =F12+F16 -> 0 | G8: =H8+K8 -> 0 | H8: =I8+J8 -> 0 | I8: =I12+I16 -> 0 | J8: =J12+J16 -> 0 | K8: =L8+M8 -> 0 | L8: =L12+L16 -> 0 | M8: =M12+M16 -> 0 | N8: =I8+L8 -> 0 | O8: =J8+M8 -> 0 | P8: =P12+P16 -> 0 | Q8: =Q12+Q16 -> 0 | R8: =R16 -> 0
A9: Racordări pe bază de tarif reglementat | B9: Total trimestru | C9: =SUM(C10:C12) -> 0 | D9: =SUM(D10:D12) -> 0 | E9: =SUM(E10:E12) -> 0 | F9: =SUM(F10:F12) -> 0 | G9: =H9+K9 -> 0 | H9: =I9+J9 -> 0 | I9: =SUM(I10:I12) -> 0 | J9: =SUM(J10:J12) -> 0 | K9: =L9+M9 -> 0 | L9: =SUM(L10:L12) -> 0 | M9: =SUM(M10:M12) -> 0 | N9: =I9+L9 -> 0 | O9: =J9+M9 -> 0 | P9: =SUM(P10:P12)/3 -> 0 | Q9: =SUM(Q10:Q12) -> 0
B10: =B6 -> Luna ......./Anul........ | G10: =H10+K10 -> 0 | H10: =I10+J10 -> 0 | K10: =L10+M10 -> 0 | N10: =I10+L10 -> 0 | O10: =J10+M10 -> 0
B11: =B7 -> Luna ......./Anul........ | G11: =H11+K11 -> 0 | H11: =I11+J11 -> 0 | K11: =L11+M11 -> 0 | N11: =I11+L11 -> 0 | O11: =J11+M11 -> 0
B12: =B8 -> Luna ......./Anul........ | G12: =H12+K12 -> 0 | H12: =I12+J12 -> 0 | K12: =L12+M12 -> 0 | N12: =I12+L12 -> 0 | O12: =J12+M12 -> 0
A13: Racordări pe bază de deviz | B13: Total trimestru | C13: =SUM(C14:C16) -> 0 | D13: =SUM(D14:D16) -> 0 | E13: =SUM(E14:E16) -> 0 | F13: =SUM(F14:F16) -> 0 | G13: =H13+K13 -> 0 | H13: =I13+J13 -> 0 | I13: =SUM(I14:I16) -> 0 | J13: =SUM(J14:J16) -> 0 | K13: =L13+M13 -> 0 | L13: =SUM(L14:L16) -> 0 | M13: =SUM(M14:M16) -> 0 | N13: =I13+L13 -> 0 | O13: =J13+M13 -> 0 | P13: =SUM(P14:P16)/3 -> 0 | Q13: =SUM(Q14:Q16) -> 0 | R13: =SUM(R14:R16) -> 0
B14: =B6 -> Luna ......./Anul........ | G14: =H14+K14 -> 0 | H14: =I14+J14 -> 0 | K14: =L14+M14 -> 0 | N14: =I14+L14 -> 0 | O14: =J14+M14 -> 0
B15: =B7 -> Luna ......./Anul........ | G15: =H15+K15 -> 0 | H15: =I15+J15 -> 0 | K15: =L15+M15 -> 0 | N15: =I15+L15 -> 0 | O15: =J15+M15 -> 0
B16: =B8 -> Luna ......./Anul........ | G16: =H16+K16 -> 0 | H16: =I16+J16 -> 0 | K16: =L16+M16 -> 0 | N16: =I16+L16 -> 0 | O16: =J16+M16 -> 0
F17: Check 1 | G17: =G5-D26 -> 0 | H17: =H5-D27 -> 0 | K17: =K5-D28 -> 0
F18: Check 2 | G18: =G9-D38 -> 0 | H18: =H9-D39 -> 0 | K18: =K9-D40 -> 0
F19: Check 3 | G19: =G13-D50 -> 0 | H19: =H13-D51 -> 0 | K19: =K13-D52 -> 0
A24: Denumire operator | B24: Luna/Anul | C24: Tip branșament | D24: Nr. branșamente [buc] | E24: Lungime branșament [m] | F24: Costuri/venituri totale branșamente, din care: | I24: Componenta T(P) | K24: Componenta T(V) | M24: Componenta T(E), din care | Q24: Componenta c(s) | U24: Componenta c(m) | Y24: Componenta C(S) | AC24: Componenta T(U)
A25: =A4 -> …………………………….. | F25: Diferența dintre venituri si costuri | G25: Venituri realizate [lei] | H25: Costuri realizate [lei] | I25: Venituri realizate [lei] | J25: Costuri realizate [lei] | K25: Venituri realizate [lei] | L25: Costuri realizate [lei] | M25: Venituri realizate [lei] | N25: Costuri realizate, din care: [lei] | O25: Costuri cu materialele [lei] | P25: Costuri cu personalul [lei] | Q25: Venituri realizate [lei] | R25: Costuri realizate, din care: [lei] | S25: Costuri cu materialele [lei] | T25: Costuri cu personalul [lei] | U25: Venituri realizate [lei] | V25: Costuri realizate, din care: [lei] | W25: Costuri cu materialele [lei] | X25: Costuri cu personalul [lei] | Y25: Venituri realizate [lei] | Z25: Costuri realizate, din care: [lei] | AA25: Costuri cu materialele [lei] | AB25: Costuri cu personalul [lei] | AC25: Costuri realizate, din care: [lei] | AD25: Costuri cu materialele [lei] | AE25: Costuri cu personalul [lei]
A26: Total racordări | B26: Total trimestru | D26: =D27+D28 -> 0 | E26: =E27+E28 -> 0 | F26: =F27+F28 -> 0 | G26: =G27+G28 -> 0 | H26: =H27+H28 -> 0 | I26: =I27+I28 -> 0 | J26: =J27+J28 -> 0 | K26: =K27+K28 -> 0 | ... AE26: =AE27+AE28 -> 0
B27: Total trimestru OL | D27: =D30+D33+D36 -> 0 | E27: =E30+E33+E36 -> 0 | F27: =F30+F33+F36 -> 0 | G27: =G30+G33+G36 -> 0 | H27: =H30+H33+H36 -> 0 | I27: =I30+I33+I36 -> 0 | J27: =J30+J33+J36 -> 0 | K27: =K30+K33+K36 -> 0 | ... AE27: =AE30+AE33+AE36 -> 0
B28: Total trimestru PE | D28: =D31+D34+D37 -> 0 | E28: =E31+E34+E37 -> 0 | F28: =F31+F34+F37 -> 0 | G28: =G31+G34+G37 -> 0 | H28: =H31+H34+H37 -> 0 | I28: =I31+I34+I37 -> 0 | J28: =J31+J34+J37 -> 0 | K28: =K31+K34+K37 -> 0 | ... AE28: =AE31+AE34+AE37 -> 0
B29: =B6 -> Luna ......./Anul........ | C29: Total Luna | D29: =D30+D31 -> 0 | E29: =E30+E31 -> 0 | F29: =F30+F31 -> 0 | G29: =G30+G31 -> 0 | H29: =H30+H31 -> 0 | I29: =I30+I31 -> 0 | J29: =J30+J31 -> 0 | K29: =K30+K31 -> 0 | ... AE29: =AE30+AE31 -> 0
C30: Total OL | D30: =D42+D54 -> 0 | E30: =E42+E54 -> 0 | F30: =F42+F54 -> 0 | G30: =G42+G54 -> 0 | H30: =H42+H54 -> 0 | I30: =I42+I54 -> 0 | J30: =J42+J54 -> 0 | K30: =K42+K54 -> 0 | ... AE30: =AE42+AE54 -> 0
C31: Total PE | D31: =D43+D55 -> 0 | E31: =E43+E55 -> 0 | F31: =F43+F55 -> 0 | G31: =G43+G55 -> 0 | H31: =H43+H55 -> 0 | I31: =I43+I55 -> 0 | J31: =J43+J55 -> 0 | K31: =K43+K55 -> 0 | ... AE31: =AE43+AE55 -> 0
B32: =B7 -> Luna ......./Anul........ | C32: Total Luna | D32: =D33+D34 -> 0 | E32: =E33+E34 -> 0 | F32: =G32-H32 -> 0 | G32: =G33+G34 -> 0 | H32: =H33+H34 -> 0 | I32: =I33+I34 -> 0 | J32: =J33+J34 -> 0 | K32: =K33+K34 -> 0 | L32: =L33+L34 -> 0 | M32: =Q32+U32+Y32 -> 0 | N32: =R32+V32+Z32 -> 0 | O32: =S32+W32+AA32 -> 0 | P32: =T32+X32+AB32 -> 0 | Q32: =Q33+Q34 -> 0 | R32: =R33+R34 -> 0 | S32: =S33+S34 -> 0 | T32: =T33+T34 -> 0 | U32: =U33+U34 -> 0 | V32: =V33+V34 -> 0 | W32: =W33+W34 -> 0 | X32: =X33+X34 -> 0 | ... AE32: =AE33+AE34 -> 0
C33: Total OL | D33: =D45+D57 -> 0 | E33: =E45+E57 -> 0 | F33: =F45+F57 -> 0 | G33: =G45+G57 -> 0 | H33: =H45+H57 -> 0 | I33: =I45+I57 -> 0 | J33: =J45+J57 -> 0 | K33: =K45+K57 -> 0 | ... AE33: =AE45+AE57 -> 0
C34: Total PE | D34: =D46+D58 -> 0 | E34: =E46+E58 -> 0 | F34: =F46+F58 -> 0 | G34: =G46+G58 -> 0 | H34: =H46+H58 -> 0 | I34: =I46+I58 -> 0 | J34: =J46+J58 -> 0 | K34: =K46+K58 -> 0 | ... AE34: =AE46+AE58 -> 0
B35: =B8 -> Luna ......./Anul........ | C35: Total Luna | D35: =D36+D37 -> 0 | E35: =E36+E37 -> 0 | F35: =G35-H35 -> 0 | G35: =G36+G37 -> 0 | H35: =H36+H37 -> 0 | I35: =I36+I37 -> 0 | J35: =J36+J37 -> 0 | K35: =K36+K37 -> 0 | L35: =L36+L37 -> 0 | M35: =Q35+U35+Y35 -> 0 | N35: =R35+V35+Z35 -> 0 | O35: =S35+W35+AA35 -> 0 | P35: =T35+X35+AB35 -> 0 | Q35: =Q36+Q37 -> 0 | R35: =R36+R37 -> 0 | S35: =S36+S37 -> 0 | T35: =T36+T37 -> 0 | U35: =U36+U37 -> 0 | V35: =V36+V37 -> 0 | W35: =W36+W37 -> 0 | X35: =X36+X37 -> 0 | ... AE35: =AE36+AE37 -> 0
C36: Total OL | D36: =D48+D60 -> 0 | E36: =E48+E60 -> 0 | F36: =F48+F60 -> 0 | G36: =G48+G60 -> 0 | H36: =H48+H60 -> 0 | I36: =I48+I60 -> 0 | J36: =J48+J60 -> 0 | K36: =K48+K60 -> 0 | ... AE36: =AE48+AE60 -> 0
C37: Total PE | D37: =D49+D61 -> 0 | E37: =E49+E61 -> 0 | F37: =F49+F61 -> 0 | G37: =G49+G61 -> 0 | H37: =H49+H61 -> 0 | I37: =I49+I61 -> 0 | J37: =J49+J61 -> 0 | K37: =K49+K61 -> 0 | ... AE37: =AE49+AE61 -> 0
A38: Racordări pe bază de tarif reglementat | B38: Total trimestru | D38: =D39+D40 -> 0 | E38: =E39+E40 -> 0 | F38: =F39+F40 -> 0 | G38: =G39+G40 -> 0 | H38: =H39+H40 -> 0 | I38: =I39+I40 -> 0 | J38: =J39+J40 -> 0 | K38: =K39+K40 -> 0 | ... AB38: =AB39+AB40 -> 0 | AC38: =AC41+AC44+AC73 -> 0 | AD38: =AD41+AD44+AD73 -> 0 | AE38: =AE41+AE44+AE73 -> 0
B39: Total trimestru OL | D39: =D42+D45+D48 -> 0 | E39: =E42+E45+E48 -> 0 | F39: =F42+F45+F48 -> 0 | G39: =G42+G45+G48 -> 0 | H39: =H42+H45+H48 -> 0 | I39: =I42+I45+I48 -> 0 | J39: =J42+J45+J48 -> 0 | K39: =K42+K45+K48 -> 0 | ... AB39: =AB42+AB45+AB48 -> 0 | AC39: =AC42+AC45+AC74 -> 0 | AD39: =AD42+AD45+AD74 -> 0 | AE39: =AE42+AE45+AE74 -> 0
B40: Total trimestru PE | D40: =D43+D46+D49 -> 0 | E40: =E43+E46+E49 -> 0 | F40: =F43+F46+F49 -> 0 | G40: =G43+G46+G49 -> 0 | H40: =H43+H46+H49 -> 0 | I40: =I43+I46+I49 -> 0 | J40: =J43+J46+J49 -> 0 | K40: =K43+K46+K49 -> 0 | ... AE40: =AE43+AE46+AE49 -> 0
B41: =B6 -> Luna ......./Anul........ | C41: Total Luna | D41: =D42+D43 -> 0 | E41: =E42+E43 -> 0 | F41: =F42+F43 -> 0 | G41: =G42+G43 -> 0 | H41: =H42+H43 -> 0 | I41: =I42+I43 -> 0 | J41: =J42+J43 -> 0 | K41: =K42+K43 -> 0 | ... AE41: =AE42+AE43 -> 0
C42: Total OL | D42: ='Racordari la tarif reglementat'!C9 -> 0 | E42: ='Racordari la tarif reglementat'!D9 -> 0 | F42: ='Racordari la tarif reglementat'!E9 -> 0 | G42: ='Racordari la tarif reglementat'!F9 -> 0 | H42: ='Racordari la tarif reglementat'!G9 -> 0 | I42: ='Racordari la tarif reglementat'!H9 -> 0 | J42: ='Racordari la tarif reglementat'!I9 -> 0 | K42: ='Racordari la tarif reglementat'!J9 -> 0 | ... AB42: ='Racordari la tarif reglementat'!AA9 -> 0 | AC42: ='Racordari la tarif reglementat'!AD9 -> 0 | AD42: ='Racordari la tarif reglementat'!AE9 -> 0 | AE42: ='Racordari la tarif reglementat'!AF9 -> 0
C43: Total PE | D43: ='Racordari la tarif reglementat'!C23 -> 0 | E43: ='Racordari la tarif reglementat'!D23 -> 0 | F43: ='Racordari la tarif reglementat'!E23 -> 0 | G43: ='Racordari la tarif reglementat'!F23 -> 0 | H43: ='Racordari la tarif reglementat'!G23 -> 0 | I43: ='Racordari la tarif reglementat'!H23 -> 0 | J43: ='Racordari la tarif reglementat'!I23 -> 0 | K43: ='Racordari la tarif reglementat'!J23 -> 0 | ... AB43: ='Racordari la tarif reglementat'!AA23 -> 0 | AC43: ='Racordari la tarif reglementat'!AD23 -> 0 | AD43: ='Racordari la tarif reglementat'!AE23 -> 0 | AE43: ='Racordari la tarif reglementat'!AF23 -> 0
B44: =B7 -> Luna ......./Anul........ | C44: Total Luna | D44: =D45+D46 -> 0 | E44: =E45+E46 -> 0 | F44: =F45+F46 -> 0 | G44: =G45+G46 -> 0 | H44: =H45+H46 -> 0 | I44: =I45+I46 -> 0 | J44: =J45+J46 -> 0 | K44: =K45+K46 -> 0 | ... AE44: =AE45+AE46 -> 0
C45: Total OL | D45: ='Racordari la tarif reglementat'!C38 -> 0 | E45: ='Racordari la tarif reglementat'!D38 -> 0 | F45: ='Racordari la tarif reglementat'!E38 -> 0 | G45: ='Racordari la tarif reglementat'!F38 -> 0 | H45: ='Racordari la tarif reglementat'!G38 -> 0 | I45: ='Racordari la tarif reglementat'!H38 -> 0 | J45: ='Racordari la tarif reglementat'!I38 -> 0 | K45: ='Racordari la tarif reglementat'!J38 -> 0 | ... AB45: ='Racordari la tarif reglementat'!AA38 -> 0 | AC45: ='Racordari la tarif reglementat'!AD38 -> 0 | AD45: ='Racordari la tarif reglementat'!AE38 -> 0 | AE45: ='Racordari la tarif reglementat'!AF38 -> 0
...

Sheet Racordari la tarif reglementat
A1: Denumire operator
A2: ='Centralizator activitate'!A4 -> ……………………………..
A3: Luna/Anul | B3: Diametru branșament | C3: Branșamente [buc] | D3: Lungime branșament [m] | E3: Costuri/venituri totale branșamente, din care: | H3: Componenta T(P) | J3: Componenta T(V) | L3: Componenta T(E), din care | P3: Componenta c(s) | T3: Componenta c(m) | X3: Componenta C(S) | AB3: Observații | AD3: Componenta T(U) recuperata prin tariful de distribuție
E4: Diferența dintre venituri si costuri | F4: Venituri realizate [lei] | G4: Costuri realizate [lei] | H4: Venituri realizate [lei] | I4: Costuri realizate [lei] | J4: Venituri realizate [lei] | K4: Costuri realizate [lei] | L4: Venituri realizate [lei] | M4: Costuri realizate, din care: [lei] | N4: Costuri cu materialele [lei] | O4: Costuri cu personalul [lei] | P4: Venituri realizate [lei] | Q4: Costuri realizate, din care: [lei] | R4: Costuri cu materialele [lei] | S4: Costuri cu personalul [lei] | T4: Venituri realizate [lei] | U4: Costuri realizate, din care: [lei] | V4: Costuri cu materialele [lei] | W4: Costuri cu personalul [lei] | X4: Venituri realizate [lei] | Y4: Costuri realizate, din care: [lei] | Z4: Costuri cu materialele [lei] | AA4: Costuri cu personalul [lei] | AD4: Costuri realizate, din care: [lei] | AE4: Costuri cu materialele [lei] | AF4: Costuri cu personalul [lei]
A5: Total trimestru | C5: =C8+C37+C66 -> 0 | D5: =D8+D37+D66 -> 0 | E5: =F5-G5 -> 0 | F5: =F8+F37+F66 -> 0 | G5: =G8+G37+G66 -> 0 | H5: =H8+H37+H66 -> 0 | I5: =I8+I37+I66 -> 0 | J5: =J8+J37+J66 -> 0 | K5: =K8+K37+K66 -> 0 | L5: =P5+T5+X5 -> 0 | M5: =Q5+U5+Y5 -> 0 | N5: =R5+V5+Z5 -> 0 | O5: =S5+W5+AA5 -> 0 | P5: =P8+P37+P66 -> 0 | Q5: =Q8+Q37+Q66 -> 0 | R5: =R8+R37+R66 -> 0 | S5: =S8+S37+S66 -> 0 | T5: =T8+T37+T66 -> 0 | U5: =U8+U37+U66 -> 0 | V5: =V8+V37+V66 -> 0 | W5: =W8+W37+W66 -> 0 | ... AA5: =AA8+AA37+AA66 -> 0 | AD5: =AD8+AD37+AD66 -> 0 | AE5: =AE8+AE37+AE66 -> 0 | AF5: =AF8+AF37+AF66 -> 0
A6: Total trimestru OL | C6: =C9+C38+C67 -> 0 | D6: =D9+D38+D67 -> 0 | E6: =F6-G6 -> 0 | F6: =F9+F38+F67 -> 0 | G6: =G9+G38+G67 -> 0 | H6: =H9+H38+H67 -> 0 | I6: =I9+I38+I67 -> 0 | J6: =J9+J38+J67 -> 0 | K6: =K9+K38+K67 -> 0 | L6: =P6+T6+X6 -> 0 | M6: =Q6+U6+Y6 -> 0 | N6: =R6+V6+Z6 -> 0 | O6: =S6+W6+AA6 -> 0 | P6: =P9+P38+P67 -> 0 | Q6: =Q9+Q38+Q67 -> 0 | R6: =R9+R38+R67 -> 0 | S6: =S9+S38+S67 -> 0 | T6: =T9+T38+T67 -> 0 | U6: =U9+U38+U67 -> 0 | V6: =V9+V38+V67 -> 0 | W6: =W9+W38+W67 -> 0 | ... AA6: =AA9+AA38+AA67 -> 0 | AD6: =AD9+AD38+AD67 -> 0 | AE6: =AE9+AE38+AE67 -> 0 | AF6: =AF9+AF38+AF67 -> 0
A7: Total trimestru PE | C7: =C23+C52+C81 -> 0 | D7: =D23+D52+D81 -> 0 | E7: =F7-G7 -> 0 | F7: =F23+F52+F81 -> 0 | G7: =G23+G52+G81 -> 0 | H7: =H23+H52+H81 -> 0 | I7: =I23+I52+I81 -> 0 | J7: =J23+J52+J81 -> 0 | K7: =K23+K52+K81 -> 0 | L7: =P7+T7+X7 -> 0 | M7: =Q7+U7+Y7 -> 0 | N7: =R7+V7+Z7 -> 0 | O7: =S7+W7+AA7 -> 0 | P7: =P23+P52+P81 -> 0 | Q7: =Q23+Q52+Q81 -> 0 | R7: =R23+R52+R81 -> 0 | S7: =S23+S52+S81 -> 0 | T7: =T23+T52+T81 -> 0 | U7: =U23+U52+U81 -> 0 | V7: =V23+V52+V81 -> 0 | W7: =W23+W52+W81 -> 0 | ... AA7: =AA23+AA52+AA81 -> 0 | AD7: =AD23+AD52+AD81 -> 0 | AE7: =AE23+AE52+AE81 -> 0 | AF7: =AF23+AF52+AF81 -> 0
A8: ='Centralizator activitate'!B6 -> Luna ......./Anul........ | B8: Total Luna | C8: =C9+C23 -> 0 | D8: =D9+D23 -> 0 | E8: =F8-G8 -> 0 | F8: =F9+F23 -> 0 | G8: =G9+G23 -> 0 | H8: =H9+H23 -> 0 | I8: =I9+I23 -> 0 | J8: =J9+J23 -> 0 | K8: =K9+K23 -> 0 | L8: =P8+T8+X8 -> 0 | M8: =Q8+U8+Y8 -> 0 | N8: =R8+V8+Z8 -> 0 | O8: =S8+W8+AA8 -> 0 | P8: =P9+P23 -> 0 | Q8: =Q9+Q23 -> 0 | R8: =R9+R23 -> 0 | S8: =S9+S23 -> 0 | T8: =T9+T23 -> 0 | U8: =U9+U23 -> 0 | V8: =V9+V23 -> 0 | W8: =W9+W23 -> 0 | ... AA8: =AA9+AA23 -> 0 | AD8: =AD9+AD23 -> 0 | AE8: =AE9+AE23 -> 0 | AF8: =AF9+AF23 -> 0
B9: Total OL | C9: =C10+C14+C19 -> 0 | D9: =D10+D14+D19 -> 0 | E9: =F9-G9 -> 0 | F9: =F10+F14+F19 -> 0 | G9: =G10+G14+G19 -> 0 | H9: =H10+H14+H19 -> 0 | I9: =I10+I14+I19 -> 0 | J9: =J10+J14+J19 -> 0 | K9: =K10+K14+K19 -> 0 | L9: =P9+T9+X9 -> 0 | M9: =Q9+U9+Y9 -> 0 | N9: =R9+V9+Z9 -> 0 | O9: =S9+W9+AA9 -> 0 | P9: =P10+P14+P19 -> 0 | Q9: =Q10+Q14+Q19 -> 0 | R9: =R10+R14+R19 -> 0 | S9: =S10+S14+S19 -> 0 | T9: =T10+T14+T19 -> 0 | U9: =U10+U14+U19 -> 0 | V9: =V10+V14+V19 -> 0 | W9: =W10+W14+W19 -> 0 | ... AA9: =AA10+AA14+AA19 -> 0 | AD9: =AD10+AD14+AD19 -> 0 | AE9: =AE10+AE14+AE19 -> 0 | AF9: =AF10+AF14+AF19 -> 0
B10: D1 | C10: =SUM(C11:C13) -> 0 | D10: =SUM(D11:D13) -> 0 | E10: =F10-G10 -> 0 | F10: =SUM(F11:F13) -> 0 | G10: =SUM(G11:G13) -> 0 | H10: =SUM(H11:H13) -> 0 | I10: =SUM(I11:I13) -> 0 | J10: =SUM(J11:J13) -> 0 | K10: =SUM(K11:K13) -> 0 | L10: =P10+T10+X10 -> 0 | M10: =Q10+U10+Y10 -> 0 | N10: =R10+V10+Z10 -> 0 | O10: =S10+W10+AA10 -> 0 | P10: =SUM(P11:P13) -> 0 | Q10: =SUM(Q11:Q13) -> 0 | R10: =SUM(R11:R13) -> 0 | S10: =SUM(S11:S13) -> 0 | T10: =SUM(T11:T13) -> 0 | U10: =SUM(U11:U13) -> 0 | V10: =SUM(V11:V13) -> 0 | W10: =SUM(W11:W13) -> 0 | ... AA10: =SUM(AA11:AA13) -> 0 | AD10: =SUM(AD11:AD13) -> 0 | AE10: =SUM(AE11:AE13) -> 0 | AF10: =SUM(AF11:AF13) -> 0
B11: Dosar nr 1 | E11: =F11-G11 -> 0 | L11: =P11+T11+X11 -> 0 | M11: =Q11+U11+Y11 -> 0 | N11: =R11+V11+Z11 -> 0 | O11: =S11+W11+AA11 -> 0
B12: … | E12: =F12-G12 -> 0 | L12: =P12+T12+X12 -> 0 | M12: =Q12+U12+Y12 -> 0 | N12: =R12+V12+Z12 -> 0 | O12: =S12+W12+AA12 -> 0
B13: Dosar nr x | E13: =F13-G13 -> 0 | L13: =P13+T13+X13 -> 0 | M13: =Q13+U13+Y13 -> 0 | N13: =R13+V13+Z13 -> 0 | O13: =S13+W13+AA13 -> 0
B14: D2 | C14: =SUM(C15:C17) -> 0 | D14: =SUM(D15:D17) -> 0 | E14: =F14-G14 -> 0 | F14: =SUM(F15:F17) -> 0 | G14: =SUM(G15:G17) -> 0 | H14: =SUM(H15:H17) -> 0 | I14: =SUM(I15:I17) -> 0 | J14: =SUM(J15:J17) -> 0 | K14: =SUM(K15:K17) -> 0 | L14: =P14+T14+X14 -> 0 | M14: =Q14+U14+Y14 -> 0 | N14: =R14+V14+Z14 -> 0 | O14: =S14+W14+AA14 -> 0 | P14: =SUM(P15:P17) -> 0 | Q14: =SUM(Q15:Q17) -> 0 | R14: =SUM(R15:R17) -> 0 | S14: =SUM(S15:S17) -> 0 | T14: =SUM(T15:T17) -> 0 | U14: =SUM(U15:U17) -> 0 | V14: =SUM(V15:V17) -> 0 | W14: =SUM(W15:W17) -> 0 | ... AA14: =SUM(AA15:AA17) -> 0 | AD14: =SUM(AD15:AD17) -> 0 | AE14: =SUM(AE15:AE17) -> 0 | AF14: =SUM(AF15:AF17) -> 0
B15: Dosar nr 1 | E15: =F15-G15 -> 0 | L15: =P15+T15+X15 -> 0 | M15: =Q15+U15+Y15 -> 0 | N15: =R15+V15+Z15 -> 0 | O15: =S15+W15+AA15 -> 0
B16: … | E16: =F16-G16 -> 0 | L16: =P16+T16+X16 -> 0 | M16: =Q16+U16+Y16 -> 0 | N16: =R16+V16+Z16 -> 0 | O16: =S16+W16+AA16 -> 0
B17: Dosar nr x | E17: =F17-G17 -> 0 | L17: =P17+T17+X17 -> 0 | M17: =Q17+U17+Y17 -> 0 | N17: =R17+V17+Z17 -> 0 | O17: =S17+W17+AA17 -> 0
B18: ….. | E18: =F18-G18 -> 0 | L18: =P18+T18+X18 -> 0 | M18: =Q18+U18+Y18 -> 0 | N18: =R18+V18+Z18 -> 0 | O18: =S18+W18+AA18 -> 0
B19: Dn | C19: =SUM(C20:C22) -> 0 | D19: =SUM(D20:D22) -> 0 | E19: =F19-G19 -> 0 | F19: =SUM(F20:F22) -> 0 | G19: =SUM(G20:G22) -> 0 | H19: =SUM(H20:H22) -> 0 | I19: =SUM(I20:I22) -> 0 | J19: =SUM(J20:J22) -> 0 | K19: =SUM(K20:K22) -> 0 | L19: =P19+T19+X19 -> 0 | M19: =Q19+U19+Y19 -> 0 | N19: =R19+V19+Z19 -> 0 | O19: =S19+W19+AA19 -> 0 | P19: =SUM(P20:P22) -> 0 | Q19: =SUM(Q20:Q22) -> 0 | R19: =SUM(R20:R22) -> 0 | S19: =SUM(S20:S22) -> 0 | T19: =SUM(T20:T22) -> 0 | U19: =SUM(U20:U22) -> 0 | V19: =SUM(V20:V22) -> 0 | W19: =SUM(W20:W22) -> 0 | ... AA19: =SUM(AA20:AA22) -> 0 | AD19: =SUM(AD20:AD22) -> 0 | AE19: =SUM(AE20:AE22) -> 0 | AF19: =SUM(AF20:AF22) -> 0
B20: Dosar nr 1 | E20: =F20-G20 -> 0 | L20: =P20+T20+X20 -> 0 | M20: =Q20+U20+Y20 -> 0 | N20: =R20+V20+Z20 -> 0 | O20: =S20+W20+AA20 -> 0
B21: … | E21: =F21-G21 -> 0 | L21: =P21+T21+X21 -> 0 | M21: =Q21+U21+Y21 -> 0 | N21: =R21+V21+Z21 -> 0 | O21: =S21+W21+AA21 -> 0
B22: Dosar nr x | E22: =F22-G22 -> 0 | L22: =P22+T22+X22 -> 0 | M22: =Q22+U22+Y22 -> 0 | N22: =R22+V22+Z22 -> 0 | O22: =S22+W22+AA22 -> 0
B23: Total PE | C23: =C24+C28+C33 -> 0 | D23: =D24+D28+D33 -> 0 | E23: =F23-G23 -> 0 | F23: =F24+F28+F33 -> 0 | G23: =G24+G28+G33 -> 0 | H23: =H24+H28+H33 -> 0 | I23: =I24+I28+I33 -> 0 | J23: =J24+J28+J33 -> 0 | K23: =K24+K28+K33 -> 0 | L23: =P23+T23+X23 -> 0 | M23: =Q23+U23+Y23 -> 0 | N23: =R23+V23+Z23 -> 0 | O23: =S23+W23+AA23 -> 0 | P23: =P24+P28+P33 -> 0 | Q23: =Q24+Q28+Q33 -> 0 | R23: =R24+R28+R33 -> 0 | S23: =S24+S28+S33 -> 0 | T23: =T24+T28+T33 -> 0 | U23: =U24+U28+U33 -> 0 | V23: =V24+V28+V33 -> 0 | W23: =W24+W28+W33 -> 0 | ... AA23: =AA24+AA28+AA33 -> 0 | AD23: =AD24+AD28+AD33 -> 0 | AE23: =AE24+AE28+AE33 -> 0 | AF23: =AF24+AF28+AF33 -> 0
B24: D1 | C24: =SUM(C25:C27) -> 0 | E24: =F24-G24 -> 0 | F24: =SUM(F25:F27) -> 0 | G24: =SUM(G25:G27) -> 0 | H24: =SUM(H25:H27) -> 0 | I24: =SUM(I25:I27) -> 0 | J24: =SUM(J25:J27) -> 0 | K24: =SUM(K25:K27) -> 0 | L24: =P24+T24+X24 -> 0 | M24: =Q24+U24+Y24 -> 0 | N24: =R24+V24+Z24 -> 0 | O24: =S24+W24+AA24 -> 0 | P24: =SUM(P25:P27) -> 0 | Q24: =SUM(Q25:Q27) -> 0 | R24: =SUM(R25:R27) -> 0 | S24: =SUM(S25:S27) -> 0 | T24: =SUM(T25:T27) -> 0 | U24: =SUM(U25:U27) -> 0 | V24: =SUM(V25:V27) -> 0 | W24: =SUM(W25:W27) -> 0 | ... AA24: =SUM(AA25:AA27) -> 0 | AD24: =SUM(AD25:AD27) -> 0 | AE24: =SUM(AE25:AE27) -> 0 | AF24: =SUM(AF25:AF27) -> 0
B25: Dosar nr 1 | E25: =F25-G25 -> 0 | L25: =P25+T25+X25 -> 0 | M25: =Q25+U25+Y25 -> 0 | N25: =R25+V25+Z25 -> 0 | O25: =S25+W25+AA25 -> 0
B26: … | E26: =F26-G26 -> 0 | L26: =P26+T26+X26 -> 0 | M26: =Q26+U26+Y26 -> 0 | N26: =R26+V26+Z26 -> 0 | O26: =S26+W26+AA26 -> 0
B27: Dosar nr x | E27: =F27-G27 -> 0 | L27: =P27+T27+X27 -> 0 | M27: =Q27+U27+Y27 -> 0 | N27: =R27+V27+Z27 -> 0 | O27: =S27+W27+AA27 -> 0
B28: D2 | C28: =SUM(C29:C31) -> 0 | D28: =SUM(D29:D31) -> 0 | E28: =F28-G28 -> 0 | F28: =SUM(F29:F31) -> 0 | G28: =SUM(G29:G31) -> 0 | H28: =SUM(H29:H31) -> 0 | I28: =SUM(I29:I31) -> 0 | J28: =SUM(J29:J31) -> 0 | K28: =SUM(K29:K31) -> 0 | L28: =P28+T28+X28 -> 0 | M28: =Q28+U28+Y28 -> 0 | N28: =R28+V28+Z28 -> 0 | O28: =S28+W28+AA28 -> 0 | P28: =SUM(P29:P31) -> 0 | Q28: =SUM(Q29:Q31) -> 0 | R28: =SUM(R29:R31) -> 0 | S28: =SUM(S29:S31) -> 0 | T28: =SUM(T29:T31) -> 0 | U28: =SUM(U29:U31) -> 0 | V28: =SUM(V29:V31) -> 0 | W28: =SUM(W29:W31) -> 0 | ... AA28: =SUM(AA29:AA31) -> 0 | AD28: =SUM(AD29:AD31) -> 0 | AE28: =SUM(AE29:AE31) -> 0 | AF28: =SUM(AF29:AF31) -> 0
B29: Dosar nr 1 | E29: =F29-G29 -> 0 | L29: =P29+T29+X29 -> 0 | M29: =Q29+U29+Y29 -> 0 | N29: =R29+V29+Z29 -> 0 | O29: =S29+W29+AA29 -> 0
B30: … | E30: =F30-G30 -> 0 | L30: =P30+T30+X30 -> 0 | M30: =Q30+U30+Y30 -> 0 | N30: =R30+V30+Z30 -> 0 | O30: =S30+W30+AA30 -> 0
B31: Dosar nr x | E31: =F31-G31 -> 0 | L31: =P31+T31+X31 -> 0 | M31: =Q31+U31+Y31 -> 0 | N31: =R31+V31+Z31 -> 0 | O31: =S31+W31+AA31 -> 0
B32: ….. | E32: =F32-G32 -> 0 | L32: =P32+T32+X32 -> 0 | M32: =Q32+U32+Y32 -> 0 | N32: =R32+V32+Z32 -> 0 | O32: =S32+W32+AA32 -> 0
B33: Dn | C33: =SUM(C34:C36) -> 0 | D33: =SUM(D34:D36) -> 0 | E33: =F33-G33 -> 0 | F33: =SUM(F34:F36) -> 0 | G33: =SUM(G34:G36) -> 0 | H33: =SUM(H34:H36) -> 0 | I33: =SUM(I34:I36) -> 0 | J33: =SUM(J34:J36) -> 0 | K33: =SUM(K34:K36) -> 0 | L33: =P33+T33+X33 -> 0 | M33: =Q33+U33+Y33 -> 0 | N33: =R33+V33+Z33 -> 0 | O33: =S33+W33+AA33 -> 0 | P33: =SUM(P34:P36) -> 0 | Q33: =SUM(Q34:Q36) -> 0 | R33: =SUM(R34:R36) -> 0 | S33: =SUM(S34:S36) -> 0 | T33: =SUM(T34:T36) -> 0 | U33: =SUM(U34:U36) -> 0 | V33: =SUM(V34:V36) -> 0 | W33: =SUM(W34:W36) -> 0 | ... AA33: =SUM(AA34:AA36) -> 0 | AD33: =SUM(AD34:AD36) -> 0 | AE33: =SUM(AE34:AE36) -> 0 | AF33: =SUM(AF34:AF36) -> 0
B34: Dosar nr 1 | E34: =F34-G34 -> 0 | L34: =P34+T34+X34 -> 0 | M34: =Q34+U34+Y34 -> 0 | N34: =R34+V34+Z34 -> 0 | O34: =S34+W34+AA34 -> 0
B35: … | E35: =F35-G35 -> 0 | L35: =P35+T35+X35 -> 0 | M35: =Q35+U35+Y35 -> 0 | N35: =R35+V35+Z35 -> 0 | O35: =S35+W35+AA35 -> 0
B36: Dosar nr x | E36: =F36-G36 -> 0 | L36: =P36+T36+X36 -> 0 | M36: =Q36+U36+Y36 -> 0 | N36: =R36+V36+Z36 -> 0 | O36: =S36+W36+AA36 -> 0
A37: ='Centralizator activitate'!B7 -> Luna ......./Anul........ | B37: Total Luna | C37: =C38+C52 -> 0 | D37: =D38+D52 -> 0 | E37: =F37-G37 -> 0 | F37: =F38+F52 -> 0 | G37: =G38+G52 -> 0 | H37: =H38+H52 -> 0 | I37: =I38+I52 -> 0 | J37: =J38+J52 -> 0 | K37: =K38+K52 -> 0 | L37: =P37+T37+X37 -> 0 | M37: =Q37+U37+Y37 -> 0 | N37: =R37+V37+Z37 -> 0 | O37: =S37+W37+AA37 -> 0 | P37: =P38+P52 -> 0 | Q37: =Q38+Q52 -> 0 | R37: =R38+R52 -> 0 | S37: =S38+S52 -> 0 | T37: =T38+T52 -> 0 | U37: =U38+U52 -> 0 | V37: =V38+V52 -> 0 | W37: =W38+W52 -> 0 | ... AA37: =AA38+AA52 -> 0 | AD37: =AD38+AD52 -> 0 | AE37: =AE38+AE52 -> 0 | AF37: =AF38+AF52 -> 0
B38: Total OL | C38: =C39+C43+C48 -> 0 | D38: =D39+D43+D48 -> 0 | E38: =F38-G38 -> 0 | F38: =F39+F43+F48 -> 0 | G38: =G39+G43+G48 -> 0 | H38: =H39+H43+H48 -> 0 | I38: =I39+I43+I48 -> 0 | J38: =J39+J43+J48 -> 0 | K38: =K39+K43+K48 -> 0 | L38: =P38+T38+X38 -> 0 | M38: =Q38+U38+Y38 -> 0 | N38: =R38+V38+Z38 -> 0 | O38: =S38+W38+AA38 -> 0 | P38: =P39+P43+P48 -> 0 | Q38: =Q39+Q43+Q48 -> 0 | R38: =R39+R43+R48 -> 0 | S38: =S39+S43+S48 -> 0 | T38: =T39+T43+T48 -> 0 | U38: =U39+U43+U48 -> 0 | V38: =V39+V43+V48 -> 0 | W38: =W39+W43+W48 -> 0 | ... AA38: =AA39+AA43+AA48 -> 0 | AD38: =AD39+AD43+AD48 -> 0 | AE38: =AE39+AE43+AE48 -> 0 | AF38: =AF39+AF43+AF48 -> 0
B39: D1 | C39: =SUM(C40:C42) -> 0 | D39: =SUM(D40:D42) -> 0 | E39: =F39-G39 -> 0 | F39: =SUM(F40:F42) -> 0 | G39: =SUM(G40:G42) -> 0 | H39: =SUM(H40:H42) -> 0 | I39: =SUM(I40:I42) -> 0 | J39: =SUM(J40:J42) -> 0 | K39: =SUM(K40:K42) -> 0 | L39: =P39+T39+X39 -> 0 | M39: =Q39+U39+Y39 -> 0 | N39: =R39+V39+Z39 -> 0 | O39: =S39+W39+AA39 -> 0 | P39: =SUM(P40:P42) -> 0 | Q39: =SUM(Q40:Q42) -> 0 | R39: =SUM(R40:R42) -> 0 | S39: =SUM(S40:S42) -> 0 | T39: =SUM(T40:T42) -> 0 | U39: =SUM(U40:U42) -> 0 | V39: =SUM(V40:V42) -> 0 | W39: =SUM(W40:W42) -> 0 | ... AA39: =SUM(AA40:AA42) -> 0 | AD39: =SUM(AD40:AD42) -> 0 | AE39: =SUM(AE40:AE42) -> 0 | AF39: =SUM(AF40:AF42) -> 0
B40: Dosar nr 1 | E40: =F40-G40 -> 0 | L40: =P40+T40+X40 -> 0 | M40: =Q40+U40+Y40 -> 0 | N40: =R40+V40+Z40 -> 0 | O40: =S40+W40+AA40 -> 0
...

Sheet Racordari pe deviz
A1: Denumire operator
A2: ='Centralizator activitate'!A4 -> ……………………………..
A3: Luna/Anul | B3: Diametru branșament | C3: Branșamente [buc] | D3: Lungime branșament [m] | E3: Costuri/venituri totale branșamente, din care: | H3: Componenta T(P) | J3: Componenta T(V) | L3: Componenta T(E), din care | P3: Componenta c(s) | T3: Componenta c(m) | X3: Componenta C(S) | AB3: Observații | AD3: Componenta T(U) recuperata prin tariful de distribuție
E4: Diferența dintre venituri si costuri | F4: Venituri realizate [lei] | G4: Costuri realizate [lei] | H4: Venituri realizate [lei] | I4: Costuri realizate [lei] | J4: Venituri realizate [lei] | K4: Costuri realizate [lei] | L4: Venituri realizate [lei] | M4: Costuri realizate, din care: [lei] | N4: Costuri cu materialele [lei] | O4: Costuri cu personalul [lei] | P4: Venituri realizate [lei] | Q4: Costuri realizate, din care: [lei] | R4: Costuri cu materialele [lei] | S4: Costuri cu personalul [lei] | T4: Venituri realizate [lei] | U4: Costuri realizate, din care: [lei] | V4: Costuri cu materialele [lei] | W4: Costuri cu personalul [lei] | X4: Venituri realizate [lei] | Y4: Costuri realizate, din care: [lei] | Z4: Costuri cu materialele [lei] | AA4: Costuri cu personalul [lei] | AD4: Costuri realizate, din care: [lei] | AE4: Costuri cu materialele [lei] | AF4: Costuri cu personalul [lei]
A5: Total trimestru | C5: =C8+C37+C66 -> 0 | D5: =D8+D37+D66 -> 0 | E5: =F5-G5 -> 0 | F5: =F8+F37+F66 -> 0 | G5: =G8+G37+G66 -> 0 | H5: =H8+H37+H66 -> 0 | I5: =I8+I37+I66 -> 0 | J5: =J8+J37+J66 -> 0 | K5: =K8+K37+K66 -> 0 | L5: =P5+T5+X5 -> 0 | M5: =Q5+U5+Y5 -> 0 | N5: =R5+V5+Z5 -> 0 | O5: =S5+W5+AA5 -> 0 | P5: =P8+P37+P66 -> 0 | Q5: =Q8+Q37+Q66 -> 0 | R5: =R8+R37+R66 -> 0 | S5: =S8+S37+S66 -> 0 | T5: =T8+T37+T66 -> 0 | U5: =U8+U37+U66 -> 0 | V5: =V8+V37+V66 -> 0 | W5: =W8+W37+W66 -> 0 | ... AA5: =AA8+AA37+AA66 -> 0 | AD5: =AD8+AD37+AD66 -> 0 | AE5: =AE8+AE37+AE66 -> 0 | AF5: =AF8+AF37+AF66 -> 0
A6: Total trimestru OL | C6: =C9+C38+C67 -> 0 | D6: =D9+D38+D67 -> 0 | E6: =F6-G6 -> 0 | F6: =F9+F38+F67 -> 0 | G6: =G9+G38+G67 -> 0 | H6: =H9+H38+H67 -> 0 | I6: =I9+I38+I67 -> 0 | J6: =J9+J38+J67 -> 0 | K6: =K9+K38+K67 -> 0 | L6: =P6+T6+X6 -> 0 | M6: =Q6+U6+Y6 -> 0 | N6: =R6+V6+Z6 -> 0 | O6: =S6+W6+AA6 -> 0 | P6: =P9+P38+P67 -> 0 | Q6: =Q9+Q38+Q67 -> 0 | R6: =R9+R38+R67 -> 0 | S6: =S9+S38+S67 -> 0 | T6: =T9+T38+T67 -> 0 | U6: =U9+U38+U67 -> 0 | V6: =V9+V38+V67 -> 0 | W6: =W9+W38+W67 -> 0 | ... AA6: =AA9+AA38+AA67 -> 0 | AD6: =AD9+AD38+AD67 -> 0 | AE6: =AE9+AE38+AE67 -> 0 | AF6: =AF9+AF38+AF67 -> 0
A7: Total trimestru PE | C7: =C23+C52+C81 -> 0 | D7: =D23+D52+D81 -> 0 | E7: =F7-G7 -> 0 | F7: =F23+F52+F81 -> 0 | G7: =G23+G52+G81 -> 0 | H7: =H23+H52+H81 -> 0 | I7: =I23+I52+I81 -> 0 | J7: =J23+J52+J81 -> 0 | K7: =K23+K52+K81 -> 0 | L7: =P7+T7+X7 -> 0 | M7: =Q7+U7+Y7 -> 0 | N7: =R7+V7+Z7 -> 0 | O7: =S7+W7+AA7 -> 0 | P7: =P23+P52+P81 -> 0 | Q7: =Q23+Q52+Q81 -> 0 | R7: =R23+R52+R81 -> 0 | S7: =S23+S52+S81 -> 0 | T7: =T23+T52+T81 -> 0 | U7: =U23+U52+U81 -> 0 | V7: =V23+V52+V81 -> 0 | W7: =W23+W52+W81 -> 0 | ... AA7: =AA23+AA52+AA81 -> 0 | AD7: =AD23+AD52+AD81 -> 0 | AE7: =AE23+AE52+AE81 -> 0 | AF7: =AF23+AF52+AF81 -> 0
A8: ='Centralizator activitate'!B6 -> Luna ......./Anul........ | B8: Total Luna | C8: =C9+C23 -> 0 | D8: =D9+D23 -> 0 | E8: =F8-G8 -> 0 | F8: =F9+F23 -> 0 | G8: =G9+G23 -> 0 | H8: =H9+H23 -> 0 | I8: =I9+I23 -> 0 | J8: =J9+J23 -> 0 | K8: =K9+K23 -> 0 | L8: =P8+T8+X8 -> 0 | M8: =Q8+U8+Y8 -> 0 | N8: =R8+V8+Z8 -> 0 | O8: =S8+W8+AA8 -> 0 | P8: =P9+P23 -> 0 | Q8: =Q9+Q23 -> 0 | R8: =R9+R23 -> 0 | S8: =S9+S23 -> 0 | T8: =T9+T23 -> 0 | U8: =U9+U23 -> 0 | V8: =V9+V23 -> 0 | W8: =W9+W23 -> 0 | ... AA8: =AA9+AA23 -> 0 | AD8: =AD9+AD23 -> 0 | AE8: =AE9+AE23 -> 0 | AF8: =AF9+AF23 -> 0
B9: Total OL | C9: =C10+C14+C19 -> 0 | D9: =D10+D14+D19 -> 0 | E9: =F9-G9 -> 0 | F9: =F10+F14+F19 -> 0 | G9: =G10+G14+G19 -> 0 | H9: =H10+H14+H19 -> 0 | I9: =I10+I14+I19 -> 0 | J9: =J10+J14+J19 -> 0 | K9: =K10+K14+K19 -> 0 | L9: =P9+T9+X9 -> 0 | M9: =Q9+U9+Y9 -> 0 | N9: =R9+V9+Z9 -> 0 | O9: =S9+W9+AA9 -> 0 | P9: =P10+P14+P19 -> 0 | Q9: =Q10+Q14+Q19 -> 0 | R9: =R10+R14+R19 -> 0 | S9: =S10+S14+S19 -> 0 | T9: =T10+T14+T19 -> 0 | U9: =U10+U14+U19 -> 0 | V9: =V10+V14+V19 -> 0 | W9: =W10+W14+W19 -> 0 | ... AA9: =AA10+AA14+AA19 -> 0 | AD9: =AD10+AD14+AD19 -> 0 | AE9: =AE10+AE14+AE19 -> 0 | AF9: =AF10+AF14+AF19 -> 0
B10: D1 | C10: =SUM(C11:C13) -> 0 | D10: =SUM(D11:D13) -> 0 | E10: =F10-G10 -> 0 | F10: =SUM(F11:F13) -> 0 | G10: =SUM(G11:G13) -> 0 | H10: =SUM(H11:H13) -> 0 | I10: =SUM(I11:I13) -> 0 | J10: =SUM(J11:J13) -> 0 | K10: =SUM(K11:K13) -> 0 | L10: =P10+T10+X10 -> 0 | M10: =Q10+U10+Y10 -> 0 | N10: =R10+V10+Z10 -> 0 | O10: =S10+W10+AA10 -> 0 | P10: =SUM(P11:P13) -> 0 | Q10: =SUM(Q11:Q13) -> 0 | R10: =SUM(R11:R13) -> 0 | S10: =SUM(S11:S13) -> 0 | T10: =SUM(T11:T13) -> 0 | U10: =SUM(U11:U13) -> 0 | V10: =SUM(V11:V13) -> 0 | W10: =SUM(W11:W13) -> 0 | ... AA10: =SUM(AA11:AA13) -> 0 | AD10: =SUM(AD11:AD13) -> 0 | AE10: =SUM(AE11:AE13) -> 0 | AF10: =SUM(AF11:AF13) -> 0
B11: Dosar nr 1 | E11: =F11-G11 -> 0 | L11: =P11+T11+X11 -> 0 | M11: =Q11+U11+Y11 -> 0 | N11: =R11+V11+Z11 -> 0 | O11: =S11+W11+AA11 -> 0
B12: … | E12: =F12-G12 -> 0 | L12: =P12+T12+X12 -> 0 | M12: =Q12+U12+Y12 -> 0 | N12: =R12+V12+Z12 -> 0 | O12: =S12+W12+AA12 -> 0
B13: Dosar nr x | E13: =F13-G13 -> 0 | L13: =P13+T13+X13 -> 0 | M13: =Q13+U13+Y13 -> 0 | N13: =R13+V13+Z13 -> 0 | O13: =S13+W13+AA13 -> 0
B14: D2 | C14: =SUM(C15:C17) -> 0 | D14: =SUM(D15:D17) -> 0 | E14: =F14-G14 -> 0 | F14: =SUM(F15:F17) -> 0 | G14: =SUM(G15:G17) -> 0 | H14: =SUM(H15:H17) -> 0 | I14: =SUM(I15:I17) -> 0 | J14: =SUM(J15:J17) -> 0 | K14: =SUM(K15:K17) -> 0 | L14: =P14+T14+X14 -> 0 | M14: =Q14+U14+Y14 -> 0 | N14: =R14+V14+Z14 -> 0 | O14: =S14+W14+AA14 -> 0 | P14: =SUM(P15:P17) -> 0 | Q14: =SUM(Q15:Q17) -> 0 | R14: =SUM(R15:R17) -> 0 | S14: =SUM(S15:S17) -> 0 | T14: =SUM(T15:T17) -> 0 | U14: =SUM(U15:U17) -> 0 | V14: =SUM(V15:V17) -> 0 | W14: =SUM(W15:W17) -> 0 | ... AA14: =SUM(AA15:AA17) -> 0 | AD14: =SUM(AD15:AD17) -> 0 | AE14: =SUM(AE15:AE17) -> 0 | AF14: =SUM(AF15:AF17) -> 0
B15: Dosar nr 1 | E15: =F15-G15 -> 0 | L15: =P15+T15+X15 -> 0 | M15: =Q15+U15+Y15 -> 0 | N15: =R15+V15+Z15 -> 0 | O15: =S15+W15+AA15 -> 0
B16: … | E16: =F16-G16 -> 0 | L16: =P16+T16+X16 -> 0 | M16: =Q16+U16+Y16 -> 0 | N16: =R16+V16+Z16 -> 0 | O16: =S16+W16+AA16 -> 0
B17: Dosar nr x | E17: =F17-G17 -> 0 | L17: =P17+T17+X17 -> 0 | M17: =Q17+U17+Y17 -> 0 | N17: =R17+V17+Z17 -> 0 | O17: =S17+W17+AA17 -> 0
B18: ….. | E18: =F18-G18 -> 0 | L18: =P18+T18+X18 -> 0 | M18: =Q18+U18+Y18 -> 0 | N18: =R18+V18+Z18 -> 0 | O18: =S18+W18+AA18 -> 0
B19: Dn | C19: =SUM(C20:C22) -> 0 | D19: =SUM(D20:D22) -> 0 | E19: =F19-G19 -> 0 | F19: =SUM(F20:F22) -> 0 | G19: =SUM(G20:G22) -> 0 | H19: =SUM(H20:H22) -> 0 | I19: =SUM(I20:I22) -> 0 | J19: =SUM(J20:J22) -> 0 | K19: =SUM(K20:K22) -> 0 | L19: =P19+T19+X19 -> 0 | M19: =Q19+U19+Y19 -> 0 | N19: =R19+V19+Z19 -> 0 | O19: =S19+W19+AA19 -> 0 | P19: =SUM(P20:P22) -> 0 | Q19: =SUM(Q20:Q22) -> 0 | R19: =SUM(R20:R22) -> 0 | S19: =SUM(S20:S22) -> 0 | T19: =SUM(T20:T22) -> 0 | U19: =SUM(U20:U22) -> 0 | V19: =SUM(V20:V22) -> 0 | W19: =SUM(W20:W22) -> 0 | ... AA19: =SUM(AA20:AA22) -> 0 | AD19: =SUM(AD20:AD22) -> 0 | AE19: =SUM(AE20:AE22) -> 0 | AF19: =SUM(AF20:AF22) -> 0
B20: Dosar nr 1 | E20: =F20-G20 -> 0 | L20: =P20+T20+X20 -> 0 | M20: =Q20+U20+Y20 -> 0 | N20: =R20+V20+Z20 -> 0 | O20: =S20+W20+AA20 -> 0
B21: … | E21: =F21-G21 -> 0 | L21: =P21+T21+X21 -> 0 | M21: =Q21+U21+Y21 -> 0 | N21: =R21+V21+Z21 -> 0 | O21: =S21+W21+AA21 -> 0
B22: Dosar nr x | E22: =F22-G22 -> 0 | L22: =P22+T22+X22 -> 0 | M22: =Q22+U22+Y22 -> 0 | N22: =R22+V22+Z22 -> 0 | O22: =S22+W22+AA22 -> 0
B23: Total PE | C23: =C24+C28+C33 -> 0 | D23: =D24+D28+D33 -> 0 | E23: =F23-G23 -> 0 | F23: =F24+F28+F33 -> 0 | G23: =G24+G28+G33 -> 0 | H23: =H24+H28+H33 -> 0 | I23: =I24+I28+I33 -> 0 | J23: =J24+J28+J33 -> 0 | K23: =K24+K28+K33 -> 0 | L23: =P23+T23+X23 -> 0 | M23: =Q23+U23+Y23 -> 0 | N23: =R23+V23+Z23 -> 0 | O23: =S23+W23+AA23 -> 0 | P23: =P24+P28+P33 -> 0 | Q23: =Q24+Q28+Q33 -> 0 | R23: =R24+R28+R33 -> 0 | S23: =S24+S28+S33 -> 0 | T23: =T24+T28+T33 -> 0 | U23: =U24+U28+U33 -> 0 | V23: =V24+V28+V33 -> 0 | W23: =W24+W28+W33 -> 0 | ... AA23: =AA24+AA28+AA33 -> 0 | AD23: =AD24+AD28+AD33 -> 0 | AE23: =AE24+AE28+AE33 -> 0 | AF23: =AF24+AF28+AF33 -> 0
B24: D1 | C24: =SUM(C25:C27) -> 0 | E24: =F24-G24 -> 0 | F24: =SUM(F25:F27) -> 0 | G24: =SUM(G25:G27) -> 0 | H24: =SUM(H25:H27) -> 0 | I24: =SUM(I25:I27) -> 0 | J24: =SUM(J25:J27) -> 0 | K24: =SUM(K25:K27) -> 0 | L24: =P24+T24+X24 -> 0 | M24: =Q24+U24+Y24 -> 0 | N24: =R24+V24+Z24 -> 0 | O24: =S24+W24+AA24 -> 0 | P24: =SUM(P25:P27) -> 0 | Q24: =SUM(Q25:Q27) -> 0 | R24: =SUM(R25:R27) -> 0 | S24: =SUM(S25:S27) -> 0 | T24: =SUM(T25:T27) -> 0 | U24: =SUM(U25:U27) -> 0 | V24: =SUM(V25:V27) -> 0 | W24: =SUM(W25:W27) -> 0 | ... AA24: =SUM(AA25:AA27) -> 0 | AD24: =SUM(AD25:AD27) -> 0 | AE24: =SUM(AE25:AE27) -> 0 | AF24: =SUM(AF25:AF27) -> 0
B25: Dosar nr 1 | E25: =F25-G25 -> 0 | L25: =P25+T25+X25 -> 0 | M25: =Q25+U25+Y25 -> 0 | N25: =R25+V25+Z25 -> 0 | O25: =S25+W25+AA25 -> 0
B26: … | E26: =F26-G26 -> 0 | L26: =P26+T26+X26 -> 0 | M26: =Q26+U26+Y26 -> 0 | N26: =R26+V26+Z26 -> 0 | O26: =S26+W26+AA26 -> 0
B27: Dosar nr x | E27: =F27-G27 -> 0 | L27: =P27+T27+X27 -> 0 | M27: =Q27+U27+Y27 -> 0 | N27: =R27+V27+Z27 -> 0 | O27: =S27+W27+AA27 -> 0
B28: D2 | C28: =SUM(C29:C31) -> 0 | D28: =SUM(D29:D31) -> 0 | E28: =F28-G28 -> 0 | F28: =SUM(F29:F31) -> 0 | G28: =SUM(G29:G31) -> 0 | H28: =SUM(H29:H31) -> 0 | I28: =SUM(I29:I31) -> 0 | J28: =SUM(J29:J31) -> 0 | K28: =SUM(K29:K31) -> 0 | L28: =P28+T28+X28 -> 0 | M28: =Q28+U28+Y28 -> 0 | N28: =R28+V28+Z28 -> 0 | O28: =S28+W28+AA28 -> 0 | P28: =SUM(P29:P31) -> 0 | Q28: =SUM(Q29:Q31) -> 0 | R28: =SUM(R29:R31) -> 0 | S28: =SUM(S29:S31) -> 0 | T28: =SUM(T29:T31) -> 0 | U28: =SUM(U29:U31) -> 0 | V28: =SUM(V29:V31) -> 0 | W28: =SUM(W29:W31) -> 0 | ... AA28: =SUM(AA29:AA31) -> 0 | AD28: =SUM(AD29:AD31) -> 0 | AE28: =SUM(AE29:AE31) -> 0 | AF28: =SUM(AF29:AF31) -> 0
B29: Dosar nr 1 | E29: =F29-G29 -> 0 | L29: =P29+T29+X29 -> 0 | M29: =Q29+U29+Y29 -> 0 | N29: =R29+V29+Z29 -> 0 | O29: =S29+W29+AA29 -> 0
B30: … | E30: =F30-G30 -> 0 | L30: =P30+T30+X30 -> 0 | M30: =Q30+U30+Y30 -> 0 | N30: =R30+V30+Z30 -> 0 | O30: =S30+W30+AA30 -> 0
B31: Dosar nr x | E31: =F31-G31 -> 0 | L31: =P31+T31+X31 -> 0 | M31: =Q31+U31+Y31 -> 0 | N31: =R31+V31+Z31 -> 0 | O31: =S31+W31+AA31 -> 0
B32: ….. | E32: =F32-G32 -> 0 | L32: =P32+T32+X32 -> 0 | M32: =Q32+U32+Y32 -> 0 | N32: =R32+V32+Z32 -> 0 | O32: =S32+W32+AA32 -> 0
B33: Dn | C33: =SUM(C34:C36) -> 0 | D33: =SUM(D34:D36) -> 0 | E33: =F33-G33 -> 0 | F33: =SUM(F34:F36) -> 0 | G33: =SUM(G34:G36) -> 0 | H33: =SUM(H34:H36) -> 0 | I33: =SUM(I34:I36) -> 0 | J33: =SUM(J34:J36) -> 0 | K33: =SUM(K34:K36) -> 0 | L33: =P33+T33+X33 -> 0 | M33: =Q33+U33+Y33 -> 0 | N33: =R33+V33+Z33 -> 0 | O33: =S33+W33+AA33 -> 0 | P33: =SUM(P34:P36) -> 0 | Q33: =SUM(Q34:Q36) -> 0 | R33: =SUM(R34:R36) -> 0 | S33: =SUM(S34:S36) -> 0 | T33: =SUM(T34:T36) -> 0 | U33: =SUM(U34:U36) -> 0 | V33: =SUM(V34:V36) -> 0 | W33: =SUM(W34:W36) -> 0 | ... AA33: =SUM(AA34:AA36) -> 0 | AD33: =SUM(AD34:AD36) -> 0 | AE33: =SUM(AE34:AE36) -> 0 | AF33: =SUM(AF34:AF36) -> 0
B34: Dosar nr 1 | E34: =F34-G34 -> 0 | L34: =P34+T34+X34 -> 0 | M34: =Q34+U34+Y34 -> 0 | N34: =R34+V34+Z34 -> 0 | O34: =S34+W34+AA34 -> 0
B35: … | E35: =F35-G35 -> 0 | L35: =P35+T35+X35 -> 0 | M35: =Q35+U35+Y35 -> 0 | N35: =R35+V35+Z35 -> 0 | O35: =S35+W35+AA35 -> 0
B36: Dosar nr x | E36: =F36-G36 -> 0 | L36: =P36+T36+X36 -> 0 | M36: =Q36+U36+Y36 -> 0 | N36: =R36+V36+Z36 -> 0 | O36: =S36+W36+AA36 -> 0
A37: ='Centralizator activitate'!B7 -> Luna ......./Anul........ | B37: Total Luna | C37: =C38+C52 -> 0 | D37: =D38+D52 -> 0 | E37: =F37-G37 -> 0 | F37: =F38+F52 -> 0 | G37: =G38+G52 -> 0 | H37: =H38+H52 -> 0 | I37: =I38+I52 -> 0 | J37: =J38+J52 -> 0 | K37: =K38+K52 -> 0 | L37: =P37+T37+X37 -> 0 | M37: =Q37+U37+Y37 -> 0 | N37: =R37+V37+Z37 -> 0 | O37: =S37+W37+AA37 -> 0 | P37: =P38+P52 -> 0 | Q37: =Q38+Q52 -> 0 | R37: =R38+R52 -> 0 | S37: =S38+S52 -> 0 | T37: =T38+T52 -> 0 | U37: =U38+U52 -> 0 | V37: =V38+V52 -> 0 | W37: =W38+W52 -> 0 | ... AA37: =AA38+AA52 -> 0 | AD37: =AD38+AD52 -> 0 | AE37: =AE38+AE52 -> 0 | AF37: =AF38+AF52 -> 0
B38: Total OL | C38: =C39+C43+C48 -> 0 | D38: =D39+D43+D48 -> 0 | E38: =F38-G38 -> 0 | F38: =F39+F43+F48 -> 0 | G38: =G39+G43+G48 -> 0 | H38: =H39+H43+H48 -> 0 | I38: =I39+I43+I48 -> 0 | J38: =J39+J43+J48 -> 0 | K38: =K39+K43+K48 -> 0 | L38: =P38+T38+X38 -> 0 | M38: =Q38+U38+Y38 -> 0 | N38: =R38+V38+Z38 -> 0 | O38: =S38+W38+AA38 -> 0 | P38: =P39+P43+P48 -> 0 | Q38: =Q39+Q43+Q48 -> 0 | R38: =R39+R43+R48 -> 0 | S38: =S39+S43+S48 -> 0 | T38: =T39+T43+T48 -> 0 | U38: =U39+U43+U48 -> 0 | V38: =V39+V43+V48 -> 0 | W38: =W39+W43+W48 -> 0 | ... AA38: =AA39+AA43+AA48 -> 0 | AD38: =AD39+AD43+AD48 -> 0 | AE38: =AE39+AE43+AE48 -> 0 | AF38: =AF39+AF43+AF48 -> 0
B39: D1 | C39: =SUM(C40:C42) -> 0 | D39: =SUM(D40:D42) -> 0 | E39: =F39-G39 -> 0 | F39: =SUM(F40:F42) -> 0 | G39: =SUM(G40:G42) -> 0 | H39: =SUM(H40:H42) -> 0 | I39: =SUM(I40:I42) -> 0 | J39: =SUM(J40:J42) -> 0 | K39: =SUM(K40:K42) -> 0 | L39: =P39+T39+X39 -> 0 | M39: =Q39+U39+Y39 -> 0 | N39: =R39+V39+Z39 -> 0 | O39: =S39+W39+AA39 -> 0 | P39: =SUM(P40:P42) -> 0 | Q39: =SUM(Q40:Q42) -> 0 | R39: =SUM(R40:R42) -> 0 | S39: =SUM(S40:S42) -> 0 | T39: =SUM(T40:T42) -> 0 | U39: =SUM(U40:U42) -> 0 | V39: =SUM(V40:V42) -> 0 | W39: =SUM(W40:W42) -> 0 | ... AA39: =SUM(AA40:AA42) -> 0 | AD39: =SUM(AD40:AD42) -> 0 | AE39: =SUM(AE40:AE42) -> 0 | AF39: =SUM(AF40:AF42) -> 0
B40: Dosar nr 1 | E40: =F40-G40 -> 0 | L40: =P40+T40+X40 -> 0 | M40: =Q40+U40+Y40 -> 0 | N40: =R40+V40+Z40 -> 0 | O40: =S40+W40+AA40 -> 0
...
