Workbook

Sheet Instructuni completare
A3: Instrucțiuni completare:
A4: 1 | B4: Machetele nu vor fi modificate prin introducerea unor noi coloane între cele existente
A5: 2 | B5: Machetele pot fi extinse prin introducerea unor noi rânduri intre cele existente, corespunzătoare numărului de dosare şi diametre raportate
A6: 3 | B6: Introducerea de noi rânduri aferente unor noi dosare se realizează prin poziționarea între rândurile cu textul Dosarul nr. 1 şi Dosarul nr x pentru a nu afecta formulele de calcul
A7: 4 | B7: Orice explicație legată de datele raportate se va completa în rubrica de observații
A8: 5 | B8: Datele vor fi completate exclusiv în celulele marcate cu culoarea galben
A9: 6 | B9: Celulele marcate cu culoarea gri nu vor fi modificate
A10: 7 | B10: Pentru activitatea desfășurată până la data de 31.12.2018 machetele vor fi completate cumulat la nivel de lună, fără detaliere pe fiecare dosar de racordare
A11: 8 | B11: Pentru activitatea desfășurată începând cu data de 1 ianuarie 2019 machetele vor fi completate detaliat la nivel de dosar de racordare

Sheet Centralizator activitate
A2: Denumire operator | B2: Luna/Anul | C2: Cereri racordare [buc] | D2: ATP emise [buc] | E2: ATR emise [buc] | F2: Refuzuri racordare [buc] | G2: Branșamente realizate [buc] | P2: Durata medie racordare [zile] | Q2: Contestații soluție tehnica racordare [buc] | R2: Contestații tarif stabilit de OS [buc]
G3: Total, din care: [buc] | H3: Total OL, din care: [buc] | I3: OL | K3: Total PE, din care: [buc] | L3: PE | N3: Total branșamente fără SR/SM/SRM [buc] | O3: Total branșamente cu SR/SM/SRM [buc]
A4: …………………………….. | I4: fără SR/SM/SRM [buc] | J4: cu SR/SM/SRM [buc] | L4: fără SR/SM/SRM [buc] | M4: cu SR/SM/SRM [buc]
A5: Total racordări | B5: Total trimestru | C5: =SUM(C6:C8) -> 0 | D5: =SUM(D6:D8) -> 0 | E5: =SUM(E6:E8) -> 0 | F5: =SUM(F6:F8) -> 0 | G5: =H5+K5 -> 0 | H5: =I5+J5 -> 0 | I5: =SUM(I6:I8) -> 0 | J5: =SUM(J6:J8) -> 0 | K5: =L5+M5 -> 0 | L5: =SUM(L6:L8) -> 0 | M5: =SUM(M6:M8) -> 0 | N5: =I5+L5 -> 0 | O5: =J5+M5 -> 0 | P5: =SUM(P6:P8)/3 -> 0 | Q5: =SUM(Q6:Q8) -> 0 | R5: =SUM(R6:R8) -> 0
B6: Luna ......./Anul........ | C6: =C10+C14 -> 0 | D6: =D10+D14 -> 0 | E6: =E10+E14 -> 0 | F6: =F10+F14 -> 0 | G6: =H6+K6 -> 0 | H6: =I6+J6 -> 0 | I6: =I10+I14 -> 0 | J6: =J10+J14 -> 0 | K6: =L6+M6 -> 0 | L6: =L10+L14 -> 0 | M6: =M10+M14 -> 0 | N6: =I6+L6 -> 0 | O6: =J6+M6 -> 0 | P6: =P10+P14 -> 0 | Q6: =Q10+Q14 -> 0 | R6: =R14 -> 0
B7: Luna ......./Anul........ | C7: =C11+C15 -> 0 | D7: =D11+D15 -> 0 | E7: =E11+E15 -> 0 | F7: =F11+F15 -> 0 | G7: =H7+K7 -> 0 | H7: =I7+J7 -> 0 | I7: =I11+I15 -> 0 | J7: =J11+J15 -> 0 | K7: =L7+M7 -> 0 | L7: =L11+L15 -> 0 | M7: =M11+M15 -> 0 | N7: =I7+L7 -> 0 | O7: =J7+M7 -> 0 | P7: =P11+P15 -> 0 | Q7: =Q11+Q15 -> 0 | R7: =R15 -> 0
B8: Luna ......./Anul........ | C8: =C12+C16 -> 0 | D8: =D12+D16 -> 0 | E8: =E12+E16 -> 0 | F8: =F12+F16 -> 0 | G8: =H8+K8 -> 0 | H8: =I8+J8 -> 0 | I8: =I12+I16 -> 0 | J8: =J12+J16 -> 0 | K8: =L8+M8 -> 0 | L8: =L12+L16 -> 0 | M8: =M12+M16 -> 0 | N8: =I8+L8 -> 0 | O8: =J8+M8 -> 0 | P8: =P12+P16 -> 0 | Q8: =Q12+Q16 -> 0 | R8: =R16 -> 0
A9: Racordări pe bază de tarif reglementat | B9: Total trimestru | C9: =SUM(C10:C12) -> 0 | D9: =SUM(D10:D12) -> 0 | E9: =SUM(E10:E12) -> 0 | F9: =SUM(F10:F12) -> 0 | G9: =H9+K9 -> 0 | H9: =I9+J9 -> 0 | I9: =SUM(I10:I12) -> 0 | J9: =SUM(J10:J12) -> 0 | K9: =L9+M9 -> 0 | L9: =SUM(L10:L12) -> 0 | M9: =SUM(M10:M12) -> 0 | N9: =I9+L9 -> 0 | O9: =J9+M9 -> 0 | P9: =SUM(P10:P12)/3 -> 0 | Q9: =SUM(Q10:Q12) -> 0
B10: =B6 -> Luna ......./Anul........ | G10: =H10+K10 -> 0 | H10: =I10+J10 -> 0 | K10: =L10+M10 -> 0 | N10: =I10+L10 -> 0 | O10: =J10+M10 -> 0
B11: =B7 -> Luna ......./Anul........ | G11: =H11+K11 -> 0 | H11: =I11+J11 -> 0 | K11: =L11+M11 -> 0 | N11: =I11+L11 -> 0 | O11: =J11+M11 -> 0
B12: =B8 -> Luna ......./Anul........ | G12: =H12+K12 -> 0 | H12: =I12+J12 -> 0 | K12: =L12+M12 -> 0 | N12: =I12+L12 -> 0 | O12: =J12+M12 -> 0
A13: Racordări pe bază de deviz | B13: Total trimestru | C13: =SUM(C14:C16) -> 0 | D13: =SUM(D14:D16) -> 0 | E13: =SUM(E14:E16) -> 0 | F13: =SUM(F14:F16) -> 0 | G13: =H13+K13 -> 0 | H13: =I13+J13 -> 0 | I13: =SUM(I14:I16) -> 0 | J13: =SUM(J14:J16) -> 0 | K13: =L13+M13 -> 0 | L13: =SUM(L14:L16) -> 0 | M13: =SUM(M14:M16) -> 0 | N13: =I13+L13 -> 0 | O13: =J13+M13 -> 0 | P13: =SUM(P14:P16)/3 -> 0 | Q13: =SUM(Q14:Q16) -> 0 | R13: =SUM(R14:R16) -> 0
B14: =B6 -> Luna ......./Anul........ | G14: =H14+K14 -> 0 | H14: =I14+J14 -> 0 | K14: =L14+M14 -> 0 | N14: =I14+L14 -> 0 | O14: =J14+M14 -> 0
B15: =B7 -> Luna ......./Anul........ | G15: =H15+K15 -> 0 | H15: =I15+J15 -> 0 | K15: =L15+M15 -> 0 | N15: =I15+L15 -> 0 | O15: =J15+M15 -> 0
B16: =B8 -> Luna ......./Anul........ | G16: =H16+K16 -> 0 | H16: =I16+J16 -> 0 | K16: =L16+M16 -> 0 | N16: =I16+L16 -> 0 | O16: =J16+M16 -> 0
F17: Check 1 | G17: =G5-D26 -> 0 | H17: =H5-D27 -> 0 | K17: =K5-D28 -> 0
F18: Check 2 | G18: =G9-D38 -> 0 | H18: =H9-D39 -> 0 | K18: =K9-D40 -> 0
F19: Check 3 | G19: =G13-D50 -> 0 | H19: =H13-D51 -> 0 | K19: =K13-D52 -> 0
A24: Denumire operator | B24: Luna/Anul | C24: Tip branșament | D24: Nr. branșamente [buc] | E24: Lungime branșament [m] | F24: Costuri/venituri totale branșamente, din care: | I24: Componenta T(P) | K24: Componenta T(V) | M24: Componenta T(E), din care | Q24: Componenta c(s) | U24: Componenta c(m) | Y24: Componenta C(S) | AC24: Componenta T(U)
A25: =A4 -> …………………………….. | F25: Diferența dintre venituri si costuri | G25: Venituri realizate [lei] | H25: Costuri realizate [lei] | I25: Venituri realizate [lei] | J25: Costuri realizate [lei] | K25: Venituri realizate [lei] | L25: Costuri realizate [lei] | M25: Venituri realizate [lei] | N25: Costuri realizate, din care: [lei] | O25: Costuri cu materialele [lei] | P25: Costuri cu personalul [lei] | Q25: Venituri realizate [lei] | R25: Costuri realizate, din care: [lei] | S25: Costuri cu materialele [lei] | T25: Costuri cu personalul [lei] | U25: Venituri realizate [lei] | V25: Costuri realizate, din care: [lei] | W25: Costuri cu materialele [lei] | X25: Costuri cu personalul [lei] | Y25: Venituri realizate [lei] | Z25: Costuri realizate, din care: [lei] | AA25: Costuri cu materialele [lei] | AB25: Costuri cu personalul [lei] | AC25: Costuri realizate, din care: [lei] | AD25: Costuri cu materialele [lei] | AE25: Costuri cu personalul [lei]
A26: Total racordări | B26: Total trimestru | D26: =D27+D28 -> 0 | E26: =E27+E28 -> 0 | F26: =F27+F28 -> 0 | G26: =G27+G28 -> 0 | H26: =H27+H28 -> 0 | I26: =I27+I28 -> 0 | J26: =J27+J28 -> 0 | K26: =K27+K28 -> 0 | ... AE26: =AE27+AE28 -> 0
B27: Total trimestru OL | D27: =D30+D33+D36 -> 0 | E27: =E30+E33+E36 -> 0 | F27: =F30+F33+F36 -> 0 | G27: =G30+G33+G36 -> 0 | H27: =H30+H33+H36 -> 0 | I27: =I30+I33+I36 -> 0 | J27: =J30+J33+J36 -> 0 | K27: =K30+K33+K36 -> 0 | ... AE27: =AE30+AE33+AE36 -> 0
B28: Total trimestru PE | D28: =D31+D34+D37 -> 0 | E28: =E31+E34+E37 -> 0 | F28: =F31+F34+F37 -> 0 | G28: =G31+G34+G37 -> 0 | H28: =H31+H34+H37 -> 0 | I28: =I31+I34+I37 -> 0 | J28: =J31+J34+J37 -> 0 | K28: =K31+K34+K37 -> 0 | ... AE28: =AE31+AE34+AE37 -> 0
B29: =B6 -> Luna ......./Anul........ | C29: Total Luna | D29: =D30+D31 -> 0 | E29: =E30+E31 -> 0 | F29: =F30+F31 -> 0 | G29: =G30+G31 -> 0 | H29: =H30+H31 -> 0 | I29: =I30+I31 -> 0 | J29: =J30+J31 -> 0 | K29: =K30+K31 -> 0 | ... AE29: =AE30+AE31 -> 0
C30: Total OL | D30: =D42+D54 -> 0 | E30: =E42+E54 -> 0 | F30: =F42+F54 -> 0 | G30: =G42+G54 -> 0 | H30: =H42+H54 -> 0 | I30: =I42+I54 -> 0 | J30: =J42+J54 -> 0 | K30: =K42+K54 -> 0 | ... AE30: =AE42+AE54 -> 0
C31: Total PE | D31: =D43+D55 -> 0 | E31: =E43+E55 -> 0 | F31: =F43+F55 -> 0 | G31: =G43+G55 -> 0 | H31: =H43+H55 -> 0 | I31: =I43+I55 -> 0 | J31: =J43+J55 -> 0 | K31: =K43+K55 -> 0 | ... AE31: =AE43+AE55 -> 0
B32: =B7 -> Luna ......./Anul........ | C32: Total Luna | D32: =D33+D34 -> 0 | E32: =E33+E34 -> 0 | F32: =G32-H32 -> 0 | G32: =G33+G34 -> 0 | H32: =H33+H34 -> 0 | I32: =I33+I34 -> 0 | J32: =J33+J34 -> 0 | K32: =K33+K34 -> 0 | L32: =L33+L34 -> 0 | M32: =Q32+U32+Y32 -> 0 | N32: =R32+V32+Z32 -> 0 | O32: =S32+W32+AA32 -> 0 | P32: =T32+X32+AB32 -> 0 | Q32: =Q33+Q34 -> 0 | R32: =R33+R34 -> 0 | S32: =S33+S34 -> 0 | T32: =T33+T34 -> 0 | U32: =U33+U34 -> 0 | V32: =V33+V34 -> 0 | W32: =W33+W34 -> 0 | X32: =X33+X34 -> 0 | ... AE32: =AE33+AE34 -> 0
C33: Total OL | D33: =D45+D57 -> 0 | E33: =E45+E57 -> 0 | F33: =F45+F57 -> 0 | G33: =G45+G57 -> 0 | H33: =H45+H57 -> 0 | I33: =I45+I57 -> 0 | J33: =J45+J57 -> 0 | K33: =K45+K57 -> 0 | ... AE33: =AE45+AE57 -> 0
C34: Total PE | D34: =D46+D58 -> 0 | E34: =E46+E58 -> 0 | F34: =F46+F58 -> 0 | G34: =G46+G58 -> 0 | H34: =H46+H58 -> 0 | I34: =I46+I58 -> 0 | J34: =J46+J58 -> 0 | K34: =K46+K58 -> 0 | ... AE34: =AE46+AE58 -> 0
B35: =B8 -> Luna ......./Anul........ | C35: Total Luna | D35: =D36+D37 -> 0 | E35: =E36+E37 -> 0 | F35: =G35-H35 -> 0 | G35: =G36+G37 -> 0 | H35: =H36+H37 -> 0 | I35: =I36+I37 -> 0 | J35: =J36+J37 -> 0 | K35: =K36+K37 -> 0 | L35: =L36+L37 -> 0 | M35: =Q35+U35+Y35 -> 0 | N35: =R35+V35+Z35 -> 0 | O35: =S35+W35+AA35 -> 0 | P35: =T35+X35+AB35 -> 0 | Q35: =Q36+Q37 -> 0 | R35: =R36+R37 -> 0 | S35: =S36+S37 -> 0 | T35: =T36+T37 -> 0 | U35: =U36+U37 -> 0 | V35: =V36+V37 -> 0 | W35: =W36+W37 -> 0 | X35: =X36+X37 -> 0 | ... AE35: =AE36+AE37 -> 0
C36: Total OL | D36: =D48+D60 -> 0 | E36: =E48+E60 -> 0 | F36: =F48+F60 -> 0 | G36: =G48+G60 -> 0 | H36: =H48+H60 -> 0 | I36: =I48+I60 -> 0 | J36: =J48+J60 -> 0 | K36: =K48+K60 -> 0 | ... AE36: =AE48+AE60 -> 0
C37: Total PE | D37: =D49+D61 -> 0 | E37: =E49+E61 -> 0 | F37: =F49+F61 -> 0 | G37: =G49+G61 -> 0 | H37: =H49+H61 -> 0 | I37: =I49+I61 -> 0 | J37: =J49+J61 -> 0 | K37: =K49+K61 -> 0 | ... AE37: =AE49+AE61 -> 0
A38: Racordări pe bază de tarif reglementat | B38: Total trimestru | D38: =D39+D40 -> 0 | E38: =E39+E40 -> 0 | F38: =F39+F40 -> 0 | G38: =G39+G40 -> 0 | H38: =H39+H40 -> 0 | I38: =I39+I40 -> 0 | J38: =J39+J40 -> 0 | K38: =K39+K40 -> 0 | ... AB38: =AB39+AB40 -> 0 | AC38: =AC41+AC44+AC73 -> 0 | AD38: =AD41+AD44+AD73 -> 0 | AE38: =AE41+AE44+AE73 -> 0
B39: Total trimestru OL | D39: =D42+D45+D48 -> 0 | E39: =E42+E45+E48 -> 0 | F39: =F42+F45+F48 -> 0 | G39: =G42+G45+G48 -> 0 | H39: =H42+H45+H48 -> 0 | I39: =I42+I45+I48 -> 0 | J39: =J42+J45+J48 -> 0 | K39: =K42+K45+K48 -> 0 | ... AB39: =AB42+AB45+AB48 -> 0 | AC39: =AC42+AC45+AC74 -> 0 | AD39: =AD42+AD45+AD74 -> 0 | AE39: =AE42+AE45+AE74 -> 0
B40: Total trimestru PE | D40: =D43+D46+D49 -> 0 | E40: =E43+E46+E49 -> 0 | F40: =F43+F46+F49 -> 0 | G40: =G43+G46+G49 -> 0 | H40: =H43+H46+H49 -> 0 | I40: =I43+I46+I49 -> 0 | J40: =J43+J46+J49 -> 0 | K40: =K43+K46+K49 -> 0 | ... AE40: =AE43+AE46+AE49 -> 0
B41: =B6 -> Luna ......./Anul........ | C41: Total Luna | D41: =D42+D43 -> 0 | E41: =E42+E43 -> 0 | F41: =F42+F43 -> 0 | G41: =G42+G43 -> 0 | H41: =H42+H43 -> 0 | I41: =I42+I43 -> 0 | J41: =J42+J43 -> 0 | K41: =K42+K43 -> 0 | ... AE41: =AE42+AE43 -> 0
C42: Total OL | D42: ='Racordari la tarif reglementat'!C9 -> 0 | E42: ='Racordari la tarif reglementat'!D9 -> 0 | F42: ='Racordari la tarif reglementat'!E9 -> 0 | G42: ='Racordari la tarif reglementat'!F9 -> 0 | H42: ='Racordari la tarif reglementat'!G9 -> 0 | I42: ='Racordari la tarif reglementat'!H9 -> 0 | J42: ='Racordari la tarif reglementat'!I9 -> 0 | K42: ='Racordari la tarif reglementat'!J9 -> 0 | ... AB42: ='Racordari la tarif reglementat'!AA9 -> 0 | AC42: ='Racordari la tarif reglementat'!AD9 -> 0 | AD42: ='Racordari la tarif reglementat'!AE9 -> 0 | AE42: ='Racordari la tarif reglementat'!AF9 -> 0
C43: Total PE | D43: ='Racordari la tarif reglementat'!C23 -> 0 | E43: ='Racordari la tarif reglementat'!D23 -> 0 | F43: ='Racordari la tarif reglementat'!E23 -> 0 | G43: ='Racordari la tarif reglementat'!F23 -> 0 | H43: ='Racordari la tarif reglementat'!G23 -> 0 | I43: ='Racordari la tarif reglementat'!H23 -> 0 | J43: ='Racordari la tarif reglementat'!I23 -> 0 | K43: ='Racordari la tarif reglementat'!J23 -> 0 | ... AB43: ='Racordari la tarif reglementat'!AA23 -> 0 | AC43: ='Racordari la tarif reglementat'!AD23 -> 0 | AD43: ='Racordari la tarif reglementat'!AE23 -> 0 | AE43: ='Racordari la tarif reglementat'!AF23 -> 0
B44: =B7 -> Luna ......./Anul........ | C44: Total Luna | D44: =D45+D46 -> 0 | E44: =E45+E46 -> 0 | F44: =F45+F46 -> 0 | G44: =G45+G46 -> 0 | H44: =H45+H46 -> 0 | I44: =I45+I46 -> 0 | J44: =J45+J46 -> 0 | K44: =K45+K46 -> 0 | ... AE44: =AE45+AE46 -> 0
C45: Total OL | D45: ='Racordari la tarif reglementat'!C38 -> 0 | E45: ='Racordari la tarif reglementat'!D38 -> 0 | F45: ='Racordari la tarif reglementat'!E38 -> 0 | G45: ='Racordari la tarif reglementat'!F38 -> 0 | H45: ='Racordari la tarif reglementat'!G38 -> 0 | I45: ='Racordari la tarif reglementat'!H38 -> 0 | J45: ='Racordari la tarif reglementat'!I38 -> 0 | K45: ='Racordari la tarif reglementat'!J38 -> 0 | ... AB45: ='Racordari la tarif reglementat'!AA38 -> 0 | AC45: ='Racordari la tarif reglementat'!AD38 -> 0 | AD45: ='Racordari la tarif reglementat'!AE38 -> 0 | AE45: ='Racordari la tarif reglementat'!AF38 -> 0
C46: Total PE | D46: ='Racordari la tarif reglementat'!C52 -> 0 | E46: ='Racordari la tarif reglementat'!D52 -> 0 | F46: ='Racordari la tarif reglementat'!E52 -> 0 | G46: ='Racordari la tarif reglementat'!F52 -> 0 | H46: ='Racordari la tarif reglementat'!G52 -> 0 | I46: ='Racordari la tarif reglementat'!H52 -> 0 | J46: ='Racordari la tarif reglementat'!I52 -> 0 | K46: ='Racordari la tarif reglementat'!J52 -> 0 | ... AB46: ='Racordari la tarif reglementat'!AA52 -> 0 | AC46: ='Racordari la tarif reglementat'!AD52 -> 0 | AD46: ='Racordari la tarif reglementat'!AE52 -> 0 | AE46: ='Racordari la tarif reglementat'!AF52 -> 0
B47: =B8 -> Luna ......./Anul........ | C47: Total Luna | D47: =D48+D49 -> 0 | E47: =E48+E49 -> 0 | F47: =F48+F49 -> 0 | G47: =G48+G49 -> 0 | H47: =H48+H49 -> 0 | I47: =I48+I49 -> 0 | J47: =J48+J49 -> 0 | K47: =K48+K49 -> 0 | ... AE47: =AE48+AE49 -> 0
C48: Total OL | D48: ='Racordari la tarif reglementat'!C67 -> 0 | E48: ='Racordari la tarif reglementat'!D67 -> 0 | F48: ='Racordari la tarif reglementat'!E67 -> 0 | G48: ='Racordari la tarif reglementat'!F67 -> 0 | H48: ='Racordari la tarif reglementat'!G67 -> 0 | I48: ='Racordari la tarif reglementat'!H67 -> 0 | J48: ='Racordari la tarif reglementat'!I67 -> 0 | K48: ='Racordari la tarif reglementat'!J67 -> 0 | ... AB48: ='Racordari la tarif reglementat'!AA67 -> 0 | AC48: ='Racordari la tarif reglementat'!AD67 -> 0 | AD48: ='Racordari la tarif reglementat'!AE67 -> 0 | AE48: ='Racordari la tarif reglementat'!AF67 -> 0
C49: Total PE | D49: ='Racordari la tarif reglementat'!C81 -> 0 | E49: ='Racordari la tarif reglementat'!D81 -> 0 | F49: ='Racordari la tarif reglementat'!E81 -> 0 | G49: ='Racordari la tarif reglementat'!F81 -> 0 | H49: ='Racordari la tarif reglementat'!G81 -> 0 | I49: ='Racordari la tarif reglementat'!H81 -> 0 | J49: ='Racordari la tarif reglementat'!I81 -> 0 | K49: ='Racordari la tarif reglementat'!J81 -> 0 | ... AB49: ='Racordari la tarif reglementat'!AA81 -> 0 | AC49: ='Racordari la tarif reglementat'!AD81 -> 0 | AD49: ='Racordari la tarif reglementat'!AE81 -> 0 | AE49: ='Racordari la tarif reglementat'!AF81 -> 0
A50: Racordări pe bază de deviz | B50: Total trimestru | D50: =D51+D52 -> 0 | E50: =E51+E52 -> 0 | F50: =F51+F52 -> 0 | G50: =G51+G52 -> 0 | H50: =H51+H52 -> 0 | I50: =I51+I52 -> 0 | J50: =J51+J52 -> 0 | K50: =K51+K52 -> 0 | ... AE50: =AE51+AE52 -> 0
B51: Total trimestru OL | D51: =D54+D57+D60 -> 0 | E51: =E54+E57+E60 -> 0 | F51: =F54+F57+F60 -> 0 | G51: =G54+G57+G60 -> 0 | H51: =H54+H57+H60 -> 0 | I51: =I54+I57+I60 -> 0 | J51: =J54+J57+J60 -> 0 | K51: =K54+K57+K60 -> 0 | ... AE51: =AE54+AE57+AE60 -> 0
B52: Total trimestru PE | D52: =D55+D58+D61 -> 0 | E52: =E55+E58+E61 -> 0 | F52: =F55+F58+F61 -> 0 | G52: =G55+G58+G61 -> 0 | H52: =H55+H58+H61 -> 0 | I52: =I55+I58+I61 -> 0 | J52: =J55+J58+J61 -> 0 | K52: =K55+K58+K61 -> 0 | ... AE52: =AE55+AE58+AE61 -> 0
B53: =B6 -> Luna ......./Anul........ | C53: Total Luna | D53: =D54+D55 -> 0 | E53: =E54+E55 -> 0 | F53: =F54+F55 -> 0 | G53: =G54+G55 -> 0 | H53: =H54+H55 -> 0 | I53: =I54+I55 -> 0 | J53: =J54+J55 -> 0 | K53: =K54+K55 -> 0 | ... AE53: =AE54+AE55 -> 0
C54: Total OL | D54: ='Racordari pe deviz'!C9 -> 0 | E54: ='Racordari pe deviz'!D9 -> 0 | F54: ='Racordari pe deviz'!E9 -> 0 | G54: ='Racordari pe deviz'!F9 -> 0 | H54: ='Racordari pe deviz'!G9 -> 0 | I54: ='Racordari pe deviz'!H9 -> 0 | J54: ='Racordari pe deviz'!I9 -> 0 | K54: ='Racordari pe deviz'!J9 -> 0 | ... AB54: ='Racordari pe deviz'!AA9 -> 0 | AC54: ='Racordari pe deviz'!AD9 -> 0 | AD54: ='Racordari pe deviz'!AE9 -> 0 | AE54: ='Racordari pe deviz'!AF9 -> 0
C55: Total PE | D55: ='Racordari pe deviz'!C23 -> 0 | E55: ='Racordari pe deviz'!D23 -> 0 | F55: ='Racordari pe deviz'!E23 -> 0 | G55: ='Racordari pe deviz'!F23 -> 0 | H55: ='Racordari pe deviz'!G23 -> 0 | I55: ='Racordari pe deviz'!H23 -> 0 | J55: ='Racordari pe deviz'!I23 -> 0 | K55: ='Racordari pe deviz'!J23 -> 0 | ... AB55: ='Racordari pe deviz'!AA23 -> 0 | AC55: ='Racordari pe deviz'!AD23 -> 0 | AD55: ='Racordari pe deviz'!AE23 -> 0 | AE55: ='Racordari pe deviz'!AF23 -> 0
B56: =B7 -> Luna ......./Anul........ | C56: Total Luna | D56: =D57+D58 -> 0 | E56: =E57+E58 -> 0 | F56: =F57+F58 -> 0 | G56: =G57+G58 -> 0 | H56: =H57+H58 -> 0 | I56: =I57+I58 -> 0 | J56: =J57+J58 -> 0 | K56: =K57+K58 -> 0 | ... AE56: =AE57+AE58 -> 0
C57: Total OL | D57: ='Racordari pe deviz'!C38 -> 0 | E57: ='Racordari pe deviz'!D38 -> 0 | F57: ='Racordari pe deviz'!E38 -> 0 | G57: ='Racordari pe deviz'!F38 -> 0 | H57: ='Racordari pe deviz'!G38 -> 0 | I57: ='Racordari pe deviz'!H38 -> 0 | J57: ='Racordari pe deviz'!I38 -> 0 | K57: ='Racordari pe deviz'!J38 -> 0 | ... AB57: ='Racordari pe deviz'!AA38 -> 0 | AC57: ='Racordari pe deviz'!AD38 -> 0 | AD57: ='Racordari pe deviz'!AE38 -> 0 | AE57: ='Racordari pe deviz'!AF38 -> 0
C58: Total PE | D58: ='Racordari pe deviz'!C52 -> 0 | E58: ='Racordari pe deviz'!D52 -> 0 | F58: ='Racordari pe deviz'!E52 -> 0 | G58: ='Racordari pe deviz'!F52 -> 0 | H58: ='Racordari pe deviz'!G52 -> 0 | I58: ='Racordari pe deviz'!H52 -> 0 | J58: ='Racordari pe deviz'!I52 -> 0 | K58: ='Racordari pe deviz'!J52 -> 0 | ... AB58: ='Racordari pe deviz'!AA52 -> 0 | AC58: ='Racordari pe deviz'!AD52 -> 0 | AD58: ='Racordari pe deviz'!AE52 -> 0 | AE58: ='Racordari pe deviz'!AF52 -> 0
B59: =B8 -> Luna ......./Anul........ | C59: Total Luna | D59: =D60+D61 -> 0 | E59: =E60+E61 -> 0 | F59: =F60+F61 -> 0 | G59: =G60+G61 -> 0 | H59: =H60+H61 -> 0 | I59: =I60+I61 -> 0 | J59: =J60+J61 -> 0 | K59: =K60+K61 -> 0 | ... AE59: =AE60+AE61 -> 0
C60: Total OL | D60: ='Racordari pe deviz'!C67 -> 0 | E60: ='Racordari pe deviz'!D67 -> 0 | F60: ='Racordari pe deviz'!E67 -> 0 | G60: ='Racordari pe deviz'!F67 -> 0 | H60: ='Racordari pe deviz'!G67 -> 0 | I60: ='Racordari pe deviz'!H67 -> 0 | J60: ='Racordari pe deviz'!I67 -> 0 | K60: ='Racordari pe deviz'!J67 -> 0 | ... AB60: ='Racordari pe deviz'!AA67 -> 0 | AC60: ='Racordari pe deviz'!AD67 -> 0 | AD60: ='Racordari pe deviz'!AE67 -> 0 | AE60: ='Racordari pe deviz'!AF67 -> 0
C61: Total PE | D61: ='Racordari pe deviz'!C81 -> 0 | E61: ='Racordari pe deviz'!D81 -> 0 | F61: ='Racordari pe deviz'!E81 -> 0 | G61: ='Racordari pe deviz'!F81 -> 0 | H61: ='Racordari pe deviz'!G81 -> 0 | I61: ='Racordari pe deviz'!H81 -> 0 | J61: ='Racordari pe deviz'!I81 -> 0 | K61: ='Racordari pe deviz'!J81 -> 0 | ... AB61: ='Racordari pe deviz'!AA81 -> 0 | AC61: ='Racordari pe deviz'!AD81 -> 0 | AD61: ='Racordari pe deviz'!AE81 -> 0 | AE61: ='Racordari pe deviz'!AF81 -> 0

Sheet Racordari la tarif reglementat
A1: Denumire operator
A2: ='Centralizator activitate'!A4 -> ……………………………..
A3: Luna/Anul | B3: Diametru branșament | C3: Branșamente [buc] | D3: Lungime branșament [m] | E3: Costuri/venituri totale branșamente, din care: | H3: Componenta T(P) | J3: Componenta T(V) | L3: Componenta T(E), din care | P3: Componenta c(s) | T3: Componenta c(m) | X3: Componenta C(S) | AB3: Observații | AD3: Componenta T(U) recuperata prin tariful de distribuție
E4: Diferența dintre venituri si costuri | F4: Venituri realizate [lei] | G4: Costuri realizate [lei] | H4: Venituri realizate [lei] | I4: Costuri realizate [lei] | J4: Venituri realizate [lei] | K4: Costuri realizate [lei] | L4: Venituri realizate [lei] | M4: Costuri realizate, din care: [lei] | N4: Costuri cu materialele [lei] | O4: Costuri cu personalul [lei] | P4: Venituri realizate [lei] | Q4: Costuri realizate, din care: [lei] | R4: Costuri cu materialele [lei] | S4: Costuri cu personalul [lei] | T4: Venituri realizate [lei] | U4: Costuri realizate, din care: [lei] | V4: Costuri cu materialele [lei] | W4: Costuri cu personalul [lei] | X4: Venituri realizate [lei] | Y4: Costuri realizate, din care: [lei] | Z4: Costuri cu materialele [lei] | AA4: Costuri cu personalul [lei] | AD4: Costuri realizate, din care: [lei] | AE4: Costuri cu materialele [lei] | AF4: Costuri cu personalul [lei]
A5: Total trimestru | C5: =C8+C37+C66 -> 0 | D5: =D8+D37+D66 -> 0 | E5: =F5-G5 -> 0 | F5: =F8+F37+F66 -> 0 | G5: =G8+G37+G66 -> 0 | H5: =H8+H37+H66 -> 0 | I5: =I8+I37+I66 -> 0 | J5: =J8+J37+J66 -> 0 | K5: =K8+K37+K66 -> 0 | L5: =P5+T5+X5 -> 0 | M5: =Q5+U5+Y5 -> 0 | N5: =R5+V5+Z5 -> 0 | O5: =S5+W5+AA5 -> 0 | P5: =P8+P37+P66 -> 0 | Q5: =Q8+Q37+Q66 -> 0 | R5: =R8+R37+R66 -> 0 | S5: =S8+S37+S66 -> 0 | T5: =T8+T37+T66 -> 0 | U5: =U8+U37+U66 -> 0 | V5: =V8+V37+V66 -> 0 | W5: =W8+W37+W66 -> 0 | ... AA5: =AA8+AA37+AA66 -> 0 | AD5: =AD8+AD37+AD66 -> 0 | AE5: =AE8+AE37+AE66 -> 0 | AF5: =AF8+AF37+AF66 -> 0
A6: Total trimestru OL | C6: =C9+C38+C67 -> 0 | D6: =D9+D38+D67 -> 0 | E6: =F6-G6 -> 0 | F6: =F9+F38+F67 -> 0 | G6: =G9+G38+G67 -> 0 | H6: =H9+H38+H67 -> 0 | I6: =I9+I38+I67 -> 0 | J6: =J9+J38+J67 -> 0 | K6: =K9+K38+K67 -> 0 | L6: =P6+T6+X6 -> 0 | M6: =Q6+U6+Y6 -> 0 | N6: =R6+V6+Z6 -> 0 | O6: =S6+W6+AA6 -> 0 | P6: =P9+P38+P67 -> 0 | Q6: =Q9+Q38+Q67 -> 0 | R6: =R9+R38+R67 -> 0 | S6: =S9+S38+S67 -> 0 | T6: =T9+T38+T67 -> 0 | U6: =U9+U38+U67 -> 0 | V6: =V9+V38+V67 -> 0 | W6: =W9+W38+W67 -> 0 | ... AA6: =AA9+AA38+AA67 -> 0 | AD6: =AD9+AD38+AD67 -> 0 | AE6: =AE9+AE38+AE67 -> 0 | AF6: =AF9+AF38+AF67 -> 0
A7: Total trimestru PE | C7: =C23+C52+C81 -> 0 | D7: =D23+D52+D81 -> 0 | E7: =F7-G7 -> 0 | F7: =F23+F52+F81 -> 0 | G7: =G23+G52+G81 -> 0 | H7: =H23+H52+H81 -> 0 | I7: =I23+I52+I81 -> 0 | J7: =J23+J52+J81 -> 0 | K7: =K23+K52+K81 -> 0 | L7: =P7+T7+X7 -> 0 | M7: =Q7+U7+Y7 -> 0 | N7: =R7+V7+Z7 -> 0 | O7: =S7+W7+AA7 -> 0 | P7: =P23+P52+P81 -> 0 | Q7: =Q23+Q52+Q81 -> 0 | R7: =R23+R52+R81 -> 0 | S7: =S23+S52+S81 -> 0 | T7: =T23+T52+T81 -> 0 | U7: =U23+U52+U81 -> 0 | V7: =V23+V52+V81 -> 0 | W7: =W23+W52+W81 -> 0 | ... AA7: =AA23+AA52+AA81 -> 0 | AD7: =AD23+AD52+AD81 -> 0 | AE7: =AE23+AE52+AE81 -> 0 | AF7: =AF23+AF52+AF81 -> 0
A8: ='Centralizator activitate'!B6 -> Luna ......./Anul........ | B8: Total Luna | C8: =C9+C23 -> 0 | D8: =D9+D23 -> 0 | E8: =F8-G8 -> 0 | F8: =F9+F23 -> 0 | G8: =G9+G23 -> 0 | H8: =H9+H23 -> 0 | I8: =I9+I23 -> 0 | J8: =J9+J23 -> 0 | K8: =K9+K23 -> 0 | L8: =P8+T8+X8 -> 0 | M8: =Q8+U8+Y8 -> 0 | N8: =R8+V8+Z8 -> 0 | O8: =S8+W8+AA8 -> 0 | P8: =P9+P23 -> 0 | Q8: =Q9+Q23 -> 0 | R8: =R9+R23 -> 0 | S8: =S9+S23 -> 0 | T8: =T9+T23 -> 0 | U8: =U9+U23 -> 0 | V8: =V9+V23 -> 0 | W8: =W9+W23 -> 0 | ... AA8: =AA9+AA23 -> 0 | AD8: =AD9+AD23 -> 0 | AE8: =AE9+AE23 -> 0 | AF8: =AF9+AF23 -> 0
B9: Total OL | C9: =C10+C14+C19 -> 0 | D9: =D10+D14+D19 -> 0 | E9: =F9-G9 -> 0 | F9: =F10+F14+F19 -> 0 | G9: =G10+G14+G19 -> 0 | H9: =H10+H14+H19 -> 0 | I9: =I10+I14+I19 -> 0 | J9: =J10+J14+J19 -> 0 | K9: =K10+K14+K19 -> 0 | L9: =P9+T9+X9 -> 0 | M9: =Q9+U9+Y9 -> 0 | N9: =R9+V9+Z9 -> 0 | O9: =S9+W9+AA9 -> 0 | P9: =P10+P14+P19 -> 0 | Q9: =Q10+Q14+Q19 -> 0 | R9: =R10+R14+R19 -> 0 | S9: =S10+S14+S19 -> 0 | T9: =T10+T14+T19 -> 0 | U9: =U10+U14+U19 -> 0 | V9: =V10+V14+V19 -> 0 | W9: =W10+W14+W19 -> 0 | ... AA9: =AA10+AA14+AA19 -> 0 | AD9: =AD10+AD14+AD19 -> 0 | AE9: =AE10+AE14+AE19 -> 0 | AF9: =AF10+AF14+AF19 -> 0
B10: D1 | C10: =SUM(C11:C13) -> 0 | D10: =SUM(D11:D13) -> 0 | E10: =F10-G10 -> 0 | F10: =SUM(F11:F13) -> 0 | G10: =SUM(G11:G13) -> 0 | H10: =SUM(H11:H13) -> 0 | I10: =SUM(I11:I13) -> 0 | J10: =SUM(J11:J13) -> 0 | K10: =SUM(K11:K13) -> 0 | L10: =P10+T10+X10 -> 0 | M10: =Q10+U10+Y10 -> 0 | N10: =R10+V10+Z10 -> 0 | O10: =S10+W10+AA10 -> 0 | P10: =SUM(P11:P13) -> 0 | Q10: =SUM(Q11:Q13) -> 0 | R10: =SUM(R11:R13) -> 0 | S10: =SUM(S11:S13) -> 0 | T10: =SUM(T11:T13) -> 0 | U10: =SUM(U11:U13) -> 0 | V10: =SUM(V11:V13) -> 0 | W10: =SUM(W11:W13) -> 0 | ... AA10: =SUM(AA11:AA13) -> 0 | AD10: =SUM(AD11:AD13) -> 0 | AE10: =SUM(AE11:AE13) -> 0 | AF10: =SUM(AF11:AF13) -> 0
B11: Dosar nr 1 | E11: =F11-G11 -> 0 | L11: =P11+T11+X11 -> 0 | M11: =Q11+U11+Y11 -> 0 | N11: =R11+V11+Z11 -> 0 | O11: =S11+W11+AA11 -> 0
B12: … | E12: =F12-G12 -> 0 | L12: =P12+T12+X12 -> 0 | M12: =Q12+U12+Y12 -> 0 | N12: =R12+V12+Z12 -> 0 | O12: =S12+W12+AA12 -> 0
B13: Dosar nr x | E13: =F13-G13 -> 0 | L13: =P13+T13+X13 -> 0 | M13: =Q13+U13+Y13 -> 0 | N13: =R13+V13+Z13 -> 0 | O13: =S13+W13+AA13 -> 0
B14: D2 | C14: =SUM(C15:C17) -> 0 | D14: =SUM(D15:D17) -> 0 | E14: =F14-G14 -> 0 | F14: =SUM(F15:F17) -> 0 | G14: =SUM(G15:G17) -> 0 | H14: =SUM(H15:H17) -> 0 | I14: =SUM(I15:I17) -> 0 | J14: =SUM(J15:J17) -> 0 | K14: =SUM(K15:K17) -> 0 | L14: =P14+T14+X14 -> 0 | M14: =Q14+U14+Y14 -> 0 | N14: =R14+V14+Z14 -> 0 | O14: =S14+W14+AA14 -> 0 | P14: =SUM(P15:P17) -> 0 | Q14: =SUM(Q15:Q17) -> 0 | R14: =SUM(R15:R17) -> 0 | S14: =SUM(S15:S17) -> 0 | T14: =SUM(T15:T17) -> 0 | U14: =SUM(U15:U17) -> 0 | V14: =SUM(V15:V17) -> 0 | W14: =SUM(W15:W17) -> 0 | ... AA14: =SUM(AA15:AA17) -> 0 | AD14: =SUM(AD15:AD17) -> 0 | AE14: =SUM(AE15:AE17) -> 0 | AF14: =SUM(AF15:AF17) -> 0
B15: Dosar nr 1 | E15: =F15-G15 -> 0 | L15: =P15+T15+X15 -> 0 | M15: =Q15+U15+Y15 -> 0 | N15: =R15+V15+Z15 -> 0 | O15: =S15+W15+AA15 -> 0
B16: … | E16: =F16-G16 -> 0 | L16: =P16+T16+X16 -> 0 | M16: =Q16+U16+Y16 -> 0 | N16: =R16+V16+Z16 -> 0 | O16: =S16+W16+AA16 -> 0
B17: Dosar nr x | E17: =F17-G17 -> 0 | L17: =P17+T17+X17 -> 0 | M17: =Q17+U17+Y17 -> 0 | N17: =R17+V17+Z17 -> 0 | O17: =S17+W17+AA17 -> 0
B18: ….. | E18: =F18-G18 -> 0 | L18: =P18+T18+X18 -> 0 | M18: =Q18+U18+Y18 -> 0 | N18: =R18+V18+Z18 -> 0 | O18: =S18+W18+AA18 -> 0
B19: Dn | C19: =SUM(C20:C22) -> 0 | D19: =SUM(D20:D22) -> 0 | E19: =F19-G19 -> 0 | F19: =SUM(F20:F22) -> 0 | G19: =SUM(G20:G22) -> 0 | H19: =SUM(H20:H22) -> 0 | I19: =SUM(I20:I22) -> 0 | J19: =SUM(J20:J22) -> 0 | K19: =SUM(K20:K22) -> 0 | L19: =P19+T19+X19 -> 0 | M19: =Q19+U19+Y19 -> 0 | N19: =R19+V19+Z19 -> 0 | O19: =S19+W19+AA19 -> 0 | P19: =SUM(P20:P22) -> 0 | Q19: =SUM(Q20:Q22) -> 0 | R19: =SUM(R20:R22) -> 0 | S19: =SUM(S20:S22) -> 0 | T19: =SUM(T20:T22) -> 0 | U19: =SUM(U20:U22) -> 0 | V19: =SUM(V20:V22) -> 0 | W19: =SUM(W20:W22) -> 0 | ... AA19: =SUM(AA20:AA22) -> 0 | AD19: =SUM(AD20:AD22) -> 0 | AE19: =SUM(AE20:AE22) -> 0 | AF19: =SUM(AF20:AF22) -> 0
B20: Dosar nr 1 | E20: =F20-G20 -> 0 | L20: =P20+T20+X20 -> 0 | M20: =Q20+U20+Y20 -> 0 | N20: =R20+V20+Z20 -> 0 | O20: =S20+W20+AA20 -> 0
B21: … | E21: =F21-G21 -> 0 | L21: =P21+T21+X21 -> 0 | M21: =Q21+U21+Y21 -> 0 | N21: =R21+V21+Z21 -> 0 | O21: =S21+W21+AA21 -> 0
B22: Dosar nr x | E22: =F22-G22 -> 0 | L22: =P22+T22+X22 -> 0 | M22: =Q22+U22+Y22 -> 0 | N22: =R22+V22+Z22 -> 0 | O22: =S22+W22+AA22 -> 0
B23: Total PE | C23: =C24+C28+C33 -> 0 | D23: =D24+D28+D33 -> 0 | E23: =F23-G23 -> 0 | F23: =F24+F28+F33 -> 0 | G23: =G24+G28+G33 -> 0 | H23: =H24+H28+H33 -> 0 | I23: =I24+I28+I33 -> 0 | J23: =J24+J28+J33 -> 0 | K23: =K24+K28+K33 -> 0 | L23: =P23+T23+X23 -> 0 | M23: =Q23+U23+Y23 -> 0 | N23: =R23+V23+Z23 -> 0 | O23: =S23+W23+AA23 -> 0 | P23: =P24+P28+P33 -> 0 | Q23: =Q24+Q28+Q33 -> 0 | R23: =R24+R28+R33 -> 0 | S23: =S24+S28+S33 -> 0 | T23: =T24+T28+T33 -> 0 | U23: =U24+U28+U33 -> 0 | V23: =V24+V28+V33 -> 0 | W23: =W24+W28+W33 -> 0 | ... AA23: =AA24+AA28+AA33 -> 0 | AD23: =AD24+AD28+AD33 -> 0 | AE23: =AE24+AE28+AE33 -> 0 | AF23: =AF24+AF28+AF33 -> 0
B24: D1 | C24: =SUM(C25:C27) -> 0 | E24: =F24-G24 -> 0 | F24: =SUM(F25:F27) -> 0 | G24: =SUM(G25:G27) -> 0 | H24: =SUM(H25:H27) -> 0 | I24: =SUM(I25:I27) -> 0 | J24: =SUM(J25:J27) -> 0 | K24: =SUM(K25:K27) -> 0 | L24: =P24+T24+X24 -> 0 | M24: =Q24+U24+Y24 -> 0 | N24: =R24+V24+Z24 -> 0 | O24: =S24+W24+AA24 -> 0 | P24: =SUM(P25:P27) -> 0 | Q24: =SUM(Q25:Q27) -> 0 | R24: =SUM(R25:R27) -> 0 | S24: =SUM(S25:S27) -> 0 | T24: =SUM(T25:T27) -> 0 | U24: =SUM(U25:U27) -> 0 | V24: =SUM(V25:V27) -> 0 | W24: =SUM(W25:W27) -> 0 | ... AA24: =SUM(AA25:AA27) -> 0 | AD24: =SUM(AD25:AD27) -> 0 | AE24: =SUM(AE25:AE27) -> 0 | AF24: =SUM(AF25:AF27) -> 0
B25: Dosar nr 1 | E25: =F25-G25 -> 0 | L25: =P25+T25+X25 -> 0 | M25: =Q25+U25+Y25 -> 0 | N25: =R25+V25+Z25 -> 0 | O25: =S25+W25+AA25 -> 0
B26: … | E26: =F26-G26 -> 0 | L26: =P26+T26+X26 -> 0 | M26: =Q26+U26+Y26 -> 0 | N26: =R26+V26+Z26 -> 0 | O26: =S26+W26+AA26 -> 0
B27: Dosar nr x | E27: =F27-G27 -> 0 | L27: =P27+T27+X27 -> 0 | M27: =Q27+U27+Y27 -> 0 | N27: =R27+V27+Z27 -> 0 | O27: =S27+W27+AA27 -> 0
B28: D2 | C28: =SUM(C29:C31) -> 0 | D28: =SUM(D29:D31) -> 0 | E28: =F28-G28 -> 0 | F28: =SUM(F29:F31) -> 0 | G28: =SUM(G29:G31) -> 0 | H28: =SUM(H29:H31) -> 0 | I28: =SUM(I29:I31) -> 0 | J28: =SUM(J29:J31) -> 0 | K28: =SUM(K29:K31) -> 0 | L28: =P28+T28+X28 -> 0 | M28: =Q28+U28+Y28 -> 0 | N28: =R28+V28+Z28 -> 0 | O28: =S28+W28+AA28 -> 0 | P28: =SUM(P29:P31) -> 0 | Q28: =SUM(Q29:Q31) -> 0 | R28: =SUM(R29:R31) -> 0 | S28: =SUM(S29:S31) -> 0 | T28: =SUM(T29:T31) -> 0 | U28: =SUM(U29:U31) -> 0 | V28: =SUM(V29:V31) -> 0 | W28: =SUM(W29:W31) -> 0 | ... AA28: =SUM(AA29:AA31) -> 0 | AD28: =SUM(AD29:AD31) -> 0 | AE28: =SUM(AE29:AE31) -> 0 | AF28: =SUM(AF29:AF31) -> 0
B29: Dosar nr 1 | E29: =F29-G29 -> 0 | L29: =P29+T29+X29 -> 0 | M29: =Q29+U29+Y29 -> 0 | N29: =R29+V29+Z29 -> 0 | O29: =S29+W29+AA29 -> 0
B30: … | E30: =F30-G30 -> 0 | L30: =P30+T30+X30 -> 0 | M30: =Q30+U30+Y30 -> 0 | N30: =R30+V30+Z30 -> 0 | O30: =S30+W30+AA30 -> 0
B31: Dosar nr x | E31: =F31-G31 -> 0 | L31: =P31+T31+X31 -> 0 | M31: =Q31+U31+Y31 -> 0 | N31: =R31+V31+Z31 -> 0 | O31: =S31+W31+AA31 -> 0
B32: ….. | E32: =F32-G32 -> 0 | L32: =P32+T32+X32 -> 0 | M32: =Q32+U32+Y32 -> 0 | N32: =R32+V32+Z32 -> 0 | O32: =S32+W32+AA32 -> 0
B33: Dn | C33: =SUM(C34:C36) -> 0 | D33: =SUM(D34:D36) -> 0 | E33: =F33-G33 -> 0 | F33: =SUM(F34:F36) -> 0 | G33: =SUM(G34:G36) -> 0 | H33: =SUM(H34:H36) -> 0 | I33: =SUM(I34:I36) -> 0 | J33: =SUM(J34:J36) -> 0 | K33: =SUM(K34:K36) -> 0 | L33: =P33+T33+X33 -> 0 | M33: =Q33+U33+Y33 -> 0 | N33: =R33+V33+Z33 -> 0 | O33: =S33+W33+AA33 -> 0 | P33: =SUM(P34:P36) -> 0 | Q33: =SUM(Q34:Q36) -> 0 | R33: =SUM(R34:R36) -> 0 | S33: =SUM(S34:S36) -> 0 | T33: =SUM(T34:T36) -> 0 | U33: =SUM(U34:U36) -> 0 | V33: =SUM(V34:V36) -> 0 | W33: =SUM(W34:W36) -> 0 | ... AA33: =SUM(AA34:AA36) -> 0 | AD33: =SUM(AD34:AD36) -> 0 | AE33: =SUM(AE34:AE36) -> 0 | AF33: =SUM(AF34:AF36) -> 0
B34: Dosar nr 1 | E34: =F34-G34 -> 0 | L34: =P34+T34+X34 -> 0 | M34: =Q34+U34+Y34 -> 0 | N34: =R34+V34+Z34 -> 0 | O34: =S34+W34+AA34 -> 0
B35: … | E35: =F35-G35 -> 0 | L35: =P35+T35+X35 -> 0 | M35: =Q35+U35+Y35 -> 0 | N35: =R35+V35+Z35 -> 0 | O35: =S35+W35+AA35 -> 0
B36: Dosar nr x | E36: =F36-G36 -> 0 | L36: =P36+T36+X36 -> 0 | M36: =Q36+U36+Y36 -> 0 | N36: =R36+V36+Z36 -> 0 | O36: =S36+W36+AA36 -> 0
A37: ='Centralizator activitate'!B7 -> Luna ......./Anul........ | B37: Total Luna | C37: =C38+C52 -> 0 | D37: =D38+D52 -> 0 | E37: =F37-G37 -> 0 | F37: =F38+F52 -> 0 | G37: =G38+G52 -> 0 | H37: =H38+H52 -> 0 | I37: =I38+I52 -> 0 | J37: =J38+J52 -> 0 | K37: =K38+K52 -> 0 | L37: =P37+T37+X37 -> 0 | M37: =Q37+U37+Y37 -> 0 | N37: =R37+V37+Z37 -> 0 | O37: =S37+W37+AA37 -> 0 | P37: =P38+P52 -> 0 | Q37: =Q38+Q52 -> 0 | R37: =R38+R52 -> 0 | S37: =S38+S52 -> 0 | T37: =T38+T52 -> 0 | U37: =U38+U52 -> 0 | V37: =V38+V52 -> 0 | W37: =W38+W52 -> 0 | ... AA37: =AA38+AA52 -> 0 | AD37: =AD38+AD52 -> 0 | AE37: =AE38+AE52 -> 0 | AF37: =AF38+AF52 -> 0
B38: Total OL | C38: =C39+C43+C48 -> 0 | D38: =D39+D43+D48 -> 0 | E38: =F38-G38 -> 0 | F38: =F39+F43+F48 -> 0 | G38: =G39+G43+G48 -> 0 | H38: =H39+H43+H48 -> 0 | I38: =I39+I43+I48 -> 0 | J38: =J39+J43+J48 -> 0 | K38: =K39+K43+K48 -> 0 | L38: =P38+T38+X38 -> 0 | M38: =Q38+U38+Y38 -> 0 | N38: =R38+V38+Z38 -> 0 | O38: =S38+W38+AA38 -> 0 | P38: =P39+P43+P48 -> 0 | Q38: =Q39+Q43+Q48 -> 0 | R38: =R39+R43+R48 -> 0 | S38: =S39+S43+S48 -> 0 | T38: =T39+T43+T48 -> 0 | U38: =U39+U43+U48 -> 0 | V38: =V39+V43+V48 -> 0 | W38: =W39+W43+W48 -> 0 | ... AA38: =AA39+AA43+AA48 -> 0 | AD38: =AD39+AD43+AD48 -> 0 | AE38: =AE39+AE43+AE48 -> 0 | AF38: =AF39+AF43+AF48 -> 0
B39: D1 | C39: =SUM(C40:C42) -> 0 | D39: =SUM(D40:D42) -> 0 | E39: =F39-G39 -> 0 | F39: =SUM(F40:F42) -> 0 | G39: =SUM(G40:G42) -> 0 | H39: =SUM(H40:H42) -> 0 | I39: =SUM(I40:I42) -> 0 | J39: =SUM(J40:J42) -> 0 | K39: =SUM(K40:K42) -> 0 | L39: =P39+T39+X39 -> 0 | M39: =Q39+U39+Y39 -> 0 | N39: =R39+V39+Z39 -> 0 | O39: =S39+W39+AA39 -> 0 | P39: =SUM(P40:P42) -> 0 | Q39: =SUM(Q40:Q42) -> 0 | R39: =SUM(R40:R42) -> 0 | S39: =SUM(S40:S42) -> 0 | T39: =SUM(T40:T42) -> 0 | U39: =SUM(U40:U42) -> 0 | V39: =SUM(V40:V42) -> 0 | W39: =SUM(W40:W42) -> 0 | ... AA39: =SUM(AA40:AA42) -> 0 | AD39: =SUM(AD40:AD42) -> 0 | AE39: =SUM(AE40:AE42) -> 0 | AF39: =SUM(AF40:AF42) -> 0
B40: Dosar nr 1 | E40: =F40-G40 -> 0 | L40: =P40+T40+X40 -> 0 | M40: =Q40+U40+Y40 -> 0 | N40: =R40+V40+Z40 -> 0 | O40: =S40+W40+AA40 -> 0
B41: … | E41: =F41-G41 -> 0 | L41: =P41+T41+X41 -> 0 | M41: =Q41+U41+Y41 -> 0 | N41: =R41+V41+Z41 -> 0 | O41: =S41+W41+AA41 -> 0
B42: Dosar nr x | E42: =F42-G42 -> 0 | L42: =P42+T42+X42 -> 0 | M42: =Q42+U42+Y42 -> 0 | N42: =R42+V42+Z42 -> 0 | O42: =S42+W42+AA42 -> 0
B43: D2 | C43: =SUM(C44:C46) -> 0 | D43: =SUM(D44:D46) -> 0 | E43: =F43-G43 -> 0 | F43: =SUM(F44:F46) -> 0 | G43: =SUM(G44:G46) -> 0 | H43: =SUM(H44:H46) -> 0 | I43: =SUM(I44:I46) -> 0 | J43: =SUM(J44:J46) -> 0 | K43: =SUM(K44:K46) -> 0 | L43: =P43+T43+X43 -> 0 | M43: =Q43+U43+Y43 -> 0 | N43: =R43+V43+Z43 -> 0 | O43: =S43+W43+AA43 -> 0 | P43: =SUM(P44:P46) -> 0 | Q43: =SUM(Q44:Q46) -> 0 | R43: =SUM(R44:R46) -> 0 | S43: =SUM(S44:S46) -> 0 | T43: =SUM(T44:T46) -> 0 | U43: =SUM(U44:U46) -> 0 | V43: =SUM(V44:V46) -> 0 | W43: =SUM(W44:W46) -> 0 | ... AA43: =SUM(AA44:AA46) -> 0 | AD43: =SUM(AD44:AD46) -> 0 | AE43: =SUM(AE44:AE46) -> 0 | AF43: =SUM(AF44:AF46) -> 0
B44: Dosar nr 1 | E44: =F44-G44 -> 0 | L44: =P44+T44+X44 -> 0 | M44: =Q44+U44+Y44 -> 0 | N44: =R44+V44+Z44 -> 0 | O44: =S44+W44+AA44 -> 0
B45: … | E45: =F45-G45 -> 0 | L45: =P45+T45+X45 -> 0 | M45: =Q45+U45+Y45 -> 0 | N45: =R45+V45+Z45 -> 0 | O45: =S45+W45+AA45 -> 0
B46: Dosar nr x | E46: =F46-G46 -> 0 | L46: =P46+T46+X46 -> 0 | M46: =Q46+U46+Y46 -> 0 | N46: =R46+V46+Z46 -> 0 | O46: =S46+W46+AA46 -> 0
B47: ….. | E47: =F47-G47 -> 0 | L47: =P47+T47+X47 -> 0 | M47: =Q47+U47+Y47 -> 0 | N47: =R47+V47+Z47 -> 0 | O47: =S47+W47+AA47 -> 0
B48: Dn | C48: =SUM(C49:C51) -> 0 | D48: =SUM(D49:D51) -> 0 | E48: =F48-G48 -> 0 | F48: =SUM(F49:F51) -> 0 | G48: =SUM(G49:G51) -> 0 | H48: =SUM(H49:H51) -> 0 | I48: =SUM(I49:I51) -> 0 | J48: =SUM(J49:J51) -> 0 | K48: =SUM(K49:K51) -> 0 | L48: =P48+T48+X48 -> 0 | M48: =Q48+U48+Y48 -> 0 | N48: =R48+V48+Z48 -> 0 | O48: =S48+W48+AA48 -> 0 | P48: =SUM(P49:P51) -> 0 | Q48: =SUM(Q49:Q51) -> 0 | R48: =SUM(R49:R51) -> 0 | S48: =SUM(S49:S51) -> 0 | T48: =SUM(T49:T51) -> 0 | U48: =SUM(U49:U51) -> 0 | V48: =SUM(V49:V51) -> 0 | W48: =SUM(W49:W51) -> 0 | ... AA48: =SUM(AA49:AA51) -> 0 | AD48: =SUM(AD49:AD51) -> 0 | AE48: =SUM(AE49:AE51) -> 0 | AF48: =SUM(AF49:AF51) -> 0
B49: Dosar nr 1 | E49: =F49-G49 -> 0 | L49: =P49+T49+X49 -> 0 | M49: =Q49+U49+Y49 -> 0 | N49: =R49+V49+Z49 -> 0 | O49: =S49+W49+AA49 -> 0
B50: … | E50: =F50-G50 -> 0 | L50: =P50+T50+X50 -> 0 | M50: =Q50+U50+Y50 -> 0 | N50: =R50+V50+Z50 -> 0 | O50: =S50+W50+AA50 -> 0
B51: Dosar nr x | E51: =F51-G51 -> 0 | L51: =P51+T51+X51 -> 0 | M51: =Q51+U51+Y51 -> 0 | N51: =R51+V51+Z51 -> 0 | O51: =S51+W51+AA51 -> 0
B52: Total PE | C52: =C53+C57+C62 -> 0 | D52: =D53+D57+D62 -> 0 | E52: =F52-G52 -> 0 | F52: =F53+F57+F62 -> 0 | G52: =G53+G57+G62 -> 0 | H52: =H53+H57+H62 -> 0 | I52: =I53+I57+I62 -> 0 | J52: =J53+J57+J62 -> 0 | K52: =K53+K57+K62 -> 0 | L52: =P52+T52+X52 -> 0 | M52: =Q52+U52+Y52 -> 0 | N52: =R52+V52+Z52 -> 0 | O52: =S52+W52+AA52 -> 0 | P52: =P53+P57+P62 -> 0 | Q52: =Q53+Q57+Q62 -> 0 | R52: =R53+R57+R62 -> 0 | S52: =S53+S57+S62 -> 0 | T52: =T53+T57+T62 -> 0 | U52: =U53+U57+U62 -> 0 | V52: =V53+V57+V62 -> 0 | W52: =W53+W57+W62 -> 0 | ... AA52: =AA53+AA57+AA62 -> 0 | AD52: =AD53+AD57+AD62 -> 0 | AE52: =AE53+AE57+AE62 -> 0 | AF52: =AF53+AF57+AF62 -> 0
B53: D2 | C53: =SUM(C54:C56) -> 0 | D53: =SUM(D54:D56) -> 0 | E53: =F53-G53 -> 0 | F53: =SUM(F54:F56) -> 0 | G53: =SUM(G54:G56) -> 0 | H53: =SUM(H54:H56) -> 0 | I53: =SUM(I54:I56) -> 0 | J53: =SUM(J54:J56) -> 0 | K53: =SUM(K54:K56) -> 0 | L53: =P53+T53+X53 -> 0 | M53: =Q53+U53+Y53 -> 0 | N53: =R53+V53+Z53 -> 0 | O53: =S53+W53+AA53 -> 0 | P53: =SUM(P54:P56) -> 0 | Q53: =SUM(Q54:Q56) -> 0 | R53: =SUM(R54:R56) -> 0 | S53: =SUM(S54:S56) -> 0 | T53: =SUM(T54:T56) -> 0 | U53: =SUM(U54:U56) -> 0 | V53: =SUM(V54:V56) -> 0 | W53: =SUM(W54:W56) -> 0 | ... AA53: =SUM(AA54:AA56) -> 0 | AD53: =SUM(AD54:AD56) -> 0 | AE53: =SUM(AE54:AE56) -> 0 | AF53: =SUM(AF54:AF56) -> 0
B54: Dosar nr 1 | E54: =F54-G54 -> 0 | L54: =P54+T54+X54 -> 0 | M54: =Q54+U54+Y54 -> 0 | N54: =R54+V54+Z54 -> 0 | O54: =S54+W54+AA54 -> 0
B55: … | E55: =F55-G55 -> 0 | L55: =P55+T55+X55 -> 0 | M55: =Q55+U55+Y55 -> 0 | N55: =R55+V55+Z55 -> 0 | O55: =S55+W55+AA55 -> 0
B56: Dosar nr x | E56: =F56-G56 -> 0 | L56: =P56+T56+X56 -> 0 | M56: =Q56+U56+Y56 -> 0 | N56: =R56+V56+Z56 -> 0 | O56: =S56+W56+AA56 -> 0
B57: D2 | C57: =SUM(C58:C60) -> 0 | D57: =SUM(D58:D60) -> 0 | E57: =F57-G57 -> 0 | F57: =SUM(F58:F60) -> 0 | G57: =SUM(G58:G60) -> 0 | H57: =SUM(H58:H60) -> 0 | I57: =SUM(I58:I60) -> 0 | J57: =SUM(J58:J60) -> 0 | K57: =SUM(K58:K60) -> 0 | L57: =P57+T57+X57 -> 0 | M57: =Q57+U57+Y57 -> 0 | N57: =R57+V57+Z57 -> 0 | O57: =S57+W57+AA57 -> 0 | P57: =SUM(P58:P60) -> 0 | Q57: =SUM(Q58:Q60) -> 0 | R57: =SUM(R58:R60) -> 0 | S57: =SUM(S58:S60) -> 0 | T57: =SUM(T58:T60) -> 0 | U57: =SUM(U58:U60) -> 0 | V57: =SUM(V58:V60) -> 0 | W57: =SUM(W58:W60) -> 0 | ... AA57: =SUM(AA58:AA60) -> 0 | AD57: =SUM(AD58:AD60) -> 0 | AE57: =SUM(AE58:AE60) -> 0 | AF57: =SUM(AF58:AF60) -> 0
B58: Dosar nr 1 | E58: =F58-G58 -> 0 | L58: =P58+T58+X58 -> 0 | M58: =Q58+U58+Y58 -> 0 | N58: =R58+V58+Z58 -> 0 | O58: =S58+W58+AA58 -> 0
B59: … | E59: =F59-G59 -> 0 | L59: =P59+T59+X59 -> 0 | M59: =Q59+U59+Y59 -> 0 | N59: =R59+V59+Z59 -> 0 | O59: =S59+W59+AA59 -> 0
B60: Dosar nr x | E60: =F60-G60 -> 0 | L60: =P60+T60+X60 -> 0 | M60: =Q60+U60+Y60 -> 0 | N60: =R60+V60+Z60 -> 0 | O60: =S60+W60+AA60 -> 0
B61: ….. | E61: =F61-G61 -> 0 | L61: =P61+T61+X61 -> 0 | M61: =Q61+U61+Y61 -> 0 | N61: =R61+V61+Z61 -> 0 | O61: =S61+W61+AA61 -> 0
B62: Dn | C62: =SUM(C63:C65) -> 0 | D62: =SUM(D63:D65) -> 0 | E62: =F62-G62 -> 0 | F62: =SUM(F63:F65) -> 0 | G62: =SUM(G63:G65) -> 0 | H62: =SUM(H63:H65) -> 0 | I62: =SUM(I63:I65) -> 0 | J62: =SUM(J63:J65) -> 0 | K62: =SUM(K63:K65) -> 0 | L62: =P62+T62+X62 -> 0 | M62: =Q62+U62+Y62 -> 0 | N62: =R62+V62+Z62 -> 0 | O62: =S62+W62+AA62 -> 0 | P62: =SUM(P63:P65) -> 0 | Q62: =SUM(Q63:Q65) -> 0 | R62: =SUM(R63:R65) -> 0 | S62: =SUM(S63:S65) -> 0 | T62: =SUM(T63:T65) -> 0 | U62: =SUM(U63:U65) -> 0 | V62: =SUM(V63:V65) -> 0 | W62: =SUM(W63:W65) -> 0 | ... AA62: =SUM(AA63:AA65) -> 0 | AD62: =SUM(AD63:AD65) -> 0 | AE62: =SUM(AE63:AE65) -> 0 | AF62: =SUM(AF63:AF65) -> 0
B63: Dosar nr 1 | E63: =F63-G63 -> 0 | L63: =P63+T63+X63 -> 0 | M63: =Q63+U63+Y63 -> 0 | N63: =R63+V63+Z63 -> 0 | O63: =S63+W63+AA63 -> 0
B64: … | E64: =F64-G64 -> 0 | L64: =P64+T64+X64 -> 0 | M64: =Q64+U64+Y64 -> 0 | N64: =R64+V64+Z64 -> 0 | O64: =S64+W64+AA64 -> 0
B65: Dosar nr x | E65: =F65-G65 -> 0 | L65: =P65+T65+X65 -> 0 | M65: =Q65+U65+Y65 -> 0 | N65: =R65+V65+Z65 -> 0 | O65: =S65+W65+AA65 -> 0
A66: ='Centralizator activitate'!B8 -> Luna ......./Anul........ | B66: Total Luna | C66: =C67+C81 -> 0 | D66: =D67+D81 -> 0 | E66: =F66-G66 -> 0 | F66: =F67+F81 -> 0 | G66: =G67+G81 -> 0 | H66: =H67+H81 -> 0 | I66: =I67+I81 -> 0 | J66: =J67+J81 -> 0 | K66: =K67+K81 -> 0 | L66: =P66+T66+X66 -> 0 | M66: =Q66+U66+Y66 -> 0 | N66: =R66+V66+Z66 -> 0 | O66: =S66+W66+AA66 -> 0 | P66: =P67+P81 -> 0 | Q66: =Q67+Q81 -> 0 | R66: =R67+R81 -> 0 | S66: =S67+S81 -> 0 | T66: =T67+T81 -> 0 | U66: =U67+U81 -> 0 | V66: =V67+V81 -> 0 | W66: =W67+W81 -> 0 | ... AA66: =AA67+AA81 -> 0 | AD66: =AD67+AD81 -> 0 | AE66: =AE67+AE81 -> 0 | AF66: =AF67+AF81 -> 0
B67: Total OL | C67: =C68+C72+C77 -> 0 | D67: =D68+D72+D77 -> 0 | E67: =F67-G67 -> 0 | F67: =F68+F72+F77 -> 0 | G67: =G68+G72+G77 -> 0 | H67: =H68+H72+H77 -> 0 | I67: =I68+I72+I77 -> 0 | J67: =J68+J72+J77 -> 0 | K67: =K68+K72+K77 -> 0 | L67: =P67+T67+X67 -> 0 | M67: =Q67+U67+Y67 -> 0 | N67: =R67+V67+Z67 -> 0 | O67: =S67+W67+AA67 -> 0 | P67: =P68+P72+P77 -> 0 | Q67: =Q68+Q72+Q77 -> 0 | R67: =R68+R72+R77 -> 0 | S67: =S68+S72+S77 -> 0 | T67: =T68+T72+T77 -> 0 | U67: =U68+U72+U77 -> 0 | V67: =V68+V72+V77 -> 0 | W67: =W68+W72+W77 -> 0 | ... AA67: =AA68+AA72+AA77 -> 0 | AD67: =AD68+AD72+AD77 -> 0 | AE67: =AE68+AE72+AE77 -> 0 | AF67: =AF68+AF72+AF77 -> 0
B68: D1 | C68: =SUM(C69:C71) -> 0 | D68: =SUM(D69:D71) -> 0 | E68: =F68-G68 -> 0 | F68: =SUM(F69:F71) -> 0 | G68: =SUM(G69:G71) -> 0 | H68: =SUM(H69:H71) -> 0 | I68: =SUM(I69:I71) -> 0 | J68: =SUM(J69:J71) -> 0 | K68: =SUM(K69:K71) -> 0 | L68: =P68+T68+X68 -> 0 | M68: =Q68+U68+Y68 -> 0 | N68: =R68+V68+Z68 -> 0 | O68: =S68+W68+AA68 -> 0 | P68: =SUM(P69:P71) -> 0 | Q68: =SUM(Q69:Q71) -> 0 | R68: =SUM(R69:R71) -> 0 | S68: =SUM(S69:S71) -> 0 | T68: =SUM(T69:T71) -> 0 | U68: =SUM(U69:U71) -> 0 | V68: =SUM(V69:V71) -> 0 | W68: =SUM(W69:W71) -> 0 | ... AA68: =SUM(AA69:AA71) -> 0 | AD68: =SUM(AD69:AD71) -> 0 | AE68: =SUM(AE69:AE71) -> 0 | AF68: =SUM(AF69:AF71) -> 0
B69: Dosar nr 1 | E69: =F69-G69 -> 0 | L69: =P69+T69+X69 -> 0 | M69: =Q69+U69+Y69 -> 0 | N69: =R69+V69+Z69 -> 0 | O69: =S69+W69+AA69 -> 0
B70: … | E70: =F70-G70 -> 0 | L70: =P70+T70+X70 -> 0 | M70: =Q70+U70+Y70 -> 0 | N70: =R70+V70+Z70 -> 0 | O70: =S70+W70+AA70 -> 0
B71: Dosar nr x | E71: =F71-G71 -> 0 | L71: =P71+T71+X71 -> 0 | M71: =Q71+U71+Y71 -> 0 | N71: =R71+V71+Z71 -> 0 | O71: =S71+W71+AA71 -> 0
B72: D2 | C72: =SUM(C73:C75) -> 0 | D72: =SUM(D73:D75) -> 0 | E72: =F72-G72 -> 0 | F72: =SUM(F73:F75) -> 0 | G72: =SUM(G73:G75) -> 0 | H72: =SUM(H73:H75) -> 0 | I72: =SUM(I73:I75) -> 0 | J72: =SUM(J73:J75) -> 0 | K72: =SUM(K73:K75) -> 0 | L72: =P72+T72+X72 -> 0 | M72: =Q72+U72+Y72 -> 0 | N72: =R72+V72+Z72 -> 0 | O72: =S72+W72+AA72 -> 0 | P72: =SUM(P73:P75) -> 0 | Q72: =SUM(Q73:Q75) -> 0 | R72: =SUM(R73:R75) -> 0 | S72: =SUM(S73:S75) -> 0 | T72: =SUM(T73:T75) -> 0 | U72: =SUM(U73:U75) -> 0 | V72: =SUM(V73:V75) -> 0 | W72: =SUM(W73:W75) -> 0 | ... AA72: =SUM(AA73:AA75) -> 0 | AD72: =SUM(AD73:AD75) -> 0 | AE72: =SUM(AE73:AE75) -> 0 | AF72: =SUM(AF73:AF75) -> 0
B73: Dosar nr 1 | E73: =F73-G73 -> 0 | L73: =P73+T73+X73 -> 0 | M73: =Q73+U73+Y73 -> 0 | N73: =R73+V73+Z73 -> 0 | O73: =S73+W73+AA73 -> 0
B74: … | E74: =F74-G74 -> 0 | L74: =P74+T74+X74 -> 0 | M74: =Q74+U74+Y74 -> 0 | N74: =R74+V74+Z74 -> 0 | O74: =S74+W74+AA74 -> 0
B75: Dosar nr x | E75: =F75-G75 -> 0 | L75: =P75+T75+X75 -> 0 | M75: =Q75+U75+Y75 -> 0 | N75: =R75+V75+Z75 -> 0 | O75: =S75+W75+AA75 -> 0
B76: ….. | E76: =F76-G76 -> 0 | L76: =P76+T76+X76 -> 0 | M76: =Q76+U76+Y76 -> 0 | N76: =R76+V76+Z76 -> 0 | O76: =S76+W76+AA76 -> 0
B77: Dn | C77: =SUM(C78:C80) -> 0 | D77: =SUM(D78:D80) -> 0 | E77: =F77-G77 -> 0 | F77: =SUM(F78:F80) -> 0 | G77: =SUM(G78:G80) -> 0 | H77: =SUM(H78:H80) -> 0 | I77: =SUM(I78:I80) -> 0 | J77: =SUM(J78:J80) -> 0 | K77: =SUM(K78:K80) -> 0 | L77: =P77+T77+X77 -> 0 | M77: =Q77+U77+Y77 -> 0 | N77: =R77+V77+Z77 -> 0 | O77: =S77+W77+AA77 -> 0 | P77: =SUM(P78:P80) -> 0 | Q77: =SUM(Q78:Q80) -> 0 | R77: =SUM(R78:R80) -> 0 | S77: =SUM(S78:S80) -> 0 | T77: =SUM(T78:T80) -> 0 | U77: =SUM(U78:U80) -> 0 | V77: =SUM(V78:V80) -> 0 | W77: =SUM(W78:W80) -> 0 | ... AA77: =SUM(AA78:AA80) -> 0 | AD77: =SUM(AD78:AD80) -> 0 | AE77: =SUM(AE78:AE80) -> 0 | AF77: =SUM(AF78:AF80) -> 0
B78: Dosar nr 1 | E78: =F78-G78 -> 0 | L78: =P78+T78+X78 -> 0 | M78: =Q78+U78+Y78 -> 0 | N78: =R78+V78+Z78 -> 0 | O78: =S78+W78+AA78 -> 0
B79: … | E79: =F79-G79 -> 0 | L79: =P79+T79+X79 -> 0 | M79: =Q79+U79+Y79 -> 0 | N79: =R79+V79+Z79 -> 0 | O79: =S79+W79+AA79 -> 0
B80: Dosar nr x | E80: =F80-G80 -> 0 | L80: =P80+T80+X80 -> 0 | M80: =Q80+U80+Y80 -> 0 | N80: =R80+V80+Z80 -> 0 | O80: =S80+W80+AA80 -> 0
B81: Total PE | C81: =C82+C86+C91 -> 0 | D81: =D82+D86+D91 -> 0 | E81: =F81-G81 -> 0 | F81: =F82+F86+F91 -> 0 | G81: =G82+G86+G91 -> 0 | H81: =H82+H86+H91 -> 0 | I81: =I82+I86+I91 -> 0 | J81: =J82+J86+J91 -> 0 | K81: =K82+K86+K91 -> 0 | L81: =P81+T81+X81 -> 0 | M81: =Q81+U81+Y81 -> 0 | N81: =R81+V81+Z81 -> 0 | O81: =S81+W81+AA81 -> 0 | P81: =P82+P86+P91 -> 0 | Q81: =Q82+Q86+Q91 -> 0 | R81: =R82+R86+R91 -> 0 | S81: =S82+S86+S91 -> 0 | T81: =T82+T86+T91 -> 0 | U81: =U82+U86+U91 -> 0 | V81: =V82+V86+V91 -> 0 | W81: =W82+W86+W91 -> 0 | ... AA81: =AA82+AA86+AA91 -> 0 | AD81: =AD82+AD86+AD91 -> 0 | AE81: =AE82+AE86+AE91 -> 0 | AF81: =AF82+AF86+AF91 -> 0
B82: D2 | C82: =SUM(C83:C85) -> 0 | D82: =SUM(D83:D85) -> 0 | E82: =F82-G82 -> 0 | F82: =SUM(F83:F85) -> 0 | G82: =SUM(G83:G85) -> 0 | H82: =SUM(H83:H85) -> 0 | I82: =SUM(I83:I85) -> 0 | J82: =SUM(J83:J85) -> 0 | K82: =SUM(K83:K85) -> 0 | L82: =P82+T82+X82 -> 0 | M82: =Q82+U82+Y82 -> 0 | N82: =R82+V82+Z82 -> 0 | O82: =S82+W82+AA82 -> 0 | P82: =SUM(P83:P85) -> 0 | Q82: =SUM(Q83:Q85) -> 0 | R82: =SUM(R83:R85) -> 0 | S82: =SUM(S83:S85) -> 0 | T82: =SUM(T83:T85) -> 0 | U82: =SUM(U83:U85) -> 0 | V82: =SUM(V83:V85) -> 0 | W82: =SUM(W83:W85) -> 0 | ... AA82: =SUM(AA83:AA85) -> 0 | AD82: =SUM(AD83:AD85) -> 0 | AE82: =SUM(AE83:AE85) -> 0 | AF82: =SUM(AF83:AF85) -> 0
B83: Dosar nr 1 | E83: =F83-G83 -> 0 | L83: =P83+T83+X83 -> 0 | M83: =Q83+U83+Y83 -> 0 | N83: =R83+V83+Z83 -> 0 | O83: =S83+W83+AA83 -> 0
B84: … | E84: =F84-G84 -> 0 | L84: =P84+T84+X84 -> 0 | M84: =Q84+U84+Y84 -> 0 | N84: =R84+V84+Z84 -> 0 | O84: =S84+W84+AA84 -> 0
B85: Dosar nr x | E85: =F85-G85 -> 0 | L85: =P85+T85+X85 -> 0 | M85: =Q85+U85+Y85 -> 0 | N85: =R85+V85+Z85 -> 0 | O85: =S85+W85+AA85 -> 0
B86: D2 | C86: =SUM(C87:C89) -> 0 | D86: =SUM(D87:D89) -> 0 | E86: =F86-G86 -> 0 | F86: =SUM(F87:F89) -> 0 | G86: =SUM(G87:G89) -> 0 | H86: =SUM(H87:H89) -> 0 | I86: =SUM(I87:I89) -> 0 | J86: =SUM(J87:J89) -> 0 | K86: =SUM(K87:K89) -> 0 | L86: =P86+T86+X86 -> 0 | M86: =Q86+U86+Y86 -> 0 | N86: =R86+V86+Z86 -> 0 | O86: =S86+W86+AA86 -> 0 | P86: =SUM(P87:P89) -> 0 | Q86: =SUM(Q87:Q89) -> 0 | R86: =SUM(R87:R89) -> 0 | S86: =SUM(S87:S89) -> 0 | T86: =SUM(T87:T89) -> 0 | U86: =SUM(U87:U89) -> 0 | V86: =SUM(V87:V89) -> 0 | W86: =SUM(W87:W89) -> 0 | ... AA86: =SUM(AA87:AA89) -> 0 | AD86: =SUM(AD87:AD89) -> 0 | AE86: =SUM(AE87:AE89) -> 0 | AF86: =SUM(AF87:AF89) -> 0
B87: Dosar nr 1 | E87: =F87-G87 -> 0 | L87: =P87+T87+X87 -> 0 | M87: =Q87+U87+Y87 -> 0 | N87: =R87+V87+Z87 -> 0 | O87: =S87+W87+AA87 -> 0
B88: … | E88: =F88-G88 -> 0 | L88: =P88+T88+X88 -> 0 | M88: =Q88+U88+Y88 -> 0 | N88: =R88+V88+Z88 -> 0 | O88: =S88+W88+AA88 -> 0
B89: Dosar nr x | E89: =F89-G89 -> 0 | L89: =P89+T89+X89 -> 0 | M89: =Q89+U89+Y89 -> 0 | N89: =R89+V89+Z89 -> 0 | O89: =S89+W89+AA89 -> 0
B90: ….. | E90: =F90-G90 -> 0 | L90: =P90+T90+X90 -> 0 | M90: =Q90+U90+Y90 -> 0 | N90: =R90+V90+Z90 -> 0 | O90: =S90+W90+AA90 -> 0
B91: Dn | C91: =SUM(C92:C94) -> 0 | D91: =SUM(D92:D94) -> 0 | E91: =F91-G91 -> 0 | F91: =SUM(F92:F94) -> 0 | G91: =SUM(G92:G94) -> 0 | H91: =SUM(H92:H94) -> 0 | I91: =SUM(I92:I94) -> 0 | J91: =SUM(J92:J94) -> 0 | K91: =SUM(K92:K94) -> 0 | L91: =P91+T91+X91 -> 0 | M91: =Q91+U91+Y91 -> 0 | N91: =R91+V91+Z91 -> 0 | O91: =S91+W91+AA91 -> 0 | P91: =SUM(P92:P94) -> 0 | Q91: =SUM(Q92:Q94) -> 0 | R91: =SUM(R92:R94) -> 0 | S91: =SUM(S92:S94) -> 0 | T91: =SUM(T92:T94) -> 0 | U91: =SUM(U92:U94) -> 0 | V91: =SUM(V92:V94) -> 0 | W91: =SUM(W92:W94) -> 0 | ... AA91: =SUM(AA92:AA94) -> 0 | AD91: =SUM(AD92:AD94) -> 0 | AE91: =SUM(AE92:AE94) -> 0 | AF91: =SUM(AF92:AF94) -> 0
B92: Dosar nr 1 | E92: =F92-G92 -> 0 | L92: =P92+T92+X92 -> 0 | M92: =Q92+U92+Y92 -> 0 | N92: =R92+V92+Z92 -> 0 | O92: =S92+W92+AA92 -> 0
B93: … | E93: =F93-G93 -> 0 | L93: =P93+T93+X93 -> 0 | M93: =Q93+U93+Y93 -> 0 | N93: =R93+V93+Z93 -> 0 | O93: =S93+W93+AA93 -> 0
B94: Dosar nr x | E94: =F94-G94 -> 0 | L94: =P94+T94+X94 -> 0 | M94: =Q94+U94+Y94 -> 0 | N94: =R94+V94+Z94 -> 0 | O94: =S94+W94+AA94 -> 0

Sheet Racordari pe deviz
A1: Denumire operator
A2: ='Centralizator activitate'!A4 -> ……………………………..
A3: Luna/Anul | B3: Diametru branșament | C3: Branșamente [buc] | D3: Lungime branșament [m] | E3: Costuri/venituri totale branșamente, din care: | H3: Componenta T(P) | J3: Componenta T(V) | L3: Componenta T(E), din care | P3: Componenta c(s) | T3: Componenta c(m) | X3: Componenta C(S) | AB3: Observații | AD3: Componenta T(U) recuperata prin tariful de distribuție
E4: Diferența dintre venituri si costuri | F4: Venituri realizate [lei] | G4: Costuri realizate [lei] | H4: Venituri realizate [lei] | I4: Costuri realizate [lei] | J4: Venituri realizate [lei] | K4: Costuri realizate [lei] | L4: Venituri realizate [lei] | M4: Costuri realizate, din care: [lei] | N4: Costuri cu materialele [lei] | O4: Costuri cu personalul [lei] | P4: Venituri realizate [lei] | Q4: Costuri realizate, din care: [lei] | R4: Costuri cu materialele [lei] | S4: Costuri cu personalul [lei] | T4: Venituri realizate [lei] | U4: Costuri realizate, din care: [lei] | V4: Costuri cu materialele [lei] | W4: Costuri cu personalul [lei] | X4: Venituri realizate [lei] | Y4: Costuri realizate, din care: [lei] | Z4: Costuri cu materialele [lei] | AA4: Costuri cu personalul [lei] | AD4: Costuri realizate, din care: [lei] | AE4: Costuri cu materialele [lei] | AF4: Costuri cu personalul [lei]
A5: Total trimestru | C5: =C8+C37+C66 -> 0 | D5: =D8+D37+D66 -> 0 | E5: =F5-G5 -> 0 | F5: =F8+F37+F66 -> 0 | G5: =G8+G37+G66 -> 0 | H5: =H8+H37+H66 -> 0 | I5: =I8+I37+I66 -> 0 | J5: =J8+J37+J66 -> 0 | K5: =K8+K37+K66 -> 0 | L5: =P5+T5+X5 -> 0 | M5: =Q5+U5+Y5 -> 0 | N5: =R5+V5+Z5 -> 0 | O5: =S5+W5+AA5 -> 0 | P5: =P8+P37+P66 -> 0 | Q5: =Q8+Q37+Q66 -> 0 | R5: =R8+R37+R66 -> 0 | S5: =S8+S37+S66 -> 0 | T5: =T8+T37+T66 -> 0 | U5: =U8+U37+U66 -> 0 | V5: =V8+V37+V66 -> 0 | W5: =W8+W37+W66 -> 0 | ... AA5: =AA8+AA37+AA66 -> 0 | AD5: =AD8+AD37+AD66 -> 0 | AE5: =AE8+AE37+AE66 -> 0 | AF5: =AF8+AF37+AF66 -> 0
A6: Total trimestru OL | C6: =C9+C38+C67 -> 0 | D6: =D9+D38+D67 -> 0 | E6: =F6-G6 -> 0 | F6: =F9+F38+F67 -> 0 | G6: =G9+G38+G67 -> 0 | H6: =H9+H38+H67 -> 0 | I6: =I9+I38+I67 -> 0 | J6: =J9+J38+J67 -> 0 | K6: =K9+K38+K67 -> 0 | L6: =P6+T6+X6 -> 0 | M6: =Q6+U6+Y6 -> 0 | N6: =R6+V6+Z6 -> 0 | O6: =S6+W6+AA6 -> 0 | P6: =P9+P38+P67 -> 0 | Q6: =Q9+Q38+Q67 -> 0 | R6: =R9+R38+R67 -> 0 | S6: =S9+S38+S67 -> 0 | T6: =T9+T38+T67 -> 0 | U6: =U9+U38+U67 -> 0 | V6: =V9+V38+V67 -> 0 | W6: =W9+W38+W67 -> 0 | ... AA6: =AA9+AA38+AA67 -> 0 | AD6: =AD9+AD38+AD67 -> 0 | AE6: =AE9+AE38+AE67 -> 0 | AF6: =AF9+AF38+AF67 -> 0
A7: Total trimestru PE | C7: =C23+C52+C81 -> 0 | D7: =D23+D52+D81 -> 0 | E7: =F7-G7 -> 0 | F7: =F23+F52+F81 -> 0 | G7: =G23+G52+G81 -> 0 | H7: =H23+H52+H81 -> 0 | I7: =I23+I52+I81 -> 0 | J7: =J23+J52+J81 -> 0 | K7: =K23+K52+K81 -> 0 | L7: =P7+T7+X7 -> 0 | M7: =Q7+U7+Y7 -> 0 | N7: =R7+V7+Z7 -> 0 | O7: =S7+W7+AA7 -> 0 | P7: =P23+P52+P81 -> 0 | Q7: =Q23+Q52+Q81 -> 0 | R7: =R23+R52+R81 -> 0 | S7: =S23+S52+S81 -> 0 | T7: =T23+T52+T81 -> 0 | U7: =U23+U52+U81 -> 0 | V7: =V23+V52+V81 -> 0 | W7: =W23+W52+W81 -> 0 | ... AA7: =AA23+AA52+AA81 -> 0 | AD7: =AD23+AD52+AD81 -> 0 | AE7: =AE23+AE52+AE81 -> 0 | AF7: =AF23+AF52+AF81 -> 0
A8: ='Centralizator activitate'!B6 -> Luna ......./Anul........ | B8: Total Luna | C8: =C9+C23 -> 0 | D8: =D9+D23 -> 0 | E8: =F8-G8 -> 0 | F8: =F9+F23 -> 0 | G8: =G9+G23 -> 0 | H8: =H9+H23 -> 0 | I8: =I9+I23 -> 0 | J8: =J9+J23 -> 0 | K8: =K9+K23 -> 0 | L8: =P8+T8+X8 -> 0 | M8: =Q8+U8+Y8 -> 0 | N8: =R8+V8+Z8 -> 0 | O8: =S8+W8+AA8 -> 0 | P8: =P9+P23 -> 0 | Q8: =Q9+Q23 -> 0 | R8: =R9+R23 -> 0 | S8: =S9+S23 -> 0 | T8: =T9+T23 -> 0 | U8: =U9+U23 -> 0 | V8: =V9+V23 -> 0 | W8: =W9+W23 -> 0 | ... AA8: =AA9+AA23 -> 0 | AD8: =AD9+AD23 -> 0 | AE8: =AE9+AE23 -> 0 | AF8: =AF9+AF23 -> 0
B9: Total OL | C9: =C10+C14+C19 -> 0 | D9: =D10+D14+D19 -> 0 | E9: =F9-G9 -> 0 | F9: =F10+F14+F19 -> 0 | G9: =G10+G14+G19 -> 0 | H9: =H10+H14+H19 -> 0 | I9: =I10+I14+I19 -> 0 | J9: =J10+J14+J19 -> 0 | K9: =K10+K14+K19 -> 0 | L9: =P9+T9+X9 -> 0 | M9: =Q9+U9+Y9 -> 0 | N9: =R9+V9+Z9 -> 0 | O9: =S9+W9+AA9 -> 0 | P9: =P10+P14+P19 -> 0 | Q9: =Q10+Q14+Q19 -> 0 | R9: =R10+R14+R19 -> 0 | S9: =S10+S14+S19 -> 0 | T9: =T10+T14+T19 -> 0 | U9: =U10+U14+U19 -> 0 | V9: =V10+V14+V19 -> 0 | W9: =W10+W14+W19 -> 0 | ... AA9: =AA10+AA14+AA19 -> 0 | AD9: =AD10+AD14+AD19 -> 0 | AE9: =AE10+AE14+AE19 -> 0 | AF9: =AF10+AF14+AF19 -> 0
B10: D1 | C10: =SUM(C11:C13) -> 0 | D10: =SUM(D11:D13) -> 0 | E10: =F10-G10 -> 0 | F10: =SUM(F11:F13) -> 0 | G10: =SUM(G11:G13) -> 0 | H10: =SUM(H11:H13) -> 0 | I10: =SUM(I11:I13) -> 0 | J10: =SUM(J11:J13) -> 0 | K10: =SUM(K11:K13) -> 0 | L10: =P10+T10+X10 -> 0 | M10: =Q10+U10+Y10 -> 0 | N10: =R10+V10+Z10 -> 0 | O10: =S10+W10+AA10 -> 0 | P10: =SUM(P11:P13) -> 0 | Q10: =SUM(Q11:Q13) -> 0 | R10: =SUM(R11:R13) -> 0 | S10: =SUM(S11:S13) -> 0 | T10: =SUM(T11:T13) -> 0 | U10: =SUM(U11:U13) -> 0 | V10: =SUM(V11:V13) -> 0 | W10: =SUM(W11:W13) -> 0 | ... AA10: =SUM(AA11:AA13) -> 0 | AD10: =SUM(AD11:AD13) -> 0 | AE10: =SUM(AE11:AE13) -> 0 | AF10: =SUM(AF11:AF13) -> 0
B11: Dosar nr 1 | E11: =F11-G11 -> 0 | L11: =P11+T11+X11 -> 0 | M11: =Q11+U11+Y11 -> 0 | N11: =R11+V11+Z11 -> 0 | O11: =S11+W11+AA11 -> 0
B12: … | E12: =F12-G12 -> 0 | L12: =P12+T12+X12 -> 0 | M12: =Q12+U12+Y12 -> 0 | N12: =R12+V12+Z12 -> 0 | O12: =S12+W12+AA12 -> 0
B13: Dosar nr x | E13: =F13-G13 -> 0 | L13: =P13+T13+X13 -> 0 | M13: =Q13+U13+Y13 -> 0 | N13: =R13+V13+Z13 -> 0 | O13: =S13+W13+AA13 -> 0
B14: D2 | C14: =SUM(C15:C17) -> 0 | D14: =SUM(D15:D17) -> 0 | E14: =F14-G14 -> 0 | F14: =SUM(F15:F17) -> 0 | G14: =SUM(G15:G17) -> 0 | H14: =SUM(H15:H17) -> 0 | I14: =SUM(I15:I17) -> 0 | J14: =SUM(J15:J17) -> 0 | K14: =SUM(K15:K17) -> 0 | L14: =P14+T14+X14 -> 0 | M14: =Q14+U14+Y14 -> 0 | N14: =R14+V14+Z14 -> 0 | O14: =S14+W14+AA14 -> 0 | P14: =SUM(P15:P17) -> 0 | Q14: =SUM(Q15:Q17) -> 0 | R14: =SUM(R15:R17) -> 0 | S14: =SUM(S15:S17) -> 0 | T14: =SUM(T15:T17) -> 0 | U14: =SUM(U15:U17) -> 0 | V14: =SUM(V15:V17) -> 0 | W14: =SUM(W15:W17) -> 0 | ... AA14: =SUM(AA15:AA17) -> 0 | AD14: =SUM(AD15:AD17) -> 0 | AE14: =SUM(AE15:AE17) -> 0 | AF14: =SUM(AF15:AF17) -> 0
B15: Dosar nr 1 | E15: =F15-G15 -> 0 | L15: =P15+T15+X15 -> 0 | M15: =Q15+U15+Y15 -> 0 | N15: =R15+V15+Z15 -> 0 | O15: =S15+W15+AA15 -> 0
B16: … | E16: =F16-G16 -> 0 | L16: =P16+T16+X16 -> 0 | M16: =Q16+U16+Y16 -> 0 | N16: =R16+V16+Z16 -> 0 | O16: =S16+W16+AA16 -> 0
B17: Dosar nr x | E17: =F17-G17 -> 0 | L17: =P17+T17+X17 -> 0 | M17: =Q17+U17+Y17 -> 0 | N17: =R17+V17+Z17 -> 0 | O17: =S17+W17+AA17 -> 0
B18: ….. | E18: =F18-G18 -> 0 | L18: =P18+T18+X18 -> 0 | M18: =Q18+U18+Y18 -> 0 | N18: =R18+V18+Z18 -> 0 | O18: =S18+W18+AA18 -> 0
B19: Dn | C19: =SUM(C20:C22) -> 0 | D19: =SUM(D20:D22) -> 0 | E19: =F19-G19 -> 0 | F19: =SUM(F20:F22) -> 0 | G19: =SUM(G20:G22) -> 0 | H19: =SUM(H20:H22) -> 0 | I19: =SUM(I20:I22) -> 0 | J19: =SUM(J20:J22) -> 0 | K19: =SUM(K20:K22) -> 0 | L19: =P19+T19+X19 -> 0 | M19: =Q19+U19+Y19 -> 0 | N19: =R19+V19+Z19 -> 0 | O19: =S19+W19+AA19 -> 0 | P19: =SUM(P20:P22) -> 0 | Q19: =SUM(Q20:Q22) -> 0 | R19: =SUM(R20:R22) -> 0 | S19: =SUM(S20:S22) -> 0 | T19: =SUM(T20:T22) -> 0 | U19: =SUM(U20:U22) -> 0 | V19: =SUM(V20:V22) -> 0 | W19: =SUM(W20:W22) -> 0 | ... AA19: =SUM(AA20:AA22) -> 0 | AD19: =SUM(AD20:AD22) -> 0 | AE19: =SUM(AE20:AE22) -> 0 | AF19: =SUM(AF20:AF22) -> 0
B20: Dosar nr 1 | E20: =F20-G20 -> 0 | L20: =P20+T20+X20 -> 0 | M20: =Q20+U20+Y20 -> 0 | N20: =R20+V20+Z20 -> 0 | O20: =S20+W20+AA20 -> 0
B21: … | E21: =F21-G21 -> 0 | L21: =P21+T21+X21 -> 0 | M21: =Q21+U21+Y21 -> 0 | N21: =R21+V21+Z21 -> 0 | O21: =S21+W21+AA21 -> 0
B22: Dosar nr x | E22: =F22-G22 -> 0 | L22: =P22+T22+X22 -> 0 | M22: =Q22+U22+Y22 -> 0 | N22: =R22+V22+Z22 -> 0 | O22: =S22+W22+AA22 -> 0
B23: Total PE | C23: =C24+C28+C33 -> 0 | D23: =D24+D28+D33 -> 0 | E23: =F23-G23 -> 0 | F23: =F24+F28+F33 -> 0 | G23: =G24+G28+G33 -> 0 | H23: =H24+H28+H33 -> 0 | I23: =I24+I28+I33 -> 0 | J23: =J24+J28+J33 -> 0 | K23: =K24+K28+K33 -> 0 | L23: =P23+T23+X23 -> 0 | M23: =Q23+U23+Y23 -> 0 | N23: =R23+V23+Z23 -> 0 | O23: =S23+W23+AA23 -> 0 | P23: =P24+P28+P33 -> 0 | Q23: =Q24+Q28+Q33 -> 0 | R23: =R24+R28+R33 -> 0 | S23: =S24+S28+S33 -> 0 | T23: =T24+T28+T33 -> 0 | U23: =U24+U28+U33 -> 0 | V23: =V24+V28+V33 -> 0 | W23: =W24+W28+W33 -> 0 | ... AA23: =AA24+AA28+AA33 -> 0 | AD23: =AD24+AD28+AD33 -> 0 | AE23: =AE24+AE28+AE33 -> 0 | AF23: =AF24+AF28+AF33 -> 0
B24: D1 | C24: =SUM(C25:C27) -> 0 | E24: =F24-G24 -> 0 | F24: =SUM(F25:F27) -> 0 | G24: =SUM(G25:G27) -> 0 | H24: =SUM(H25:H27) -> 0 | I24: =SUM(I25:I27) -> 0 | J24: =SUM(J25:J27) -> 0 | K24: =SUM(K25:K27) -> 0 | L24: =P24+T24+X24 -> 0 | M24: =Q24+U24+Y24 -> 0 | N24: =R24+V24+Z24 -> 0 | O24: =S24+W24+AA24 -> 0 | P24: =SUM(P25:P27) -> 0 | Q24: =SUM(Q25:Q27) -> 0 | R24: =SUM(R25:R27) -> 0 | S24: =SUM(S25:S27) -> 0 | T24: =SUM(T25:T27) -> 0 | U24: =SUM(U25:U27) -> 0 | V24: =SUM(V25:V27) -> 0 | W24: =SUM(W25:W27) -> 0 | ... AA24: =SUM(AA25:AA27) -> 0 | AD24: =SUM(AD25:AD27) -> 0 | AE24: =SUM(AE25:AE27) -> 0 | AF24: =SUM(AF25:AF27) -> 0
B25: Dosar nr 1 | E25: =F25-G25 -> 0 | L25: =P25+T25+X25 -> 0 | M25: =Q25+U25+Y25 -> 0 | N25: =R25+V25+Z25 -> 0 | O25: =S25+W25+AA25 -> 0
B26: … | E26: =F26-G26 -> 0 | L26: =P26+T26+X26 -> 0 | M26: =Q26+U26+Y26 -> 0 | N26: =R26+V26+Z26 -> 0 | O26: =S26+W26+AA26 -> 0
B27: Dosar nr x | E27: =F27-G27 -> 0 | L27: =P27+T27+X27 -> 0 | M27: =Q27+U27+Y27 -> 0 | N27: =R27+V27+Z27 -> 0 | O27: =S27+W27+AA27 -> 0
B28: D2 | C28: =SUM(C29:C31) -> 0 | D28: =SUM(D29:D31) -> 0 | E28: =F28-G28 -> 0 | F28: =SUM(F29:F31) -> 0 | G28: =SUM(G29:G31) -> 0 | H28: =SUM(H29:H31) -> 0 | I28: =SUM(I29:I31) -> 0 | J28: =SUM(J29:J31) -> 0 | K28: =SUM(K29:K31) -> 0 | L28: =P28+T28+X28 -> 0 | M28: =Q28+U28+Y28 -> 0 | N28: =R28+V28+Z28 -> 0 | O28: =S28+W28+AA28 -> 0 | P28: =SUM(P29:P31) -> 0 | Q28: =SUM(Q29:Q31) -> 0 | R28: =SUM(R29:R31) -> 0 | S28: =SUM(S29:S31) -> 0 | T28: =SUM(T29:T31) -> 0 | U28: =SUM(U29:U31) -> 0 | V28: =SUM(V29:V31) -> 0 | W28: =SUM(W29:W31) -> 0 | ... AA28: =SUM(AA29:AA31) -> 0 | AD28: =SUM(AD29:AD31) -> 0 | AE28: =SUM(AE29:AE31) -> 0 | AF28: =SUM(AF29:AF31) -> 0
B29: Dosar nr 1 | E29: =F29-G29 -> 0 | L29: =P29+T29+X29 -> 0 | M29: =Q29+U29+Y29 -> 0 | N29: =R29+V29+Z29 -> 0 | O29: =S29+W29+AA29 -> 0
B30: … | E30: =F30-G30 -> 0 | L30: =P30+T30+X30 -> 0 | M30: =Q30+U30+Y30 -> 0 | N30: =R30+V30+Z30 -> 0 | O30: =S30+W30+AA30 -> 0
B31: Dosar nr x | E31: =F31-G31 -> 0 | L31: =P31+T31+X31 -> 0 | M31: =Q31+U31+Y31 -> 0 | N31: =R31+V31+Z31 -> 0 | O31: =S31+W31+AA31 -> 0
B32: ….. | E32: =F32-G32 -> 0 | L32: =P32+T32+X32 -> 0 | M32: =Q32+U32+Y32 -> 0 | N32: =R32+V32+Z32 -> 0 | O32: =S32+W32+AA32 -> 0
B33: Dn | C33: =SUM(C34:C36) -> 0 | D33: =SUM(D34:D36) -> 0 | E33: =F33-G33 -> 0 | F33: =SUM(F34:F36) -> 0 | G33: =SUM(G34:G36) -> 0 | H33: =SUM(H34:H36) -> 0 | I33: =SUM(I34:I36) -> 0 | J33: =SUM(J34:J36) -> 0 | K33: =SUM(K34:K36) -> 0 | L33: =P33+T33+X33 -> 0 | M33: =Q33+U33+Y33 -> 0 | N33: =R33+V33+Z33 -> 0 | O33: =S33+W33+AA33 -> 0 | P33: =SUM(P34:P36) -> 0 | Q33: =SUM(Q34:Q36) -> 0 | R33: =SUM(R34:R36) -> 0 | S33: =SUM(S34:S36) -> 0 | T33: =SUM(T34:T36) -> 0 | U33: =SUM(U34:U36) -> 0 | V33: =SUM(V34:V36) -> 0 | W33: =SUM(W34:W36) -> 0 | ... AA33: =SUM(AA34:AA36) -> 0 | AD33: =SUM(AD34:AD36) -> 0 | AE33: =SUM(AE34:AE36) -> 0 | AF33: =SUM(AF34:AF36) -> 0
B34: Dosar nr 1 | E34: =F34-G34 -> 0 | L34: =P34+T34+X34 -> 0 | M34: =Q34+U34+Y34 -> 0 | N34: =R34+V34+Z34 -> 0 | O34: =S34+W34+AA34 -> 0
B35: … | E35: =F35-G35 -> 0 | L35: =P35+T35+X35 -> 0 | M35: =Q35+U35+Y35 -> 0 | N35: =R35+V35+Z35 -> 0 | O35: =S35+W35+AA35 -> 0
B36: Dosar nr x | E36: =F36-G36 -> 0 | L36: =P36+T36+X36 -> 0 | M36: =Q36+U36+Y36 -> 0 | N36: =R36+V36+Z36 -> 0 | O36: =S36+W36+AA36 -> 0
A37: ='Centralizator activitate'!B7 -> Luna ......./Anul........ | B37: Total Luna | C37: =C38+C52 -> 0 | D37: =D38+D52 -> 0 | E37: =F37-G37 -> 0 | F37: =F38+F52 -> 0 | G37: =G38+G52 -> 0 | H37: =H38+H52 -> 0 | I37: =I38+I52 -> 0 | J37: =J38+J52 -> 0 | K37: =K38+K52 -> 0 | L37: =P37+T37+X37 -> 0 | M37: =Q37+U37+Y37 -> 0 | N37: =R37+V37+Z37 -> 0 | O37: =S37+W37+AA37 -> 0 | P37: =P38+P52 -> 0 | Q37: =Q38+Q52 -> 0 | R37: =R38+R52 -> 0 | S37: =S38+S52 -> 0 | T37: =T38+T52 -> 0 | U37: =U38+U52 -> 0 | V37: =V38+V52 -> 0 | W37: =W38+W52 -> 0 | ... AA37: =AA38+AA52 -> 0 | AD37: =AD38+AD52 -> 0 | AE37: =AE38+AE52 -> 0 | AF37: =AF38+AF52 -> 0
B38: Total OL | C38: =C39+C43+C48 -> 0 | D38: =D39+D43+D48 -> 0 | E38: =F38-G38 -> 0 | F38: =F39+F43+F48 -> 0 | G38: =G39+G43+G48 -> 0 | H38: =H39+H43+H48 -> 0 | I38: =I39+I43+I48 -> 0 | J38: =J39+J43+J48 -> 0 | K38: =K39+K43+K48 -> 0 | L38: =P38+T38+X38 -> 0 | M38: =Q38+U38+Y38 -> 0 | N38: =R38+V38+Z38 -> 0 | O38: =S38+W38+AA38 -> 0 | P38: =P39+P43+P48 -> 0 | Q38: =Q39+Q43+Q48 -> 0 | R38: =R39+R43+R48 -> 0 | S38: =S39+S43+S48 -> 0 | T38: =T39+T43+T48 -> 0 | U38: =U39+U43+U48 -> 0 | V38: =V39+V43+V48 -> 0 | W38: =W39+W43+W48 -> 0 | ... AA38: =AA39+AA43+AA48 -> 0 | AD38: =AD39+AD43+AD48 -> 0 | AE38: =AE39+AE43+AE48 -> 0 | AF38: =AF39+AF43+AF48 -> 0
B39: D1 | C39: =SUM(C40:C42) -> 0 | D39: =SUM(D40:D42) -> 0 | E39: =F39-G39 -> 0 | F39: =SUM(F40:F42) -> 0 | G39: =SUM(G40:G42) -> 0 | H39: =SUM(H40:H42) -> 0 | I39: =SUM(I40:I42) -> 0 | J39: =SUM(J40:J42) -> 0 | K39: =SUM(K40:K42) -> 0 | L39: =P39+T39+X39 -> 0 | M39: =Q39+U39+Y39 -> 0 | N39: =R39+V39+Z39 -> 0 | O39: =S39+W39+AA39 -> 0 | P39: =SUM(P40:P42) -> 0 | Q39: =SUM(Q40:Q42) -> 0 | R39: =SUM(R40:R42) -> 0 | S39: =SUM(S40:S42) -> 0 | T39: =SUM(T40:T42) -> 0 | U39: =SUM(U40:U42) -> 0 | V39: =SUM(V40:V42) -> 0 | W39: =SUM(W40:W42) -> 0 | ... AA39: =SUM(AA40:AA42) -> 0 | AD39: =SUM(AD40:AD42) -> 0 | AE39: =SUM(AE40:AE42) -> 0 | AF39: =SUM(AF40:AF42) -> 0
B40: Dosar nr 1 | E40: =F40-G40 -> 0 | L40: =P40+T40+X40 -> 0 | M40: =Q40+U40+Y40 -> 0 | N40: =R40+V40+Z40 -> 0 | O40: =S40+W40+AA40 -> 0
B41: … | E41: =F41-G41 -> 0 | L41: =P41+T41+X41 -> 0 | M41: =Q41+U41+Y41 -> 0 | N41: =R41+V41+Z41 -> 0 | O41: =S41+W41+AA41 -> 0
B42: Dosar nr x | E42: =F42-G42 -> 0 | L42: =P42+T42+X42 -> 0 | M42: =Q42+U42+Y42 -> 0 | N42: =R42+V42+Z42 -> 0 | O42: =S42+W42+AA42 -> 0
B43: D2 | C43: =SUM(C44:C46) -> 0 | D43: =SUM(D44:D46) -> 0 | E43: =F43-G43 -> 0 | F43: =SUM(F44:F46) -> 0 | G43: =SUM(G44:G46) -> 0 | H43: =SUM(H44:H46) -> 0 | I43: =SUM(I44:I46) -> 0 | J43: =SUM(J44:J46) -> 0 | K43: =SUM(K44:K46) -> 0 | L43: =P43+T43+X43 -> 0 | M43: =Q43+U43+Y43 -> 0 | N43: =R43+V43+Z43 -> 0 | O43: =S43+W43+AA43 -> 0 | P43: =SUM(P44:P46) -> 0 | Q43: =SUM(Q44:Q46) -> 0 | R43: =SUM(R44:R46) -> 0 | S43: =SUM(S44:S46) -> 0 | T43: =SUM(T44:T46) -> 0 | U43: =SUM(U44:U46) -> 0 | V43: =SUM(V44:V46) -> 0 | W43: =SUM(W44:W46) -> 0 | ... AA43: =SUM(AA44:AA46) -> 0 | AD43: =SUM(AD44:AD46) -> 0 | AE43: =SUM(AE44:AE46) -> 0 | AF43: =SUM(AF44:AF46) -> 0
B44: Dosar nr 1 | E44: =F44-G44 -> 0 | L44: =P44+T44+X44 -> 0 | M44: =Q44+U44+Y44 -> 0 | N44: =R44+V44+Z44 -> 0 | O44: =S44+W44+AA44 -> 0
B45: … | E45: =F45-G45 -> 0 | L45: =P45+T45+X45 -> 0 | M45: =Q45+U45+Y45 -> 0 | N45: =R45+V45+Z45 -> 0 | O45: =S45+W45+AA45 -> 0
B46: Dosar nr x | E46: =F46-G46 -> 0 | L46: =P46+T46+X46 -> 0 | M46: =Q46+U46+Y46 -> 0 | N46: =R46+V46+Z46 -> 0 | O46: =S46+W46+AA46 -> 0
B47: ….. | E47: =F47-G47 -> 0 | L47: =P47+T47+X47 -> 0 | M47: =Q47+U47+Y47 -> 0 | N47: =R47+V47+Z47 -> 0 | O47: =S47+W47+AA47 -> 0
B48: Dn | C48: =SUM(C49:C51) -> 0 | D48: =SUM(D49:D51) -> 0 | E48: =F48-G48 -> 0 | F48: =SUM(F49:F51) -> 0 | G48: =SUM(G49:G51) -> 0 | H48: =SUM(H49:H51) -> 0 | I48: =SUM(I49:I51) -> 0 | J48: =SUM(J49:J51) -> 0 | K48: =SUM(K49:K51) -> 0 | L48: =P48+T48+X48 -> 0 | M48: =Q48+U48+Y48 -> 0 | N48: =R48+V48+Z48 -> 0 | O48: =S48+W48+AA48 -> 0 | P48: =SUM(P49:P51) -> 0 | Q48: =SUM(Q49:Q51) -> 0 | R48: =SUM(R49:R51) -> 0 | S48: =SUM(S49:S51) -> 0 | T48: =SUM(T49:T51) -> 0 | U48: =SUM(U49:U51) -> 0 | V48: =SUM(V49:V51) -> 0 | W48: =SUM(W49:W51) -> 0 | ... AA48: =SUM(AA49:AA51) -> 0 | AD48: =SUM(AD49:AD51) -> 0 | AE48: =SUM(AE49:AE51) -> 0 | AF48: =SUM(AF49:AF51) -> 0
B49: Dosar nr 1 | E49: =F49-G49 -> 0 | L49: =P49+T49+X49 -> 0 | M49: =Q49+U49+Y49 -> 0 | N49: =R49+V49+Z49 -> 0 | O49: =S49+W49+AA49 -> 0
B50: … | E50: =F50-G50 -> 0 | L50: =P50+T50+X50 -> 0 | M50: =Q50+U50+Y50 -> 0 | N50: =R50+V50+Z50 -> 0 | O50: =S50+W50+AA50 -> 0
B51: Dosar nr x | E51: =F51-G51 -> 0 | L51: =P51+T51+X51 -> 0 | M51: =Q51+U51+Y51 -> 0 | N51: =R51+V51+Z51 -> 0 | O51: =S51+W51+AA51 -> 0
B52: Total PE | C52: =C53+C57+C62 -> 0 | D52: =D53+D57+D62 -> 0 | E52: =F52-G52 -> 0 | F52: =F53+F57+F62 -> 0 | G52: =G53+G57+G62 -> 0 | H52: =H53+H57+H62 -> 0 | I52: =I53+I57+I62 -> 0 | J52: =J53+J57+J62 -> 0 | K52: =K53+K57+K62 -> 0 | L52: =P52+T52+X52 -> 0 | M52: =Q52+U52+Y52 -> 0 | N52: =R52+V52+Z52 -> 0 | O52: =S52+W52+AA52 -> 0 | P52: =P53+P57+P62 -> 0 | Q52: =Q53+Q57+Q62 -> 0 | R52: =R53+R57+R62 -> 0 | S52: =S53+S57+S62 -> 0 | T52: =T53+T57+T62 -> 0 | U52: =U53+U57+U62 -> 0 | V52: =V53+V57+V62 -> 0 | W52: =W53+W57+W62 -> 0 | ... AA52: =AA53+AA57+AA62 -> 0 | AD52: =AD53+AD57+AD62 -> 0 | AE52: =AE53+AE57+AE62 -> 0 | AF52: =AF53+AF57+AF62 -> 0
B53: D2 | C53: =SUM(C54:C56) -> 0 | D53: =SUM(D54:D56) -> 0 | E53: =F53-G53 -> 0 | F53: =SUM(F54:F56) -> 0 | G53: =SUM(G54:G56) -> 0 | H53: =SUM(H54:H56) -> 0 | I53: =SUM(I54:I56) -> 0 | J53: =SUM(J54:J56) -> 0 | K53: =SUM(K54:K56) -> 0 | L53: =P53+T53+X53 -> 0 | M53: =Q53+U53+Y53 -> 0 | N53: =R53+V53+Z53 -> 0 | O53: =S53+W53+AA53 -> 0 | P53: =SUM(P54:P56) -> 0 | Q53: =SUM(Q54:Q56) -> 0 | R53: =SUM(R54:R56) -> 0 | S53: =SUM(S54:S56) -> 0 | T53: =SUM(T54:T56) -> 0 | U53: =SUM(U54:U56) -> 0 | V53: =SUM(V54:V56) -> 0 | W53: =SUM(W54:W56) -> 0 | ... AA53: =SUM(AA54:AA56) -> 0 | AD53: =SUM(AD54:AD56) -> 0 | AE53: =SUM(AE54:AE56) -> 0 | AF53: =SUM(AF54:AF56) -> 0
B54: Dosar nr 1 | E54: =F54-G54 -> 0 | L54: =P54+T54+X54 -> 0 | M54: =Q54+U54+Y54 -> 0 | N54: =R54+V54+Z54 -> 0 | O54: =S54+W54+AA54 -> 0
B55: … | E55: =F55-G55 -> 0 | L55: =P55+T55+X55 -> 0 | M55: =Q55+U55+Y55 -> 0 | N55: =R55+V55+Z55 -> 0 | O55: =S55+W55+AA55 -> 0
B56: Dosar nr x | E56: =F56-G56 -> 0 | L56: =P56+T56+X56 -> 0 | M56: =Q56+U56+Y56 -> 0 | N56: =R56+V56+Z56 -> 0 | O56: =S56+W56+AA56 -> 0
B57: D2 | C57: =SUM(C58:C60) -> 0 | D57: =SUM(D58:D60) -> 0 | E57: =F57-G57 -> 0 | F57: =SUM(F58:F60) -> 0 | G57: =SUM(G58:G60) -> 0 | H57: =SUM(H58:H60) -> 0 | I57: =SUM(I58:I60) -> 0 | J57: =SUM(J58:J60) -> 0 | K57: =SUM(K58:K60) -> 0 | L57: =P57+T57+X57 -> 0 | M57: =Q57+U57+Y57 -> 0 | N57: =R57+V57+Z57 -> 0 | O57: =S57+W57+AA57 -> 0 | P57: =SUM(P58:P60) -> 0 | Q57: =SUM(Q58:Q60) -> 0 | R57: =SUM(R58:R60) -> 0 | S57: =SUM(S58:S60) -> 0 | T57: =SUM(T58:T60) -> 0 | U57: =SUM(U58:U60) -> 0 | V57: =SUM(V58:V60) -> 0 | W57: =SUM(W58:W60) -> 0 | ... AA57: =SUM(AA58:AA60) -> 0 | AD57: =SUM(AD58:AD60) -> 0 | AE57: =SUM(AE58:AE60) -> 0 | AF57: =SUM(AF58:AF60) -> 0
B58: Dosar nr 1 | E58: =F58-G58 -> 0 | L58: =P58+T58+X58 -> 0 | M58: =Q58+U58+Y58 -> 0 | N58: =R58+V58+Z58 -> 0 | O58: =S58+W58+AA58 -> 0
B59: … | E59: =F59-G59 -> 0 | L59: =P59+T59+X59 -> 0 | M59: =Q59+U59+Y59 -> 0 | N59: =R59+V59+Z59 -> 0 | O59: =S59+W59+AA59 -> 0
B60: Dosar nr x | E60: =F60-G60 -> 0 | L60: =P60+T60+X60 -> 0 | M60: =Q60+U60+Y60 -> 0 | N60: =R60+V60+Z60 -> 0 | O60: =S60+W60+AA60 -> 0
B61: ….. | E61: =F61-G61 -> 0 | L61: =P61+T61+X61 -> 0 | M61: =Q61+U61+Y61 -> 0 | N61: =R61+V61+Z61 -> 0 | O61: =S61+W61+AA61 -> 0
B62: Dn | C62: =SUM(C63:C65) -> 0 | D62: =SUM(D63:D65) -> 0 | E62: =F62-G62 -> 0 | F62: =SUM(F63:F65) -> 0 | G62: =SUM(G63:G65) -> 0 | H62: =SUM(H63:H65) -> 0 | I62: =SUM(I63:I65) -> 0 | J62: =SUM(J63:J65) -> 0 | K62: =SUM(K63:K65) -> 0 | L62: =P62+T62+X62 -> 0 | M62: =Q62+U62+Y62 -> 0 | N62: =R62+V62+Z62 -> 0 | O62: =S62+W62+AA62 -> 0 | P62: =SUM(P63:P65) -> 0 | Q62: =SUM(Q63:Q65) -> 0 | R62: =SUM(R63:R65) -> 0 | S62: =SUM(S63:S65) -> 0 | T62: =SUM(T63:T65) -> 0 | U62: =SUM(U63:U65) -> 0 | V62: =SUM(V63:V65) -> 0 | W62: =SUM(W63:W65) -> 0 | ... AA62: =SUM(AA63:AA65) -> 0 | AD62: =SUM(AD63:AD65) -> 0 | AE62: =SUM(AE63:AE65) -> 0 | AF62: =SUM(AF63:AF65) -> 0
B63: Dosar nr 1 | E63: =F63-G63 -> 0 | L63: =P63+T63+X63 -> 0 | M63: =Q63+U63+Y63 -> 0 | N63: =R63+V63+Z63 -> 0 | O63: =S63+W63+AA63 -> 0
B64: … | E64: =F64-G64 -> 0 | L64: =P64+T64+X64 -> 0 | M64: =Q64+U64+Y64 -> 0 | N64: =R64+V64+Z64 -> 0 | O64: =S64+W64+AA64 -> 0
B65: Dosar nr x | E65: =F65-G65 -> 0 | L65: =P65+T65+X65 -> 0 | M65: =Q65+U65+Y65 -> 0 | N65: =R65+V65+Z65 -> 0 | O65: =S65+W65+AA65 -> 0
A66: ='Centralizator activitate'!B8 -> Luna ......./Anul........ | B66: Total Luna | C66: =C67+C81 -> 0 | D66: =D67+D81 -> 0 | E66: =F66-G66 -> 0 | F66: =F67+F81 -> 0 | G66: =G67+G81 -> 0 | H66: =H67+H81 -> 0 | I66: =I67+I81 -> 0 | J66: =J67+J81 -> 0 | K66: =K67+K81 -> 0 | L66: =P66+T66+X66 -> 0 | M66: =Q66+U66+Y66 -> 0 | N66: =R66+V66+Z66 -> 0 | O66: =S66+W66+AA66 -> 0 | P66: =P67+P81 -> 0 | Q66: =Q67+Q81 -> 0 | R66: =R67+R81 -> 0 | S66: =S67+S81 -> 0 | T66: =T67+T81 -> 0 | U66: =U67+U81 -> 0 | V66: =V67+V81 -> 0 | W66: =W67+W81 -> 0 | ... AA66: =AA67+AA81 -> 0 | AD66: =AD67+AD81 -> 0 | AE66: =AE67+AE81 -> 0 | AF66: =AF67+AF81 -> 0
B67: Total OL | C67: =C68+C72+C77 -> 0 | D67: =D68+D72+D77 -> 0 | E67: =F67-G67 -> 0 | F67: =F68+F72+F77 -> 0 | G67: =G68+G72+G77 -> 0 | H67: =H68+H72+H77 -> 0 | I67: =I68+I72+I77 -> 0 | J67: =J68+J72+J77 -> 0 | K67: =K68+K72+K77 -> 0 | L67: =P67+T67+X67 -> 0 | M67: =Q67+U67+Y67 -> 0 | N67: =R67+V67+Z67 -> 0 | O67: =S67+W67+AA67 -> 0 | P67: =P68+P72+P77 -> 0 | Q67: =Q68+Q72+Q77 -> 0 | R67: =R68+R72+R77 -> 0 | S67: =S68+S72+S77 -> 0 | T67: =T68+T72+T77 -> 0 | U67: =U68+U72+U77 -> 0 | V67: =V68+V72+V77 -> 0 | W67: =W68+W72+W77 -> 0 | ... AA67: =AA68+AA72+AA77 -> 0 | AD67: =AD68+AD72+AD77 -> 0 | AE67: =AE68+AE72+AE77 -> 0 | AF67: =AF68+AF72+AF77 -> 0
B68: D1 | C68: =SUM(C69:C71) -> 0 | D68: =SUM(D69:D71) -> 0 | E68: =F68-G68 -> 0 | F68: =SUM(F69:F71) -> 0 | G68: =SUM(G69:G71) -> 0 | H68: =SUM(H69:H71) -> 0 | I68: =SUM(I69:I71) -> 0 | J68: =SUM(J69:J71) -> 0 | K68: =SUM(K69:K71) -> 0 | L68: =P68+T68+X68 -> 0 | M68: =Q68+U68+Y68 -> 0 | N68: =R68+V68+Z68 -> 0 | O68: =S68+W68+AA68 -> 0 | P68: =SUM(P69:P71) -> 0 | Q68: =SUM(Q69:Q71) -> 0 | R68: =SUM(R69:R71) -> 0 | S68: =SUM(S69:S71) -> 0 | T68: =SUM(T69:T71) -> 0 | U68: =SUM(U69:U71) -> 0 | V68: =SUM(V69:V71) -> 0 | W68: =SUM(W69:W71) -> 0 | ... AA68: =SUM(AA69:AA71) -> 0 | AD68: =SUM(AD69:AD71) -> 0 | AE68: =SUM(AE69:AE71) -> 0 | AF68: =SUM(AF69:AF71) -> 0
B69: Dosar nr 1 | E69: =F69-G69 -> 0 | L69: =P69+T69+X69 -> 0 | M69: =Q69+U69+Y69 -> 0 | N69: =R69+V69+Z69 -> 0 | O69: =S69+W69+AA69 -> 0
B70: … | E70: =F70-G70 -> 0 | L70: =P70+T70+X70 -> 0 | M70: =Q70+U70+Y70 -> 0 | N70: =R70+V70+Z70 -> 0 | O70: =S70+W70+AA70 -> 0
B71: Dosar nr x | E71: =F71-G71 -> 0 | L71: =P71+T71+X71 -> 0 | M71: =Q71+U71+Y71 -> 0 | N71: =R71+V71+Z71 -> 0 | O71: =S71+W71+AA71 -> 0
B72: D2 | C72: =SUM(C73:C75) -> 0 | D72: =SUM(D73:D75) -> 0 | E72: =F72-G72 -> 0 | F72: =SUM(F73:F75) -> 0 | G72: =SUM(G73:G75) -> 0 | H72: =SUM(H73:H75) -> 0 | I72: =SUM(I73:I75) -> 0 | J72: =SUM(J73:J75) -> 0 | K72: =SUM(K73:K75) -> 0 | L72: =P72+T72+X72 -> 0 | M72: =Q72+U72+Y72 -> 0 | N72: =R72+V72+Z72 -> 0 | O72: =S72+W72+AA72 -> 0 | P72: =SUM(P73:P75) -> 0 | Q72: =SUM(Q73:Q75) -> 0 | R72: =SUM(R73:R75) -> 0 | S72: =SUM(S73:S75) -> 0 | T72: =SUM(T73:T75) -> 0 | U72: =SUM(U73:U75) -> 0 | V72: =SUM(V73:V75) -> 0 | W72: =SUM(W73:W75) -> 0 | ... AA72: =SUM(AA73:AA75) -> 0 | AD72: =SUM(AD73:AD75) -> 0 | AE72: =SUM(AE73:AE75) -> 0 | AF72: =SUM(AF73:AF75) -> 0
B73: Dosar nr 1 | E73: =F73-G73 -> 0 | L73: =P73+T73+X73 -> 0 | M73: =Q73+U73+Y73 -> 0 | N73: =R73+V73+Z73 -> 0 | O73: =S73+W73+AA73 -> 0
B74: … | E74: =F74-G74 -> 0 | L74: =P74+T74+X74 -> 0 | M74: =Q74+U74+Y74 -> 0 | N74: =R74+V74+Z74 -> 0 | O74: =S74+W74+AA74 -> 0
B75: Dosar nr x | E75: =F75-G75 -> 0 | L75: =P75+T75+X75 -> 0 | M75: =Q75+U75+Y75 -> 0 | N75: =R75+V75+Z75 -> 0 | O75: =S75+W75+AA75 -> 0
B76: ….. | E76: =F76-G76 -> 0 | L76: =P76+T76+X76 -> 0 | M76: =Q76+U76+Y76 -> 0 | N76: =R76+V76+Z76 -> 0 | O76: =S76+W76+AA76 -> 0
B77: Dn | C77: =SUM(C78:C80) -> 0 | D77: =SUM(D78:D80) -> 0 | E77: =F77-G77 -> 0 | F77: =SUM(F78:F80) -> 0 | G77: =SUM(G78:G80) -> 0 | H77: =SUM(H78:H80) -> 0 | I77: =SUM(I78:I80) -> 0 | J77: =SUM(J78:J80) -> 0 | K77: =SUM(K78:K80) -> 0 | L77: =P77+T77+X77 -> 0 | M77: =Q77+U77+Y77 -> 0 | N77: =R77+V77+Z77 -> 0 | O77: =S77+W77+AA77 -> 0 | P77: =SUM(P78:P80) -> 0 | Q77: =SUM(Q78:Q80) -> 0 | R77: =SUM(R78:R80) -> 0 | S77: =SUM(S78:S80) -> 0 | T77: =SUM(T78:T80) -> 0 | U77: =SUM(U78:U80) -> 0 | V77: =SUM(V78:V80) -> 0 | W77: =SUM(W78:W80) -> 0 | ... AA77: =SUM(AA78:AA80) -> 0 | AD77: =SUM(AD78:AD80) -> 0 | AE77: =SUM(AE78:AE80) -> 0 | AF77: =SUM(AF78:AF80) -> 0
B78: Dosar nr 1 | E78: =F78-G78 -> 0 | L78: =P78+T78+X78 -> 0 | M78: =Q78+U78+Y78 -> 0 | N78: =R78+V78+Z78 -> 0 | O78: =S78+W78+AA78 -> 0
B79: … | E79: =F79-G79 -> 0 | L79: =P79+T79+X79 -> 0 | M79: =Q79+U79+Y79 -> 0 | N79: =R79+V79+Z79 -> 0 | O79: =S79+W79+AA79 -> 0
B80: Dosar nr x | E80: =F80-G80 -> 0 | L80: =P80+T80+X80 -> 0 | M80: =Q80+U80+Y80 -> 0 | N80: =R80+V80+Z80 -> 0 | O80: =S80+W80+AA80 -> 0
B81: Total PE | C81: =C82+C86+C91 -> 0 | D81: =D82+D86+D91 -> 0 | E81: =F81-G81 -> 0 | F81: =F82+F86+F91 -> 0 | G81: =G82+G86+G91 -> 0 | H81: =H82+H86+H91 -> 0 | I81: =I82+I86+I91 -> 0 | J81: =J82+J86+J91 -> 0 | K81: =K82+K86+K91 -> 0 | L81: =P81+T81+X81 -> 0 | M81: =Q81+U81+Y81 -> 0 | N81: =R81+V81+Z81 -> 0 | O81: =S81+W81+AA81 -> 0 | P81: =P82+P86+P91 -> 0 | Q81: =Q82+Q86+Q91 -> 0 | R81: =R82+R86+R91 -> 0 | S81: =S82+S86+S91 -> 0 | T81: =T82+T86+T91 -> 0 | U81: =U82+U86+U91 -> 0 | V81: =V82+V86+V91 -> 0 | W81: =W82+W86+W91 -> 0 | ... AA81: =AA82+AA86+AA91 -> 0 | AD81: =AD82+AD86+AD91 -> 0 | AE81: =AE82+AE86+AE91 -> 0 | AF81: =AF82+AF86+AF91 -> 0
B82: D2 | C82: =SUM(C83:C85) -> 0 | D82: =SUM(D83:D85) -> 0 | E82: =F82-G82 -> 0 | F82: =SUM(F83:F85) -> 0 | G82: =SUM(G83:G85) -> 0 | H82: =SUM(H83:H85) -> 0 | I82: =SUM(I83:I85) -> 0 | J82: =SUM(J83:J85) -> 0 | K82: =SUM(K83:K85) -> 0 | L82: =P82+T82+X82 -> 0 | M82: =Q82+U82+Y82 -> 0 | N82: =R82+V82+Z82 -> 0 | O82: =S82+W82+AA82 -> 0 | P82: =SUM(P83:P85) -> 0 | Q82: =SUM(Q83:Q85) -> 0 | R82: =SUM(R83:R85) -> 0 | S82: =SUM(S83:S85) -> 0 | T82: =SUM(T83:T85) -> 0 | U82: =SUM(U83:U85) -> 0 | V82: =SUM(V83:V85) -> 0 | W82: =SUM(W83:W85) -> 0 | ... AA82: =SUM(AA83:AA85) -> 0 | AD82: =SUM(AD83:AD85) -> 0 | AE82: =SUM(AE83:AE85) -> 0 | AF82: =SUM(AF83:AF85) -> 0
B83: Dosar nr 1 | E83: =F83-G83 -> 0 | L83: =P83+T83+X83 -> 0 | M83: =Q83+U83+Y83 -> 0 | N83: =R83+V83+Z83 -> 0 | O83: =S83+W83+AA83 -> 0
B84: … | E84: =F84-G84 -> 0 | L84: =P84+T84+X84 -> 0 | M84: =Q84+U84+Y84 -> 0 | N84: =R84+V84+Z84 -> 0 | O84: =S84+W84+AA84 -> 0
B85: Dosar nr x | E85: =F85-G85 -> 0 | L85: =P85+T85+X85 -> 0 | M85: =Q85+U85+Y85 -> 0 | N85: =R85+V85+Z85 -> 0 | O85: =S85+W85+AA85 -> 0
B86: D2 | C86: =SUM(C87:C89) -> 0 | D86: =SUM(D87:D89) -> 0 | E86: =F86-G86 -> 0 | F86: =SUM(F87:F89) -> 0 | G86: =SUM(G87:G89) -> 0 | H86: =SUM(H87:H89) -> 0 | I86: =SUM(I87:I89) -> 0 | J86: =SUM(J87:J89) -> 0 | K86: =SUM(K87:K89) -> 0 | L86: =P86+T86+X86 -> 0 | M86: =Q86+U86+Y86 -> 0 | N86: =R86+V86+Z86 -> 0 | O86: =S86+W86+AA86 -> 0 | P86: =SUM(P87:P89) -> 0 | Q86: =SUM(Q87:Q89) -> 0 | R86: =SUM(R87:R89) -> 0 | S86: =SUM(S87:S89) -> 0 | T86: =SUM(T87:T89) -> 0 | U86: =SUM(U87:U89) -> 0 | V86: =SUM(V87:V89) -> 0 | W86: =SUM(W87:W89) -> 0 | ... AA86: =SUM(AA87:AA89) -> 0 | AD86: =SUM(AD87:AD89) -> 0 | AE86: =SUM(AE87:AE89) -> 0 | AF86: =SUM(AF87:AF89) -> 0
B87: Dosar nr 1 | E87: =F87-G87 -> 0 | L87: =P87+T87+X87 -> 0 | M87: =Q87+U87+Y87 -> 0 | N87: =R87+V87+Z87 -> 0 | O87: =S87+W87+AA87 -> 0
B88: … | E88: =F88-G88 -> 0 | L88: =P88+T88+X88 -> 0 | M88: =Q88+U88+Y88 -> 0 | N88: =R88+V88+Z88 -> 0 | O88: =S88+W88+AA88 -> 0
B89: Dosar nr x | E89: =F89-G89 -> 0 | L89: =P89+T89+X89 -> 0 | M89: =Q89+U89+Y89 -> 0 | N89: =R89+V89+Z89 -> 0 | O89: =S89+W89+AA89 -> 0
B90: ….. | E90: =F90-G90 -> 0 | L90: =P90+T90+X90 -> 0 | M90: =Q90+U90+Y90 -> 0 | N90: =R90+V90+Z90 -> 0 | O90: =S90+W90+AA90 -> 0
B91: Dn | C91: =SUM(C92:C94) -> 0 | D91: =SUM(D92:D94) -> 0 | E91: =F91-G91 -> 0 | F91: =SUM(F92:F94) -> 0 | G91: =SUM(G92:G94) -> 0 | H91: =SUM(H92:H94) -> 0 | I91: =SUM(I92:I94) -> 0 | J91: =SUM(J92:J94) -> 0 | K91: =SUM(K92:K94) -> 0 | L91: =P91+T91+X91 -> 0 | M91: =Q91+U91+Y91 -> 0 | N91: =R91+V91+Z91 -> 0 | O91: =S91+W91+AA91 -> 0 | P91: =SUM(P92:P94) -> 0 | Q91: =SUM(Q92:Q94) -> 0 | R91: =SUM(R92:R94) -> 0 | S91: =SUM(S92:S94) -> 0 | T91: =SUM(T92:T94) -> 0 | U91: =SUM(U92:U94) -> 0 | V91: =SUM(V92:V94) -> 0 | W91: =SUM(W92:W94) -> 0 | ... AA91: =SUM(AA92:AA94) -> 0 | AD91: =SUM(AD92:AD94) -> 0 | AE91: =SUM(AE92:AE94) -> 0 | AF91: =SUM(AF92:AF94) -> 0
B92: Dosar nr 1 | E92: =F92-G92 -> 0 | L92: =P92+T92+X92 -> 0 | M92: =Q92+U92+Y92 -> 0 | N92: =R92+V92+Z92 -> 0 | O92: =S92+W92+AA92 -> 0
B93: … | E93: =F93-G93 -> 0 | L93: =P93+T93+X93 -> 0 | M93: =Q93+U93+Y93 -> 0 | N93: =R93+V93+Z93 -> 0 | O93: =S93+W93+AA93 -> 0
B94: Dosar nr x | E94: =F94-G94 -> 0 | L94: =P94+T94+X94 -> 0 | M94: =Q94+U94+Y94 -> 0 | N94: =R94+V94+Z94 -> 0 | O94: =S94+W94+AA94 -> 0
